Workbook

Sheet Patient Days
B1: FACILITY INFECTIONS TRACKING TOOL
A6: FACILITY NAME:
A7: CCN NUMBER:
A8: TRACKING YEAR: | C8: 2026
A10: Note: This version of the tool was adapted from a tracking sheet developed by the Minnesota Department of Health.
A12: Patient Days Present
A13: Month | B13: Total Patient Days per Month
A14: January
A15: February
A16: March
A17: April
A18: May
A19: June
A20: July
A21: August
A22: September
A23: October
A24: November
A25: December
A27: This material was prepared by Health Quality Innovators (HQI), a Quality Innovation Network-Quality Improvement Organization (QIN-QIO) under contract with the Centers for Medicare & Medicaid Services (CMS), an agency of the U.S. Department of Health and Human Services (HHS). Views expressed in this material do not necessarily reflect the official views or policy of CMS or HHS, and any reference to a specific product or entity herein does not constitute endorsement of that product or entity by CMS or HHS. 13SOW/HQI/QIN-QIO-1174-10/20/26

Sheet Summary
A1: SUMMARY OF RATES
A5: Total Days of Therapy | E5: Total Infection Rates per 1,000 Patient Days
A6: Month | B6: Total Days of Therapy per Month | C6: Rate per 1,000 Patient Days | E6: Month | F6: Total | G6: COVID | H6: RSV | I6: Influenza | J6: Sinusitis | K6: Bronchitis | L6: Pharyngitis | M6: Other Influenza-like illness | N6: Pneumonia | O6: Other Lower Resp. Track illness | P6: Other Upper Resp. Tract Illness | Q6: UTI | R6: Gastroenteritis | S6: Norovirus | T6: Clostridium difficile | U6: Cellulitis/ Soft Tissue/ Wound | V6: Scabies | W6: Lice | X6: Ear | Y6: Eye | Z6: Other
A7: January | B7: =SUM(INDIRECT("'"&$A7&"'!$AD$3:$AD$550")) -> 0 | C7: =IFERROR(SUM(B7)/SUM(Calculations!B2)*1000,0) -> 0 | E7: January | F7: =IFERROR(SUM(Calculations!F2)*1000/SUM(Calculations!B2),"") | G7: =IFERROR(SUM(Calculations!G2)*1000/SUM(Calculations!B2),"") | H7: =IFERROR(SUM(Calculations!H2)*1000/SUM(Calculations!B2),"") | I7: =IFERROR(SUM(Calculations!I2)*1000/SUM(Calculations!B2),"") | J7: =IFERROR(SUM(Calculations!J2)*1000/SUM(Calculations!B2),"") | K7: =IFERROR(SUM(Calculations!K2)*1000/SUM(Calculations!B2),"") | L7: =IFERROR(SUM(Calculations!L2)*1000/SUM(Calculations!B2),"") | M7: =IFERROR(SUM(Calculations!M2)*1000/SUM(Calculations!B2),"") | N7: =IFERROR(SUM(Calculations!N2)*1000/SUM(Calculations!B2),"") | O7: =IFERROR(SUM(Calculations!O2)*1000/SUM(Calculations!B2),"") | P7: =IFERROR(SUM(Calculations!P2)*1000/SUM(Calculations!B2),"") | Q7: =IFERROR(SUM(Calculations!Q2)*1000/SUM(Calculations!B2),"") | R7: =IFERROR(SUM(Calculations!R2)*1000/SUM(Calculations!B2),"") | S7: =IFERROR(SUM(Calculations!S2)*1000/SUM(Calculations!B2),"") | T7: =IFERROR(SUM(Calculations!T2)*1000/SUM(Calculations!B2),"") | U7: =IFERROR(SUM(Calculations!U2)*1000/SUM(Calculations!B2),"") | V7: =IFERROR(SUM(Calculations!V2)*1000/SUM(Calculations!B2),"") | W7: =IFERROR(SUM(Calculations!W2)*1000/SUM(Calculations!B2),"") | X7: =IFERROR(SUM(Calculations!X2)*1000/SUM(Calculations!B2),"") | Y7: =IFERROR(SUM(Calculations!Y2)*1000/SUM(Calculations!B2),"") | Z7: =IFERROR(SUM(Calculations!Z2)*1000/SUM(Calculations!B2),"")
A8: February | B8: =SUM(INDIRECT("'"&$A8&"'!$AD$3:$AD$550")) -> 0 | C8: =IFERROR(SUM(B8)/SUM(Calculations!B3)*1000,0) -> 0 | E8: February | F8: =IFERROR(SUM(Calculations!F3)*1000/SUM(Calculations!B3),"") | G8: =IFERROR(SUM(Calculations!G3)*1000/SUM(Calculations!B3),"") | H8: =IFERROR(SUM(Calculations!H3)*1000/SUM(Calculations!B3),"") | I8: =IFERROR(SUM(Calculations!I3)*1000/SUM(Calculations!B3),"") | J8: =IFERROR(SUM(Calculations!J3)*1000/SUM(Calculations!B3),"") | K8: =IFERROR(SUM(Calculations!K3)*1000/SUM(Calculations!B3),"") | L8: =IFERROR(SUM(Calculations!L3)*1000/SUM(Calculations!B3),"") | M8: =IFERROR(SUM(Calculations!M3)*1000/SUM(Calculations!B3),"") | N8: =IFERROR(SUM(Calculations!N3)*1000/SUM(Calculations!B3),"") | O8: =IFERROR(SUM(Calculations!O3)*1000/SUM(Calculations!B3),"") | P8: =IFERROR(SUM(Calculations!P3)*1000/SUM(Calculations!B3),"") | Q8: =IFERROR(SUM(Calculations!Q3)*1000/SUM(Calculations!B3),"") | R8: =IFERROR(SUM(Calculations!R3)*1000/SUM(Calculations!B3),"") | S8: =IFERROR(SUM(Calculations!S3)*1000/SUM(Calculations!B3),"") | T8: =IFERROR(SUM(Calculations!T3)*1000/SUM(Calculations!B3),"") | U8: =IFERROR(SUM(Calculations!U3)*1000/SUM(Calculations!B3),"") | V8: =IFERROR(SUM(Calculations!V3)*1000/SUM(Calculations!B3),"") | W8: =IFERROR(SUM(Calculations!W3)*1000/SUM(Calculations!B3),"") | X8: =IFERROR(SUM(Calculations!X3)*1000/SUM(Calculations!B3),"") | Y8: =IFERROR(SUM(Calculations!Y3)*1000/SUM(Calculations!B3),"") | Z8: =IFERROR(SUM(Calculations!Z3)*1000/SUM(Calculations!B3),"")
A9: March | B9: =SUM(INDIRECT("'"&$A9&"'!$AD$3:$AD$550")) -> 0 | C9: =IFERROR(SUM(B9)/SUM(Calculations!B4)*1000,0) -> 0 | E9: March | F9: =IFERROR(SUM(Calculations!F4)*1000/SUM(Calculations!B4),"") | G9: =IFERROR(SUM(Calculations!G4)*1000/SUM(Calculations!B4),"") | H9: =IFERROR(SUM(Calculations!H4)*1000/SUM(Calculations!B4),"") | I9: =IFERROR(SUM(Calculations!I4)*1000/SUM(Calculations!B4),"") | J9: =IFERROR(SUM(Calculations!J4)*1000/SUM(Calculations!B4),"") | K9: =IFERROR(SUM(Calculations!K4)*1000/SUM(Calculations!B4),"") | L9: =IFERROR(SUM(Calculations!L4)*1000/SUM(Calculations!B4),"") | M9: =IFERROR(SUM(Calculations!M4)*1000/SUM(Calculations!B4),"") | N9: =IFERROR(SUM(Calculations!N4)*1000/SUM(Calculations!B4),"") | O9: =IFERROR(SUM(Calculations!O4)*1000/SUM(Calculations!B4),"") | P9: =IFERROR(SUM(Calculations!P4)*1000/SUM(Calculations!B4),"") | Q9: =IFERROR(SUM(Calculations!Q4)*1000/SUM(Calculations!B4),"") | R9: =IFERROR(SUM(Calculations!R4)*1000/SUM(Calculations!B4),"") | S9: =IFERROR(SUM(Calculations!S4)*1000/SUM(Calculations!B4),"") | T9: =IFERROR(SUM(Calculations!T4)*1000/SUM(Calculations!B4),"") | U9: =IFERROR(SUM(Calculations!U4)*1000/SUM(Calculations!B4),"") | V9: =IFERROR(SUM(Calculations!V4)*1000/SUM(Calculations!B4),"") | W9: =IFERROR(SUM(Calculations!W4)*1000/SUM(Calculations!B4),"") | X9: =IFERROR(SUM(Calculations!X4)*1000/SUM(Calculations!B4),"") | Y9: =IFERROR(SUM(Calculations!Y4)*1000/SUM(Calculations!B4),"") | Z9: =IFERROR(SUM(Calculations!Z4)*1000/SUM(Calculations!B4),"")
A10: April | B10: =SUM(INDIRECT("'"&$A10&"'!$AD$3:$AD$550")) -> 0 | C10: =IFERROR(SUM(B10)/SUM(Calculations!B5)*1000,0) -> 0 | E10: April | F10: =IFERROR(SUM(Calculations!F5)*1000/SUM(Calculations!B5),"") | G10: =IFERROR(SUM(Calculations!G5)*1000/SUM(Calculations!B5),"") | H10: =IFERROR(SUM(Calculations!H5)*1000/SUM(Calculations!B5),"") | I10: =IFERROR(SUM(Calculations!I5)*1000/SUM(Calculations!B5),"") | J10: =IFERROR(SUM(Calculations!J5)*1000/SUM(Calculations!B5),"") | K10: =IFERROR(SUM(Calculations!K5)*1000/SUM(Calculations!B5),"") | L10: =IFERROR(SUM(Calculations!L5)*1000/SUM(Calculations!B5),"") | M10: =IFERROR(SUM(Calculations!M5)*1000/SUM(Calculations!B5),"") | N10: =IFERROR(SUM(Calculations!N5)*1000/SUM(Calculations!B5),"") | O10: =IFERROR(SUM(Calculations!O5)*1000/SUM(Calculations!B5),"") | P10: =IFERROR(SUM(Calculations!P5)*1000/SUM(Calculations!B5),"") | Q10: =IFERROR(SUM(Calculations!Q5)*1000/SUM(Calculations!B5),"") | R10: =IFERROR(SUM(Calculations!R5)*1000/SUM(Calculations!B5),"") | S10: =IFERROR(SUM(Calculations!S5)*1000/SUM(Calculations!B5),"") | T10: =IFERROR(SUM(Calculations!T5)*1000/SUM(Calculations!B5),"") | U10: =IFERROR(SUM(Calculations!U5)*1000/SUM(Calculations!B5),"") | V10: =IFERROR(SUM(Calculations!V5)*1000/SUM(Calculations!B5),"") | W10: =IFERROR(SUM(Calculations!W5)*1000/SUM(Calculations!B5),"") | X10: =IFERROR(SUM(Calculations!X5)*1000/SUM(Calculations!B5),"") | Y10: =IFERROR(SUM(Calculations!Y5)*1000/SUM(Calculations!B5),"") | Z10: =IFERROR(SUM(Calculations!Z5)*1000/SUM(Calculations!B5),"")
A11: May | B11: =SUM(INDIRECT("'"&$A11&"'!$AD$3:$AD$550")) -> 0 | C11: =IFERROR(SUM(B11)/SUM(Calculations!B6)*1000,0) -> 0 | E11: May | F11: =IFERROR(SUM(Calculations!F6)*1000/SUM(Calculations!B6),"") | G11: =IFERROR(SUM(Calculations!G6)*1000/SUM(Calculations!B6),"") | H11: =IFERROR(SUM(Calculations!H6)*1000/SUM(Calculations!B6),"") | I11: =IFERROR(SUM(Calculations!I6)*1000/SUM(Calculations!B6),"") | J11: =IFERROR(SUM(Calculations!J6)*1000/SUM(Calculations!B6),"") | K11: =IFERROR(SUM(Calculations!K6)*1000/SUM(Calculations!B6),"") | L11: =IFERROR(SUM(Calculations!L6)*1000/SUM(Calculations!B6),"") | M11: =IFERROR(SUM(Calculations!M6)*1000/SUM(Calculations!B6),"") | N11: =IFERROR(SUM(Calculations!N6)*1000/SUM(Calculations!B6),"") | O11: =IFERROR(SUM(Calculations!O6)*1000/SUM(Calculations!B6),"") | P11: =IFERROR(SUM(Calculations!P6)*1000/SUM(Calculations!B6),"") | Q11: =IFERROR(SUM(Calculations!Q6)*1000/SUM(Calculations!B6),"") | R11: =IFERROR(SUM(Calculations!R6)*1000/SUM(Calculations!B6),"") | S11: =IFERROR(SUM(Calculations!S6)*1000/SUM(Calculations!B6),"") | T11: =IFERROR(SUM(Calculations!T6)*1000/SUM(Calculations!B6),"") | U11: =IFERROR(SUM(Calculations!U6)*1000/SUM(Calculations!B6),"") | V11: =IFERROR(SUM(Calculations!V6)*1000/SUM(Calculations!B6),"") | W11: =IFERROR(SUM(Calculations!W6)*1000/SUM(Calculations!B6),"") | X11: =IFERROR(SUM(Calculations!X6)*1000/SUM(Calculations!B6),"") | Y11: =IFERROR(SUM(Calculations!Y6)*1000/SUM(Calculations!B6),"") | Z11: =IFERROR(SUM(Calculations!Z6)*1000/SUM(Calculations!B6),"")
A12: June | B12: =SUM(INDIRECT("'"&$A12&"'!$AD$3:$AD$550")) -> 0 | C12: =IFERROR(SUM(B12)/SUM(Calculations!B7)*1000,0) -> 0 | E12: June | F12: =IFERROR(SUM(Calculations!F7)*1000/SUM(Calculations!B7),"") | G12: =IFERROR(SUM(Calculations!G7)*1000/SUM(Calculations!B7),"") | H12: =IFERROR(SUM(Calculations!H7)*1000/SUM(Calculations!B7),"") | I12: =IFERROR(SUM(Calculations!I7)*1000/SUM(Calculations!B7),"") | J12: =IFERROR(SUM(Calculations!J7)*1000/SUM(Calculations!B7),"") | K12: =IFERROR(SUM(Calculations!K7)*1000/SUM(Calculations!B7),"") | L12: =IFERROR(SUM(Calculations!L7)*1000/SUM(Calculations!B7),"") | M12: =IFERROR(SUM(Calculations!M7)*1000/SUM(Calculations!B7),"") | N12: =IFERROR(SUM(Calculations!N7)*1000/SUM(Calculations!B7),"") | O12: =IFERROR(SUM(Calculations!O7)*1000/SUM(Calculations!B7),"") | P12: =IFERROR(SUM(Calculations!P7)*1000/SUM(Calculations!B7),"") | Q12: =IFERROR(SUM(Calculations!Q7)*1000/SUM(Calculations!B7),"") | R12: =IFERROR(SUM(Calculations!R7)*1000/SUM(Calculations!B7),"") | S12: =IFERROR(SUM(Calculations!S7)*1000/SUM(Calculations!B7),"") | T12: =IFERROR(SUM(Calculations!T7)*1000/SUM(Calculations!B7),"") | U12: =IFERROR(SUM(Calculations!U7)*1000/SUM(Calculations!B7),"") | V12: =IFERROR(SUM(Calculations!V7)*1000/SUM(Calculations!B7),"") | W12: =IFERROR(SUM(Calculations!W7)*1000/SUM(Calculations!B7),"") | X12: =IFERROR(SUM(Calculations!X7)*1000/SUM(Calculations!B7),"") | Y12: =IFERROR(SUM(Calculations!Y7)*1000/SUM(Calculations!B7),"") | Z12: =IFERROR(SUM(Calculations!Z7)*1000/SUM(Calculations!B7),"")
A13: July | B13: =SUM(INDIRECT("'"&$A13&"'!$AD$3:$AD$550")) -> 0 | C13: =IFERROR(SUM(B13)/SUM(Calculations!B8)*1000,0) -> 0 | E13: July | F13: =IFERROR(SUM(Calculations!F8)*1000/SUM(Calculations!B8),"") | G13: =IFERROR(SUM(Calculations!G8)*1000/SUM(Calculations!B8),"") | H13: =IFERROR(SUM(Calculations!H8)*1000/SUM(Calculations!B8),"") | I13: =IFERROR(SUM(Calculations!I8)*1000/SUM(Calculations!B8),"") | J13: =IFERROR(SUM(Calculations!J8)*1000/SUM(Calculations!B8),"") | K13: =IFERROR(SUM(Calculations!K8)*1000/SUM(Calculations!B8),"") | L13: =IFERROR(SUM(Calculations!L8)*1000/SUM(Calculations!B8),"") | M13: =IFERROR(SUM(Calculations!M8)*1000/SUM(Calculations!B8),"") | N13: =IFERROR(SUM(Calculations!N8)*1000/SUM(Calculations!B8),"") | O13: =IFERROR(SUM(Calculations!O8)*1000/SUM(Calculations!B8),"") | P13: =IFERROR(SUM(Calculations!P8)*1000/SUM(Calculations!B8),"") | Q13: =IFERROR(SUM(Calculations!Q8)*1000/SUM(Calculations!B8),"") | R13: =IFERROR(SUM(Calculations!R8)*1000/SUM(Calculations!B8),"") | S13: =IFERROR(SUM(Calculations!S8)*1000/SUM(Calculations!B8),"") | T13: =IFERROR(SUM(Calculations!T8)*1000/SUM(Calculations!B8),"") | U13: =IFERROR(SUM(Calculations!U8)*1000/SUM(Calculations!B8),"") | V13: =IFERROR(SUM(Calculations!V8)*1000/SUM(Calculations!B8),"") | W13: =IFERROR(SUM(Calculations!W8)*1000/SUM(Calculations!B8),"") | X13: =IFERROR(SUM(Calculations!X8)*1000/SUM(Calculations!B8),"") | Y13: =IFERROR(SUM(Calculations!Y8)*1000/SUM(Calculations!B8),"") | Z13: =IFERROR(SUM(Calculations!Z8)*1000/SUM(Calculations!B8),"")
A14: August | B14: =SUM(INDIRECT("'"&$A14&"'!$AD$3:$AD$550")) -> 0 | C14: =IFERROR(SUM(B14)/SUM(Calculations!B9)*1000,0) -> 0 | E14: August | F14: =IFERROR(SUM(Calculations!F9)*1000/SUM(Calculations!B9),"") | G14: =IFERROR(SUM(Calculations!G9)*1000/SUM(Calculations!B9),"") | H14: =IFERROR(SUM(Calculations!H9)*1000/SUM(Calculations!B9),"") | I14: =IFERROR(SUM(Calculations!I9)*1000/SUM(Calculations!B9),"") | J14: =IFERROR(SUM(Calculations!J9)*1000/SUM(Calculations!B9),"") | K14: =IFERROR(SUM(Calculations!K9)*1000/SUM(Calculations!B9),"") | L14: =IFERROR(SUM(Calculations!L9)*1000/SUM(Calculations!B9),"") | M14: =IFERROR(SUM(Calculations!M9)*1000/SUM(Calculations!B9),"") | N14: =IFERROR(SUM(Calculations!N9)*1000/SUM(Calculations!B9),"") | O14: =IFERROR(SUM(Calculations!O9)*1000/SUM(Calculations!B9),"") | P14: =IFERROR(SUM(Calculations!P9)*1000/SUM(Calculations!B9),"") | Q14: =IFERROR(SUM(Calculations!Q9)*1000/SUM(Calculations!B9),"") | R14: =IFERROR(SUM(Calculations!R9)*1000/SUM(Calculations!B9),"") | S14: =IFERROR(SUM(Calculations!S9)*1000/SUM(Calculations!B9),"") | T14: =IFERROR(SUM(Calculations!T9)*1000/SUM(Calculations!B9),"") | U14: =IFERROR(SUM(Calculations!U9)*1000/SUM(Calculations!B9),"") | V14: =IFERROR(SUM(Calculations!V9)*1000/SUM(Calculations!B9),"") | W14: =IFERROR(SUM(Calculations!W9)*1000/SUM(Calculations!B9),"") | X14: =IFERROR(SUM(Calculations!X9)*1000/SUM(Calculations!B9),"") | Y14: =IFERROR(SUM(Calculations!Y9)*1000/SUM(Calculations!B9),"") | Z14: =IFERROR(SUM(Calculations!Z9)*1000/SUM(Calculations!B9),"")
A15: September | B15: =SUM(INDIRECT("'"&$A15&"'!$AD$3:$AD$550")) -> 0 | C15: =IFERROR(SUM(B15)/SUM(Calculations!B10)*1000,0) -> 0 | E15: September | F15: =IFERROR(SUM(Calculations!F10)*1000/SUM(Calculations!B10),"") | G15: =IFERROR(SUM(Calculations!G10)*1000/SUM(Calculations!B10),"") | H15: =IFERROR(SUM(Calculations!H10)*1000/SUM(Calculations!B10),"") | I15: =IFERROR(SUM(Calculations!I10)*1000/SUM(Calculations!B10),"") | J15: =IFERROR(SUM(Calculations!J10)*1000/SUM(Calculations!B10),"") | K15: =IFERROR(SUM(Calculations!K10)*1000/SUM(Calculations!B10),"") | L15: =IFERROR(SUM(Calculations!L10)*1000/SUM(Calculations!B10),"") | M15: =IFERROR(SUM(Calculations!M10)*1000/SUM(Calculations!B10),"") | N15: =IFERROR(SUM(Calculations!N10)*1000/SUM(Calculations!B10),"") | O15: =IFERROR(SUM(Calculations!O10)*1000/SUM(Calculations!B10),"") | P15: =IFERROR(SUM(Calculations!P10)*1000/SUM(Calculations!B10),"") | Q15: =IFERROR(SUM(Calculations!Q10)*1000/SUM(Calculations!B10),"") | R15: =IFERROR(SUM(Calculations!R10)*1000/SUM(Calculations!B10),"") | S15: =IFERROR(SUM(Calculations!S10)*1000/SUM(Calculations!B10),"") | T15: =IFERROR(SUM(Calculations!T10)*1000/SUM(Calculations!B10),"") | U15: =IFERROR(SUM(Calculations!U10)*1000/SUM(Calculations!B10),"") | V15: =IFERROR(SUM(Calculations!V10)*1000/SUM(Calculations!B10),"") | W15: =IFERROR(SUM(Calculations!W10)*1000/SUM(Calculations!B10),"") | X15: =IFERROR(SUM(Calculations!X10)*1000/SUM(Calculations!B10),"") | Y15: =IFERROR(SUM(Calculations!Y10)*1000/SUM(Calculations!B10),"") | Z15: =IFERROR(SUM(Calculations!Z10)*1000/SUM(Calculations!B10),"")
A16: October | B16: =SUM(INDIRECT("'"&$A16&"'!$AD$3:$AD$550")) -> 0 | C16: =IFERROR(SUM(B16)/SUM(Calculations!B11)*1000,0) -> 0 | E16: October | F16: =IFERROR(SUM(Calculations!F11)*1000/SUM(Calculations!B11),"") | G16: =IFERROR(SUM(Calculations!G11)*1000/SUM(Calculations!B11),"") | H16: =IFERROR(SUM(Calculations!H11)*1000/SUM(Calculations!B11),"") | I16: =IFERROR(SUM(Calculations!I11)*1000/SUM(Calculations!B11),"") | J16: =IFERROR(SUM(Calculations!J11)*1000/SUM(Calculations!B11),"") | K16: =IFERROR(SUM(Calculations!K11)*1000/SUM(Calculations!B11),"") | L16: =IFERROR(SUM(Calculations!L11)*1000/SUM(Calculations!B11),"") | M16: =IFERROR(SUM(Calculations!M11)*1000/SUM(Calculations!B11),"") | N16: =IFERROR(SUM(Calculations!N11)*1000/SUM(Calculations!B11),"") | O16: =IFERROR(SUM(Calculations!O11)*1000/SUM(Calculations!B11),"") | P16: =IFERROR(SUM(Calculations!P11)*1000/SUM(Calculations!B11),"") | Q16: =IFERROR(SUM(Calculations!Q11)*1000/SUM(Calculations!B11),"") | R16: =IFERROR(SUM(Calculations!R11)*1000/SUM(Calculations!B11),"") | S16: =IFERROR(SUM(Calculations!S11)*1000/SUM(Calculations!B11),"") | T16: =IFERROR(SUM(Calculations!T11)*1000/SUM(Calculations!B11),"") | U16: =IFERROR(SUM(Calculations!U11)*1000/SUM(Calculations!B11),"") | V16: =IFERROR(SUM(Calculations!V11)*1000/SUM(Calculations!B11),"") | W16: =IFERROR(SUM(Calculations!W11)*1000/SUM(Calculations!B11),"") | X16: =IFERROR(SUM(Calculations!X11)*1000/SUM(Calculations!B11),"") | Y16: =IFERROR(SUM(Calculations!Y11)*1000/SUM(Calculations!B11),"") | Z16: =IFERROR(SUM(Calculations!Z11)*1000/SUM(Calculations!B11),"")
A17: November | B17: =SUM(INDIRECT("'"&$A17&"'!$AD$3:$AD$550")) -> 0 | C17: =IFERROR(SUM(B17)/SUM(Calculations!B12)*1000,0) -> 0 | E17: November | F17: =IFERROR(SUM(Calculations!F12)*1000/SUM(Calculations!B12),"") | G17: =IFERROR(SUM(Calculations!G12)*1000/SUM(Calculations!B12),"") | H17: =IFERROR(SUM(Calculations!H12)*1000/SUM(Calculations!B12),"") | I17: =IFERROR(SUM(Calculations!I12)*1000/SUM(Calculations!B12),"") | J17: =IFERROR(SUM(Calculations!J12)*1000/SUM(Calculations!B12),"") | K17: =IFERROR(SUM(Calculations!K12)*1000/SUM(Calculations!B12),"") | L17: =IFERROR(SUM(Calculations!L12)*1000/SUM(Calculations!B12),"") | M17: =IFERROR(SUM(Calculations!M12)*1000/SUM(Calculations!B12),"") | N17: =IFERROR(SUM(Calculations!N12)*1000/SUM(Calculations!B12),"") | O17: =IFERROR(SUM(Calculations!O12)*1000/SUM(Calculations!B12),"") | P17: =IFERROR(SUM(Calculations!P12)*1000/SUM(Calculations!B12),"") | Q17: =IFERROR(SUM(Calculations!Q12)*1000/SUM(Calculations!B12),"") | R17: =IFERROR(SUM(Calculations!R12)*1000/SUM(Calculations!B12),"") | S17: =IFERROR(SUM(Calculations!S12)*1000/SUM(Calculations!B12),"") | T17: =IFERROR(SUM(Calculations!T12)*1000/SUM(Calculations!B12),"") | U17: =IFERROR(SUM(Calculations!U12)*1000/SUM(Calculations!B12),"") | V17: =IFERROR(SUM(Calculations!V12)*1000/SUM(Calculations!B12),"") | W17: =IFERROR(SUM(Calculations!W12)*1000/SUM(Calculations!B12),"") | X17: =IFERROR(SUM(Calculations!X12)*1000/SUM(Calculations!B12),"") | Y17: =IFERROR(SUM(Calculations!Y12)*1000/SUM(Calculations!B12),"") | Z17: =IFERROR(SUM(Calculations!Z12)*1000/SUM(Calculations!B12),"")
A18: December | B18: =SUM(INDIRECT("'"&$A18&"'!$AD$3:$AD$550")) -> 0 | C18: =IFERROR(SUM(B18)/SUM(Calculations!B13)*1000,0) -> 0 | E18: December | F18: =IFERROR(SUM(Calculations!F13)*1000/SUM(Calculations!B13),"") | G18: =IFERROR(SUM(Calculations!G13)*1000/SUM(Calculations!B13),"") | H18: =IFERROR(SUM(Calculations!H13)*1000/SUM(Calculations!B13),"") | I18: =IFERROR(SUM(Calculations!I13)*1000/SUM(Calculations!B13),"") | J18: =IFERROR(SUM(Calculations!J13)*1000/SUM(Calculations!B13),"") | K18: =IFERROR(SUM(Calculations!K13)*1000/SUM(Calculations!B13),"") | L18: =IFERROR(SUM(Calculations!L13)*1000/SUM(Calculations!B13),"") | M18: =IFERROR(SUM(Calculations!M13)*1000/SUM(Calculations!B13),"") | N18: =IFERROR(SUM(Calculations!N13)*1000/SUM(Calculations!B13),"") | O18: =IFERROR(SUM(Calculations!O13)*1000/SUM(Calculations!B13),"") | P18: =IFERROR(SUM(Calculations!P13)*1000/SUM(Calculations!B13),"") | Q18: =IFERROR(SUM(Calculations!Q13)*1000/SUM(Calculations!B13),"") | R18: =IFERROR(SUM(Calculations!R13)*1000/SUM(Calculations!B13),"") | S18: =IFERROR(SUM(Calculations!S13)*1000/SUM(Calculations!B13),"") | T18: =IFERROR(SUM(Calculations!T13)*1000/SUM(Calculations!B13),"") | U18: =IFERROR(SUM(Calculations!U13)*1000/SUM(Calculations!B13),"") | V18: =IFERROR(SUM(Calculations!V13)*1000/SUM(Calculations!B13),"") | W18: =IFERROR(SUM(Calculations!W13)*1000/SUM(Calculations!B13),"") | X18: =IFERROR(SUM(Calculations!X13)*1000/SUM(Calculations!B13),"") | Y18: =IFERROR(SUM(Calculations!Y13)*1000/SUM(Calculations!B13),"") | Z18: =IFERROR(SUM(Calculations!Z13)*1000/SUM(Calculations!B13),"")

Sheet Calculations
A1: Patient Days | B1: Number | E1: Infection Type | F1: Total | G1: COVID | H1: RSV | I1: Influenza | J1: Sinusitis | K1: Bronchitis | L1: Pharyngitis | M1: Other Influenza-like illness | N1: Pneumonia | O1: Other Lower Resp. Tract Illness | P1: Other Upper Resp. Tract Illness | Q1: UTI | R1: Gastroenteritis | S1: Norovirus | T1: Clostridium difficile | U1: Cellulitis/Soft Tissue/Wound | V1: Scabies | W1: Lice | X1: Ear | Y1: Eye | Z1: Other | AA1: Prophylaxis | AD1: Location | AE1: Total All | AF1: ED | AG1: Clinic | AH1: Hospital | AI1: Long-term Care Center | AJ1: Other | AM1: Location | AN1: January | AO1: February | AP1: March | AQ1: April | AR1: May | AS1: June | AT1: July | AU1: August | AV1: September | AW1: October | AX1: November | AY1: December | BB1: Criteria | BC1: Total All | BD1: Number that Meets Criteria | BE1: Number that Does Not Meet Criteria | BH1: % Meeting Criteria | BI1: January | BJ1: February | BK1: March | BL1: April | BM1: May | BN1: June | BO1: July | BP1: August | BQ1: September | BR1: October | BS1: November | BT1: December | BW1: Class Utilization | BX1: Aminoglycosides | BY1: B-lactam/B-lactamase inhibitor combination | BZ1: Carbapenems | CA1: Cephalosporins | CB1: Fluoroquinolones | CC1: Folate pathway inhibitors | CD1: Fosfomycins | CE1: Glycopeptides | CF1: Ketolides | CG1: Lincosamides | CH1: Lipopeptides | CI1: M2 ion channel inhibitors | CJ1: Macrocyclic | CK1: Macrolides | CL1: Monobactams | CM1: Nitrofurans | CN1: Nitroimidazoles | CO1: Oxazolidinones | CP1: Penicillins | CQ1: Phenicols | CR1: Polymyxins | CS1: Rifampin | CT1: Streptogramins | CU1: Tetracyclines | CV1: Total All | CY1: Category | CZ1: Utilization
A2: January | B2: ='Patient Days'!B14 -> 0 | E2: January | F2: =SUM(G2:Z2) -> 0 | G2: =COUNTIF(INDIRECT($E2&"!$J$3:$J$550"),G$1) -> 0 | H2: =COUNTIF(INDIRECT($E2&"!$J$3:$J$550"),H$1) -> 0 | I2: =COUNTIF(INDIRECT($E2&"!$J$3:$J$550"),I$1) -> 0 | J2: =COUNTIF(INDIRECT($E2&"!$J$3:$J$550"),J$1) -> 0 | K2: =COUNTIF(INDIRECT($E2&"!$J$3:$J$550"),K$1) -> 0 | L2: =COUNTIF(INDIRECT($E2&"!$J$3:$J$550"),L$1) -> 0 | M2: =COUNTIF(INDIRECT($E2&"!$J$3:$J$550"),M$1) -> 0 | N2: =COUNTIF(INDIRECT($E2&"!$J$3:$J$550"),N$1) -> 0 | ... AA2: =COUNTIF(INDIRECT($E2&"!$J$3:$J$550"),AA$1) -> 0 | AD2: January | AE2: =SUM(AF2:AJ2) -> 0 | AF2: =COUNTIF(INDIRECT($AD2&"!$AA$3:$AA$550"),AF$1) -> 0 | AG2: =COUNTIF(INDIRECT($AD2&"!$AA$3:$AA$550"),AG$1) -> 0 | AH2: =COUNTIF(INDIRECT($AD2&"!$AA$3:$AA$550"),AH$1) -> 0 | AI2: =COUNTIF(INDIRECT($AD2&"!$AA$3:$AA$550"),AI$1) -> 0 | AJ2: =COUNTIF(INDIRECT($AD2&"!$AA$3:$AA$550"),AJ$1) -> 0 | AM2: ED | AN2: =SUM(AF2)/SUM(AE2) -> #DIV/0! | AO2: =SUM(AF3)/SUM(AE3) -> #DIV/0! | AP2: =SUM(AF4)/SUM(AE4) -> #DIV/0! | AQ2: =SUM(AF5)/SUM(AE5) -> #DIV/0! | AR2: =SUM(AF6)/SUM(AE6) -> #DIV/0! | AS2: =SUM(AF7)/SUM(AE7) -> #DIV/0! | AT2: =SUM(AF8)/SUM(AE8) -> #DIV/0! | AU2: =SUM(AF9)/SUM(AE9) -> #DIV/0! | AV2: =SUM(AF10)/SUM(AE10) -> #DIV/0! | AW2: =SUM(AF11)/SUM(AE11) -> #DIV/0! | AX2: =SUM(AF12)/SUM(AE12) -> #DIV/0! | AY2: =SUM(AF13)/SUM(AE13) -> #DIV/0! | BB2: January | BC2: =SUM(BD2:BE2) -> 0 | BD2: =COUNTIF(INDIRECT($BB2&"!$AE$3:$AE$550"), "Yes") -> 0 | BE2: =COUNTIF(INDIRECT($BB2&"!$AE$3:$AE$550"), "No") -> 0 | BH2: Meets Criteria | BI2: =SUM(BD2)/SUM(BC2) -> #DIV/0! | BJ2: =SUM(BD3)/SUM(BC3) -> #DIV/0! | BK2: =SUM(BD4)/SUM(BC4) -> #DIV/0! | BL2: =SUM(BD5)/SUM(BC5) -> #DIV/0! | BM2: =SUM(BD6)/SUM(BC6) -> #DIV/0! | BN2: =SUM(BD7)/SUM(BC7) -> #DIV/0! | BO2: =SUM(BD8)/SUM(BC8) -> #DIV/0! | BP2: =SUM(BD9)/SUM(BC9) -> #DIV/0! | BQ2: =SUM(BD10)/SUM(BC10) -> #DIV/0! | BR2: =SUM(BD11)/SUM(BC11) -> #DIV/0! | BS2: =SUM(BD12)/SUM(BC12) -> #DIV/0! | BT2: =SUM(BD13)/SUM(BC13) -> #DIV/0! | BW2: January | BX2: =COUNTIF(INDIRECT($BW2&"!$Y$3:$Y$550"),BX$1) -> 0 | BY2: =COUNTIF(INDIRECT($BW2&"!$Y$3:$Y$550"),BY$1) -> 0 | BZ2: =COUNTIF(INDIRECT($BW2&"!$Y$3:$Y$550"),BZ$1) -> 0 | CA2: =COUNTIF(INDIRECT($BW2&"!$Y$3:$Y$550"),CA$1) -> 0 | CB2: =COUNTIF(INDIRECT($BW2&"!$Y$3:$Y$550"),CB$1) -> 0 | CC2: =COUNTIF(INDIRECT($BW2&"!$Y$3:$Y$550"),CC$1) -> 0 | CD2: =COUNTIF(INDIRECT($BW2&"!$Y$3:$Y$550"),CD$1) -> 0 | CE2: =COUNTIF(INDIRECT($BW2&"!$Y$3:$Y$550"),CE$1) -> 0 | ... CU2: =COUNTIF(INDIRECT($BW2&"!$Y$3:$Y$550"),CU$1) -> 0 | CV2: =SUM(BX2:CU2) -> 0 | CY2: Antibiotic | CZ2: =IFERROR( SUM( SUMIFS(January!$AD$3:$AD$550,January!$W$3:$W$550,$CY2), SUMIFS(February!$AD$3:$AD$550,February!$W$3:$W$550,$CY2), SUMIFS(March!$AD$3:$AD$550,March!$W$3:$W$550,$CY2), SUMIFS(April!$AD$3:$AD$550,April!$W$3:$W$550,$CY2), SUMIFS(May!$AD$3:$AD$550,May!$W$3:$W$550,$CY2), SUMIFS(June!$AD$3:$AD$550,June!$W$3:$W$550,$CY2), SUMIFS(July!$AD$3:$AD$550,July!$W$3:$W$550,$CY2), SUMIFS(August!$AD$3:$AD$550,August!$W$3:$W$550,$CY2), SUMIFS(September!$AD$3:$AD$550,September!$W$3:$W$550,$CY2), SUMIFS(October!$AD$3:$AD$550,October!$W$3:$W$550,$CY2), SUMIFS(November!$AD$3:$AD$550,November!$W$3:$W$550,$CY2), SUMIFS(December!$AD$3:$AD$550,December!$W$3:$W$550,$CY2) )/ SUM( January!$AD$3:$AD$550,February!$AD$3:$AD$550, March!$AD$3:$AD$550,April!$AD$3:$AD$550, May!$AD$3:$AD$550,June!$AD$3:$AD$550, July!$AD$3:$AD$550,August!$AD$3:$AD$550, September!$AD$3:$AD$550,October!$AD$3:$AD$550, November!$AD$3:$AD$550,December!$AD$3:$AD$550 ),0) -> 0
A3: February | B3: ='Patient Days'!B15 -> 0 | E3: February | F3: =SUM(G3:Z3) -> 0 | G3: =COUNTIF(INDIRECT($E3&"!$J$3:$J$550"),G$1) -> 0 | H3: =COUNTIF(INDIRECT($E3&"!$J$3:$J$550"),H$1) -> 0 | I3: =COUNTIF(INDIRECT($E3&"!$J$3:$J$550"),I$1) -> 0 | J3: =COUNTIF(INDIRECT($E3&"!$J$3:$J$550"),J$1) -> 0 | K3: =COUNTIF(INDIRECT($E3&"!$J$3:$J$550"),K$1) -> 0 | L3: =COUNTIF(INDIRECT($E3&"!$J$3:$J$550"),L$1) -> 0 | M3: =COUNTIF(INDIRECT($E3&"!$J$3:$J$550"),M$1) -> 0 | N3: =COUNTIF(INDIRECT($E3&"!$J$3:$J$550"),N$1) -> 0 | ... AA3: =COUNTIF(INDIRECT($E3&"!$J$3:$J$550"),AA$1) -> 0 | AD3: February | AE3: =SUM(AF3:AJ3) -> 0 | AF3: =COUNTIF(INDIRECT($AD3&"!$AA$3:$AA$550"),AF$1) -> 0 | AG3: =COUNTIF(INDIRECT($AD3&"!$AA$3:$AA$550"),AG$1) -> 0 | AH3: =COUNTIF(INDIRECT($AD3&"!$AA$3:$AA$550"),AH$1) -> 0 | AI3: =COUNTIF(INDIRECT($AD3&"!$AA$3:$AA$550"),AI$1) -> 0 | AJ3: =COUNTIF(INDIRECT($AD3&"!$AA$3:$AA$550"),AJ$1) -> 0 | AM3: Clinic | AN3: =SUM(AG2)/SUM(AE2) -> #DIV/0! | AO3: =SUM(AG3)/SUM(AE3) -> #DIV/0! | AP3: =SUM(AG4)/SUM(AE4) -> #DIV/0! | AQ3: =SUM(AG5)/SUM(AE5) -> #DIV/0! | AR3: =SUM(AG6)/SUM(AE6) -> #DIV/0! | AS3: =SUM(AG7)/SUM(AE7) -> #DIV/0! | AT3: =SUM(AG8)/SUM(AE8) -> #DIV/0! | AU3: =SUM(AG9)/SUM(AE9) -> #DIV/0! | AV3: =SUM(AG10)/SUM(AE10) -> #DIV/0! | AW3: =SUM(AG11)/SUM(AE11) -> #DIV/0! | AX3: =SUM(AG12)/SUM(AE12) -> #DIV/0! | AY3: =SUM(AG13)/SUM(AE13) -> #DIV/0! | BB3: February | BC3: =SUM(BD3:BE3) -> 0 | BD3: =COUNTIF(INDIRECT($BB3&"!$AE$3:$AE$550"), "Yes") -> 0 | BE3: =COUNTIF(INDIRECT($BB3&"!$AE$3:$AE$550"), "No") -> 0 | BH3: Does Not Meet Criteria | BI3: =SUM(BE2)/SUM(BC2) -> #DIV/0! | BJ3: =SUM(BE3)/SUM(BC3) -> #DIV/0! | BK3: =SUM(BE4)/SUM(BC4) -> #DIV/0! | BL3: =SUM(BE5)/SUM(BC5) -> #DIV/0! | BM3: =SUM(BE6)/SUM(BC6) -> #DIV/0! | BN3: =SUM(BE7)/SUM(BC7) -> #DIV/0! | BO3: =SUM(BE8)/SUM(BC8) -> #DIV/0! | BP3: =SUM(BE9)/SUM(BC9) -> #DIV/0! | BQ3: =SUM(BE10)/SUM(BC10) -> #DIV/0! | BR3: =SUM(BE11)/SUM(BC11) -> #DIV/0! | BS3: =SUM(BE12)/SUM(BC12) -> #DIV/0! | BT3: =SUM(BE13)/SUM(BC13) -> #DIV/0! | BW3: February | BX3: =COUNTIF(INDIRECT($BW3&"!$Y$3:$Y$550"),BX$1) -> 0 | BY3: =COUNTIF(INDIRECT($BW3&"!$Y$3:$Y$550"),BY$1) -> 0 | BZ3: =COUNTIF(INDIRECT($BW3&"!$Y$3:$Y$550"),BZ$1) -> 0 | CA3: =COUNTIF(INDIRECT($BW3&"!$Y$3:$Y$550"),CA$1) -> 0 | CB3: =COUNTIF(INDIRECT($BW3&"!$Y$3:$Y$550"),CB$1) -> 0 | CC3: =COUNTIF(INDIRECT($BW3&"!$Y$3:$Y$550"),CC$1) -> 0 | CD3: =COUNTIF(INDIRECT($BW3&"!$Y$3:$Y$550"),CD$1) -> 0 | CE3: =COUNTIF(INDIRECT($BW3&"!$Y$3:$Y$550"),CE$1) -> 0 | ... CU3: =COUNTIF(INDIRECT($BW3&"!$Y$3:$Y$550"),CU$1) -> 0 | CV3: =SUM(BX3:CU3) -> 0 | CY3: Antiviral | CZ3: =IFERROR( SUM( SUMIFS(January!$AD$3:$AD$550,January!$W$3:$W$550,$CY3), SUMIFS(February!$AD$3:$AD$550,February!$W$3:$W$550,$CY3), SUMIFS(March!$AD$3:$AD$550,March!$W$3:$W$550,$CY3), SUMIFS(April!$AD$3:$AD$550,April!$W$3:$W$550,$CY3), SUMIFS(May!$AD$3:$AD$550,May!$W$3:$W$550,$CY3), SUMIFS(June!$AD$3:$AD$550,June!$W$3:$W$550,$CY3), SUMIFS(July!$AD$3:$AD$550,July!$W$3:$W$550,$CY3), SUMIFS(August!$AD$3:$AD$550,August!$W$3:$W$550,$CY3), SUMIFS(September!$AD$3:$AD$550,September!$W$3:$W$550,$CY3), SUMIFS(October!$AD$3:$AD$550,October!$W$3:$W$550,$CY3), SUMIFS(November!$AD$3:$AD$550,November!$W$3:$W$550,$CY3), SUMIFS(December!$AD$3:$AD$550,December!$W$3:$W$550,$CY3) )/ SUM( January!$AD$3:$AD$550,February!$AD$3:$AD$550, March!$AD$3:$AD$550,April!$AD$3:$AD$550, May!$AD$3:$AD$550,June!$AD$3:$AD$550, July!$AD$3:$AD$550,August!$AD$3:$AD$550, September!$AD$3:$AD$550,October!$AD$3:$AD$550, November!$AD$3:$AD$550,December!$AD$3:$AD$550 ),0) -> 0
A4: March | B4: ='Patient Days'!B16 -> 0 | E4: March | F4: =SUM(G4:Z4) -> 0 | G4: =COUNTIF(INDIRECT($E4&"!$J$3:$J$550"),G$1) -> 0 | H4: =COUNTIF(INDIRECT($E4&"!$J$3:$J$550"),H$1) -> 0 | I4: =COUNTIF(INDIRECT($E4&"!$J$3:$J$550"),I$1) -> 0 | J4: =COUNTIF(INDIRECT($E4&"!$J$3:$J$550"),J$1) -> 0 | K4: =COUNTIF(INDIRECT($E4&"!$J$3:$J$550"),K$1) -> 0 | L4: =COUNTIF(INDIRECT($E4&"!$J$3:$J$550"),L$1) -> 0 | M4: =COUNTIF(INDIRECT($E4&"!$J$3:$J$550"),M$1) -> 0 | N4: =COUNTIF(INDIRECT($E4&"!$J$3:$J$550"),N$1) -> 0 | ... AA4: =COUNTIF(INDIRECT($E4&"!$J$3:$J$550"),AA$1) -> 0 | AD4: March | AE4: =SUM(AF4:AJ4) -> 0 | AF4: =COUNTIF(INDIRECT($AD4&"!$AA$3:$AA$550"),AF$1) -> 0 | AG4: =COUNTIF(INDIRECT($AD4&"!$AA$3:$AA$550"),AG$1) -> 0 | AH4: =COUNTIF(INDIRECT($AD4&"!$AA$3:$AA$550"),AH$1) -> 0 | AI4: =COUNTIF(INDIRECT($AD4&"!$AA$3:$AA$550"),AI$1) -> 0 | AJ4: =COUNTIF(INDIRECT($AD4&"!$AA$3:$AA$550"),AJ$1) -> 0 | AM4: Hospital | AN4: =SUM(AH2)/SUM(AE2) -> #DIV/0! | AO4: =SUM(AH3)/SUM(AE3) -> #DIV/0! | AP4: =SUM(AH4)/SUM(AE4) -> #DIV/0! | AQ4: =SUM(AH5)/SUM(AE5) -> #DIV/0! | AR4: =SUM(AH6)/SUM(AE6) -> #DIV/0! | AS4: =SUM(AH7)/SUM(AE7) -> #DIV/0! | AT4: =SUM(AH8)/SUM(AE8) -> #DIV/0! | AU4: =SUM(AH9)/SUM(AE9) -> #DIV/0! | AV4: =SUM(AH10)/SUM(AE10) -> #DIV/0! | AW4: =SUM(AH11)/SUM(AE11) -> #DIV/0! | AX4: =SUM(AH12)/SUM(AE12) -> #DIV/0! | AY4: =SUM(AH13)/SUM(AE13) -> #DIV/0! | BB4: March | BC4: =SUM(BD4:BE4) -> 0 | BD4: =COUNTIF(INDIRECT($BB4&"!$AE$3:$AE$550"), "Yes") -> 0 | BE4: =COUNTIF(INDIRECT($BB4&"!$AE$3:$AE$550"), "No") -> 0 | BW4: March | BX4: =COUNTIF(INDIRECT($BW4&"!$Y$3:$Y$550"),BX$1) -> 0 | BY4: =COUNTIF(INDIRECT($BW4&"!$Y$3:$Y$550"),BY$1) -> 0 | BZ4: =COUNTIF(INDIRECT($BW4&"!$Y$3:$Y$550"),BZ$1) -> 0 | CA4: =COUNTIF(INDIRECT($BW4&"!$Y$3:$Y$550"),CA$1) -> 0 | CB4: =COUNTIF(INDIRECT($BW4&"!$Y$3:$Y$550"),CB$1) -> 0 | CC4: =COUNTIF(INDIRECT($BW4&"!$Y$3:$Y$550"),CC$1) -> 0 | CD4: =COUNTIF(INDIRECT($BW4&"!$Y$3:$Y$550"),CD$1) -> 0 | CE4: =COUNTIF(INDIRECT($BW4&"!$Y$3:$Y$550"),CE$1) -> 0 | ... CU4: =COUNTIF(INDIRECT($BW4&"!$Y$3:$Y$550"),CU$1) -> 0 | CV4: =SUM(BX4:CU4) -> 0 | CY4: Antifungal | CZ4: =IFERROR( SUM( SUMIFS(January!$AD$3:$AD$550,January!$W$3:$W$550,$CY4), SUMIFS(February!$AD$3:$AD$550,February!$W$3:$W$550,$CY4), SUMIFS(March!$AD$3:$AD$550,March!$W$3:$W$550,$CY4), SUMIFS(April!$AD$3:$AD$550,April!$W$3:$W$550,$CY4), SUMIFS(May!$AD$3:$AD$550,May!$W$3:$W$550,$CY4), SUMIFS(June!$AD$3:$AD$550,June!$W$3:$W$550,$CY4), SUMIFS(July!$AD$3:$AD$550,July!$W$3:$W$550,$CY4), SUMIFS(August!$AD$3:$AD$550,August!$W$3:$W$550,$CY4), SUMIFS(September!$AD$3:$AD$550,September!$W$3:$W$550,$CY4), SUMIFS(October!$AD$3:$AD$550,October!$W$3:$W$550,$CY4), SUMIFS(November!$AD$3:$AD$550,November!$W$3:$W$550,$CY4), SUMIFS(December!$AD$3:$AD$550,December!$W$3:$W$550,$CY4) )/ SUM( January!$AD$3:$AD$550,February!$AD$3:$AD$550, March!$AD$3:$AD$550,April!$AD$3:$AD$550, May!$AD$3:$AD$550,June!$AD$3:$AD$550, July!$AD$3:$AD$550,August!$AD$3:$AD$550, September!$AD$3:$AD$550,October!$AD$3:$AD$550, November!$AD$3:$AD$550,December!$AD$3:$AD$550 ),0) -> 0
A5: April | B5: ='Patient Days'!B17 -> 0 | E5: April | F5: =SUM(G5:Z5) -> 0 | G5: =COUNTIF(INDIRECT($E5&"!$J$3:$J$550"),G$1) -> 0 | H5: =COUNTIF(INDIRECT($E5&"!$J$3:$J$550"),H$1) -> 0 | I5: =COUNTIF(INDIRECT($E5&"!$J$3:$J$550"),I$1) -> 0 | J5: =COUNTIF(INDIRECT($E5&"!$J$3:$J$550"),J$1) -> 0 | K5: =COUNTIF(INDIRECT($E5&"!$J$3:$J$550"),K$1) -> 0 | L5: =COUNTIF(INDIRECT($E5&"!$J$3:$J$550"),L$1) -> 0 | M5: =COUNTIF(INDIRECT($E5&"!$J$3:$J$550"),M$1) -> 0 | N5: =COUNTIF(INDIRECT($E5&"!$J$3:$J$550"),N$1) -> 0 | ... AA5: =COUNTIF(INDIRECT($E5&"!$J$3:$J$550"),AA$1) -> 0 | AD5: April | AE5: =SUM(AF5:AJ5) -> 0 | AF5: =COUNTIF(INDIRECT($AD5&"!$AA$3:$AA$550"),AF$1) -> 0 | AG5: =COUNTIF(INDIRECT($AD5&"!$AA$3:$AA$550"),AG$1) -> 0 | AH5: =COUNTIF(INDIRECT($AD5&"!$AA$3:$AA$550"),AH$1) -> 0 | AI5: =COUNTIF(INDIRECT($AD5&"!$AA$3:$AA$550"),AI$1) -> 0 | AJ5: =COUNTIF(INDIRECT($AD5&"!$AA$3:$AA$550"),AJ$1) -> 0 | AM5: Long-term Care Center | AN5: =SUM(AI2)/SUM(AE2) -> #DIV/0! | AO5: =SUM(AI3)/SUM(AE3) -> #DIV/0! | AP5: =SUM(AI4)/SUM(AE4) -> #DIV/0! | AQ5: =SUM(AI5)/SUM(AE5) -> #DIV/0! | AR5: =SUM(AI6)/SUM(AE6) -> #DIV/0! | AS5: =SUM(AI7)/SUM(AE7) -> #DIV/0! | AT5: =SUM(AI8)/SUM(AE8) -> #DIV/0! | AU5: =SUM(AI9)/SUM(AE9) -> #DIV/0! | AV5: =SUM(AI10)/SUM(AE10) -> #DIV/0! | AW5: =SUM(AI11)/SUM(AE11) -> #DIV/0! | AX5: =SUM(AI12)/SUM(AE12) -> #DIV/0! | AY5: =SUM(AI13)/SUM(AE13) -> #DIV/0! | BB5: April | BC5: =SUM(BD5:BE5) -> 0 | BD5: =COUNTIF(INDIRECT($BB5&"!$AE$3:$AE$550"), "Yes") -> 0 | BE5: =COUNTIF(INDIRECT($BB5&"!$AE$3:$AE$550"), "No") -> 0 | BW5: April | BX5: =COUNTIF(INDIRECT($BW5&"!$Y$3:$Y$550"),BX$1) -> 0 | BY5: =COUNTIF(INDIRECT($BW5&"!$Y$3:$Y$550"),BY$1) -> 0 | BZ5: =COUNTIF(INDIRECT($BW5&"!$Y$3:$Y$550"),BZ$1) -> 0 | CA5: =COUNTIF(INDIRECT($BW5&"!$Y$3:$Y$550"),CA$1) -> 0 | CB5: =COUNTIF(INDIRECT($BW5&"!$Y$3:$Y$550"),CB$1) -> 0 | CC5: =COUNTIF(INDIRECT($BW5&"!$Y$3:$Y$550"),CC$1) -> 0 | CD5: =COUNTIF(INDIRECT($BW5&"!$Y$3:$Y$550"),CD$1) -> 0 | CE5: =COUNTIF(INDIRECT($BW5&"!$Y$3:$Y$550"),CE$1) -> 0 | ... CU5: =COUNTIF(INDIRECT($BW5&"!$Y$3:$Y$550"),CU$1) -> 0 | CV5: =SUM(BX5:CU5) -> 0 | CY5: Antiparasitic | CZ5: =IFERROR( SUM( SUMIFS(January!$AD$3:$AD$550,January!$W$3:$W$550,$CY5), SUMIFS(February!$AD$3:$AD$550,February!$W$3:$W$550,$CY5), SUMIFS(March!$AD$3:$AD$550,March!$W$3:$W$550,$CY5), SUMIFS(April!$AD$3:$AD$550,April!$W$3:$W$550,$CY5), SUMIFS(May!$AD$3:$AD$550,May!$W$3:$W$550,$CY5), SUMIFS(June!$AD$3:$AD$550,June!$W$3:$W$550,$CY5), SUMIFS(July!$AD$3:$AD$550,July!$W$3:$W$550,$CY5), SUMIFS(August!$AD$3:$AD$550,August!$W$3:$W$550,$CY5), SUMIFS(September!$AD$3:$AD$550,September!$W$3:$W$550,$CY5), SUMIFS(October!$AD$3:$AD$550,October!$W$3:$W$550,$CY5), SUMIFS(November!$AD$3:$AD$550,November!$W$3:$W$550,$CY5), SUMIFS(December!$AD$3:$AD$550,December!$W$3:$W$550,$CY5) )/ SUM( January!$AD$3:$AD$550,February!$AD$3:$AD$550, March!$AD$3:$AD$550,April!$AD$3:$AD$550, May!$AD$3:$AD$550,June!$AD$3:$AD$550, July!$AD$3:$AD$550,August!$AD$3:$AD$550, September!$AD$3:$AD$550,October!$AD$3:$AD$550, November!$AD$3:$AD$550,December!$AD$3:$AD$550 ),0) -> 0
A6: May | B6: ='Patient Days'!B18 -> 0 | E6: May | F6: =SUM(G6:Z6) -> 0 | G6: =COUNTIF(INDIRECT($E6&"!$J$3:$J$550"),G$1) -> 0 | H6: =COUNTIF(INDIRECT($E6&"!$J$3:$J$550"),H$1) -> 0 | I6: =COUNTIF(INDIRECT($E6&"!$J$3:$J$550"),I$1) -> 0 | J6: =COUNTIF(INDIRECT($E6&"!$J$3:$J$550"),J$1) -> 0 | K6: =COUNTIF(INDIRECT($E6&"!$J$3:$J$550"),K$1) -> 0 | L6: =COUNTIF(INDIRECT($E6&"!$J$3:$J$550"),L$1) -> 0 | M6: =COUNTIF(INDIRECT($E6&"!$J$3:$J$550"),M$1) -> 0 | N6: =COUNTIF(INDIRECT($E6&"!$J$3:$J$550"),N$1) -> 0 | ... AA6: =COUNTIF(INDIRECT($E6&"!$J$3:$J$550"),AA$1) -> 0 | AD6: May | AE6: =SUM(AF6:AJ6) -> 0 | AF6: =COUNTIF(INDIRECT($AD6&"!$AA$3:$AA$550"),AF$1) -> 0 | AG6: =COUNTIF(INDIRECT($AD6&"!$AA$3:$AA$550"),AG$1) -> 0 | AH6: =COUNTIF(INDIRECT($AD6&"!$AA$3:$AA$550"),AH$1) -> 0 | AI6: =COUNTIF(INDIRECT($AD6&"!$AA$3:$AA$550"),AI$1) -> 0 | AJ6: =COUNTIF(INDIRECT($AD6&"!$AA$3:$AA$550"),AJ$1) -> 0 | AM6: Other | AN6: =SUM(AJ2)/SUM(AE2) -> #DIV/0! | AO6: =SUM(AJ3)/SUM(AE3) -> #DIV/0! | AP6: =SUM(AJ4)/SUM(AE4) -> #DIV/0! | AQ6: =SUM(AJ5)/SUM(AE5) -> #DIV/0! | AR6: =SUM(AJ6)/SUM(AE6) -> #DIV/0! | AS6: =SUM(AJ7)/SUM(AE7) -> #DIV/0! | AT6: =SUM(AJ8)/SUM(AE8) -> #DIV/0! | AU6: =SUM(AJ9)/SUM(AE9) -> #DIV/0! | AV6: =SUM(AJ10)/SUM(AE10) -> #DIV/0! | AW6: =SUM(AJ11)/SUM(AE11) -> #DIV/0! | AX6: =SUM(AJ12)/SUM(AE12) -> #DIV/0! | AY6: =SUM(AJ13)/SUM(AE13) -> #DIV/0! | BB6: May | BC6: =SUM(BD6:BE6) -> 0 | BD6: =COUNTIF(INDIRECT($BB6&"!$AE$3:$AE$550"), "Yes") -> 0 | BE6: =COUNTIF(INDIRECT($BB6&"!$AE$3:$AE$550"), "No") -> 0 | BW6: May | BX6: =COUNTIF(INDIRECT($BW6&"!$Y$3:$Y$550"),BX$1) -> 0 | BY6: =COUNTIF(INDIRECT($BW6&"!$Y$3:$Y$550"),BY$1) -> 0 | BZ6: =COUNTIF(INDIRECT($BW6&"!$Y$3:$Y$550"),BZ$1) -> 0 | CA6: =COUNTIF(INDIRECT($BW6&"!$Y$3:$Y$550"),CA$1) -> 0 | CB6: =COUNTIF(INDIRECT($BW6&"!$Y$3:$Y$550"),CB$1) -> 0 | CC6: =COUNTIF(INDIRECT($BW6&"!$Y$3:$Y$550"),CC$1) -> 0 | CD6: =COUNTIF(INDIRECT($BW6&"!$Y$3:$Y$550"),CD$1) -> 0 | CE6: =COUNTIF(INDIRECT($BW6&"!$Y$3:$Y$550"),CE$1) -> 0 | ... CU6: =COUNTIF(INDIRECT($BW6&"!$Y$3:$Y$550"),CU$1) -> 0 | CV6: =SUM(BX6:CU6) -> 0 | CY6: Antiparasitic / Antiprotozoal | CZ6: =IFERROR( SUM( SUMIFS(January!$AD$3:$AD$550,January!$W$3:$W$550,$CY6), SUMIFS(February!$AD$3:$AD$550,February!$W$3:$W$550,$CY6), SUMIFS(March!$AD$3:$AD$550,March!$W$3:$W$550,$CY6), SUMIFS(April!$AD$3:$AD$550,April!$W$3:$W$550,$CY6), SUMIFS(May!$AD$3:$AD$550,May!$W$3:$W$550,$CY6), SUMIFS(June!$AD$3:$AD$550,June!$W$3:$W$550,$CY6), SUMIFS(July!$AD$3:$AD$550,July!$W$3:$W$550,$CY6), SUMIFS(August!$AD$3:$AD$550,August!$W$3:$W$550,$CY6), SUMIFS(September!$AD$3:$AD$550,September!$W$3:$W$550,$CY6), SUMIFS(October!$AD$3:$AD$550,October!$W$3:$W$550,$CY6), SUMIFS(November!$AD$3:$AD$550,November!$W$3:$W$550,$CY6), SUMIFS(December!$AD$3:$AD$550,December!$W$3:$W$550,$CY6) )/ SUM( January!$AD$3:$AD$550,February!$AD$3:$AD$550, March!$AD$3:$AD$550,April!$AD$3:$AD$550, May!$AD$3:$AD$550,June!$AD$3:$AD$550, July!$AD$3:$AD$550,August!$AD$3:$AD$550, September!$AD$3:$AD$550,October!$AD$3:$AD$550, November!$AD$3:$AD$550,December!$AD$3:$AD$550 ),0) -> 0
A7: June | B7: ='Patient Days'!B19 -> 0 | E7: June | F7: =SUM(G7:Z7) -> 0 | G7: =COUNTIF(INDIRECT($E7&"!$J$3:$J$550"),G$1) -> 0 | H7: =COUNTIF(INDIRECT($E7&"!$J$3:$J$550"),H$1) -> 0 | I7: =COUNTIF(INDIRECT($E7&"!$J$3:$J$550"),I$1) -> 0 | J7: =COUNTIF(INDIRECT($E7&"!$J$3:$J$550"),J$1) -> 0 | K7: =COUNTIF(INDIRECT($E7&"!$J$3:$J$550"),K$1) -> 0 | L7: =COUNTIF(INDIRECT($E7&"!$J$3:$J$550"),L$1) -> 0 | M7: =COUNTIF(INDIRECT($E7&"!$J$3:$J$550"),M$1) -> 0 | N7: =COUNTIF(INDIRECT($E7&"!$J$3:$J$550"),N$1) -> 0 | ... AA7: =COUNTIF(INDIRECT($E7&"!$J$3:$J$550"),AA$1) -> 0 | AD7: June | AE7: =SUM(AF7:AJ7) -> 0 | AF7: =COUNTIF(INDIRECT($AD7&"!$AA$3:$AA$550"),AF$1) -> 0 | AG7: =COUNTIF(INDIRECT($AD7&"!$AA$3:$AA$550"),AG$1) -> 0 | AH7: =COUNTIF(INDIRECT($AD7&"!$AA$3:$AA$550"),AH$1) -> 0 | AI7: =COUNTIF(INDIRECT($AD7&"!$AA$3:$AA$550"),AI$1) -> 0 | AJ7: =COUNTIF(INDIRECT($AD7&"!$AA$3:$AA$550"),AJ$1) -> 0 | BB7: June | BC7: =SUM(BD7:BE7) -> 0 | BD7: =COUNTIF(INDIRECT($BB7&"!$AE$3:$AE$550"), "Yes") -> 0 | BE7: =COUNTIF(INDIRECT($BB7&"!$AE$3:$AE$550"), "No") -> 0 | BW7: June | BX7: =COUNTIF(INDIRECT($BW7&"!$Y$3:$Y$550"),BX$1) -> 0 | BY7: =COUNTIF(INDIRECT($BW7&"!$Y$3:$Y$550"),BY$1) -> 0 | BZ7: =COUNTIF(INDIRECT($BW7&"!$Y$3:$Y$550"),BZ$1) -> 0 | CA7: =COUNTIF(INDIRECT($BW7&"!$Y$3:$Y$550"),CA$1) -> 0 | CB7: =COUNTIF(INDIRECT($BW7&"!$Y$3:$Y$550"),CB$1) -> 0 | CC7: =COUNTIF(INDIRECT($BW7&"!$Y$3:$Y$550"),CC$1) -> 0 | CD7: =COUNTIF(INDIRECT($BW7&"!$Y$3:$Y$550"),CD$1) -> 0 | CE7: =COUNTIF(INDIRECT($BW7&"!$Y$3:$Y$550"),CE$1) -> 0 | ... CU7: =COUNTIF(INDIRECT($BW7&"!$Y$3:$Y$550"),CU$1) -> 0 | CV7: =SUM(BX7:CU7) -> 0
A8: July | B8: ='Patient Days'!B20 -> 0 | E8: July | F8: =SUM(G8:Z8) -> 0 | G8: =COUNTIF(INDIRECT($E8&"!$J$3:$J$550"),G$1) -> 0 | H8: =COUNTIF(INDIRECT($E8&"!$J$3:$J$550"),H$1) -> 0 | I8: =COUNTIF(INDIRECT($E8&"!$J$3:$J$550"),I$1) -> 0 | J8: =COUNTIF(INDIRECT($E8&"!$J$3:$J$550"),J$1) -> 0 | K8: =COUNTIF(INDIRECT($E8&"!$J$3:$J$550"),K$1) -> 0 | L8: =COUNTIF(INDIRECT($E8&"!$J$3:$J$550"),L$1) -> 0 | M8: =COUNTIF(INDIRECT($E8&"!$J$3:$J$550"),M$1) -> 0 | N8: =COUNTIF(INDIRECT($E8&"!$J$3:$J$550"),N$1) -> 0 | ... AA8: =COUNTIF(INDIRECT($E8&"!$J$3:$J$550"),AA$1) -> 0 | AD8: July | AE8: =SUM(AF8:AJ8) -> 0 | AF8: =COUNTIF(INDIRECT($AD8&"!$AA$3:$AA$550"),AF$1) -> 0 | AG8: =COUNTIF(INDIRECT($AD8&"!$AA$3:$AA$550"),AG$1) -> 0 | AH8: =COUNTIF(INDIRECT($AD8&"!$AA$3:$AA$550"),AH$1) -> 0 | AI8: =COUNTIF(INDIRECT($AD8&"!$AA$3:$AA$550"),AI$1) -> 0 | AJ8: =COUNTIF(INDIRECT($AD8&"!$AA$3:$AA$550"),AJ$1) -> 0 | BB8: July | BC8: =SUM(BD8:BE8) -> 0 | BD8: =COUNTIF(INDIRECT($BB8&"!$AE$3:$AE$550"), "Yes") -> 0 | BE8: =COUNTIF(INDIRECT($BB8&"!$AE$3:$AE$550"), "No") -> 0 | BW8: July | BX8: =COUNTIF(INDIRECT($BW8&"!$Y$3:$Y$550"),BX$1) -> 0 | BY8: =COUNTIF(INDIRECT($BW8&"!$Y$3:$Y$550"),BY$1) -> 0 | BZ8: =COUNTIF(INDIRECT($BW8&"!$Y$3:$Y$550"),BZ$1) -> 0 | CA8: =COUNTIF(INDIRECT($BW8&"!$Y$3:$Y$550"),CA$1) -> 0 | CB8: =COUNTIF(INDIRECT($BW8&"!$Y$3:$Y$550"),CB$1) -> 0 | CC8: =COUNTIF(INDIRECT($BW8&"!$Y$3:$Y$550"),CC$1) -> 0 | CD8: =COUNTIF(INDIRECT($BW8&"!$Y$3:$Y$550"),CD$1) -> 0 | CE8: =COUNTIF(INDIRECT($BW8&"!$Y$3:$Y$550"),CE$1) -> 0 | ... CU8: =COUNTIF(INDIRECT($BW8&"!$Y$3:$Y$550"),CU$1) -> 0 | CV8: =SUM(BX8:CU8) -> 0
A9: August | B9: ='Patient Days'!B21 -> 0 | E9: August | F9: =SUM(G9:Z9) -> 0 | G9: =COUNTIF(INDIRECT($E9&"!$J$3:$J$550"),G$1) -> 0 | H9: =COUNTIF(INDIRECT($E9&"!$J$3:$J$550"),H$1) -> 0 | I9: =COUNTIF(INDIRECT($E9&"!$J$3:$J$550"),I$1) -> 0 | J9: =COUNTIF(INDIRECT($E9&"!$J$3:$J$550"),J$1) -> 0 | K9: =COUNTIF(INDIRECT($E9&"!$J$3:$J$550"),K$1) -> 0 | L9: =COUNTIF(INDIRECT($E9&"!$J$3:$J$550"),L$1) -> 0 | M9: =COUNTIF(INDIRECT($E9&"!$J$3:$J$550"),M$1) -> 0 | N9: =COUNTIF(INDIRECT($E9&"!$J$3:$J$550"),N$1) -> 0 | ... AA9: =COUNTIF(INDIRECT($E9&"!$J$3:$J$550"),AA$1) -> 0 | AD9: August | AE9: =SUM(AF9:AJ9) -> 0 | AF9: =COUNTIF(INDIRECT($AD9&"!$AA$3:$AA$550"),AF$1) -> 0 | AG9: =COUNTIF(INDIRECT($AD9&"!$AA$3:$AA$550"),AG$1) -> 0 | AH9: =COUNTIF(INDIRECT($AD9&"!$AA$3:$AA$550"),AH$1) -> 0 | AI9: =COUNTIF(INDIRECT($AD9&"!$AA$3:$AA$550"),AI$1) -> 0 | AJ9: =COUNTIF(INDIRECT($AD9&"!$AA$3:$AA$550"),AJ$1) -> 0 | BB9: August | BC9: =SUM(BD9:BE9) -> 0 | BD9: =COUNTIF(INDIRECT($BB9&"!$AE$3:$AE$550"), "Yes") -> 0 | BE9: =COUNTIF(INDIRECT($BB9&"!$AE$3:$AE$550"), "No") -> 0 | BW9: August | BX9: =COUNTIF(INDIRECT($BW9&"!$Y$3:$Y$550"),BX$1) -> 0 | BY9: =COUNTIF(INDIRECT($BW9&"!$Y$3:$Y$550"),BY$1) -> 0 | BZ9: =COUNTIF(INDIRECT($BW9&"!$Y$3:$Y$550"),BZ$1) -> 0 | CA9: =COUNTIF(INDIRECT($BW9&"!$Y$3:$Y$550"),CA$1) -> 0 | CB9: =COUNTIF(INDIRECT($BW9&"!$Y$3:$Y$550"),CB$1) -> 0 | CC9: =COUNTIF(INDIRECT($BW9&"!$Y$3:$Y$550"),CC$1) -> 0 | CD9: =COUNTIF(INDIRECT($BW9&"!$Y$3:$Y$550"),CD$1) -> 0 | CE9: =COUNTIF(INDIRECT($BW9&"!$Y$3:$Y$550"),CE$1) -> 0 | ... CU9: =COUNTIF(INDIRECT($BW9&"!$Y$3:$Y$550"),CU$1) -> 0 | CV9: =SUM(BX9:CU9) -> 0
A10: September | B10: ='Patient Days'!B22 -> 0 | E10: September | F10: =SUM(G10:Z10) -> 0 | G10: =COUNTIF(INDIRECT($E10&"!$J$3:$J$550"),G$1) -> 0 | H10: =COUNTIF(INDIRECT($E10&"!$J$3:$J$550"),H$1) -> 0 | I10: =COUNTIF(INDIRECT($E10&"!$J$3:$J$550"),I$1) -> 0 | J10: =COUNTIF(INDIRECT($E10&"!$J$3:$J$550"),J$1) -> 0 | K10: =COUNTIF(INDIRECT($E10&"!$J$3:$J$550"),K$1) -> 0 | L10: =COUNTIF(INDIRECT($E10&"!$J$3:$J$550"),L$1) -> 0 | M10: =COUNTIF(INDIRECT($E10&"!$J$3:$J$550"),M$1) -> 0 | N10: =COUNTIF(INDIRECT($E10&"!$J$3:$J$550"),N$1) -> 0 | ... AA10: =COUNTIF(INDIRECT($E10&"!$J$3:$J$550"),AA$1) -> 0 | AD10: September | AE10: =SUM(AF10:AJ10) -> 0 | AF10: =COUNTIF(INDIRECT($AD10&"!$AA$3:$AA$550"),AF$1) -> 0 | AG10: =COUNTIF(INDIRECT($AD10&"!$AA$3:$AA$550"),AG$1) -> 0 | AH10: =COUNTIF(INDIRECT($AD10&"!$AA$3:$AA$550"),AH$1) -> 0 | AI10: =COUNTIF(INDIRECT($AD10&"!$AA$3:$AA$550"),AI$1) -> 0 | AJ10: =COUNTIF(INDIRECT($AD10&"!$AA$3:$AA$550"),AJ$1) -> 0 | BB10: September | BC10: =SUM(BD10:BE10) -> 0 | BD10: =COUNTIF(INDIRECT($BB10&"!$AE$3:$AE$550"), "Yes") -> 0 | BE10: =COUNTIF(INDIRECT($BB10&"!$AE$3:$AE$550"), "No") -> 0 | BW10: September | BX10: =COUNTIF(INDIRECT($BW10&"!$Y$3:$Y$550"),BX$1) -> 0 | BY10: =COUNTIF(INDIRECT($BW10&"!$Y$3:$Y$550"),BY$1) -> 0 | BZ10: =COUNTIF(INDIRECT($BW10&"!$Y$3:$Y$550"),BZ$1) -> 0 | CA10: =COUNTIF(INDIRECT($BW10&"!$Y$3:$Y$550"),CA$1) -> 0 | CB10: =COUNTIF(INDIRECT($BW10&"!$Y$3:$Y$550"),CB$1) -> 0 | CC10: =COUNTIF(INDIRECT($BW10&"!$Y$3:$Y$550"),CC$1) -> 0 | CD10: =COUNTIF(INDIRECT($BW10&"!$Y$3:$Y$550"),CD$1) -> 0 | CE10: =COUNTIF(INDIRECT($BW10&"!$Y$3:$Y$550"),CE$1) -> 0 | ... CU10: =COUNTIF(INDIRECT($BW10&"!$Y$3:$Y$550"),CU$1) -> 0 | CV10: =SUM(BX10:CU10) -> 0
A11: October | B11: ='Patient Days'!B23 -> 0 | E11: October | F11: =SUM(G11:Z11) -> 0 | G11: =COUNTIF(INDIRECT($E11&"!$J$3:$J$550"),G$1) -> 0 | H11: =COUNTIF(INDIRECT($E11&"!$J$3:$J$550"),H$1) -> 0 | I11: =COUNTIF(INDIRECT($E11&"!$J$3:$J$550"),I$1) -> 0 | J11: =COUNTIF(INDIRECT($E11&"!$J$3:$J$550"),J$1) -> 0 | K11: =COUNTIF(INDIRECT($E11&"!$J$3:$J$550"),K$1) -> 0 | L11: =COUNTIF(INDIRECT($E11&"!$J$3:$J$550"),L$1) -> 0 | M11: =COUNTIF(INDIRECT($E11&"!$J$3:$J$550"),M$1) -> 0 | N11: =COUNTIF(INDIRECT($E11&"!$J$3:$J$550"),N$1) -> 0 | ... AA11: =COUNTIF(INDIRECT($E11&"!$J$3:$J$550"),AA$1) -> 0 | AD11: October | AE11: =SUM(AF11:AJ11) -> 0 | AF11: =COUNTIF(INDIRECT($AD11&"!$AA$3:$AA$550"),AF$1) -> 0 | AG11: =COUNTIF(INDIRECT($AD11&"!$AA$3:$AA$550"),AG$1) -> 0 | AH11: =COUNTIF(INDIRECT($AD11&"!$AA$3:$AA$550"),AH$1) -> 0 | AI11: =COUNTIF(INDIRECT($AD11&"!$AA$3:$AA$550"),AI$1) -> 0 | AJ11: =COUNTIF(INDIRECT($AD11&"!$AA$3:$AA$550"),AJ$1) -> 0 | BB11: October | BC11: =SUM(BD11:BE11) -> 0 | BD11: =COUNTIF(INDIRECT($BB11&"!$AE$3:$AE$550"), "Yes") -> 0 | BE11: =COUNTIF(INDIRECT($BB11&"!$AE$3:$AE$550"), "No") -> 0 | BW11: October | BX11: =COUNTIF(INDIRECT($BW11&"!$Y$3:$Y$550"),BX$1) -> 0 | BY11: =COUNTIF(INDIRECT($BW11&"!$Y$3:$Y$550"),BY$1) -> 0 | BZ11: =COUNTIF(INDIRECT($BW11&"!$Y$3:$Y$550"),BZ$1) -> 0 | CA11: =COUNTIF(INDIRECT($BW11&"!$Y$3:$Y$550"),CA$1) -> 0 | CB11: =COUNTIF(INDIRECT($BW11&"!$Y$3:$Y$550"),CB$1) -> 0 | CC11: =COUNTIF(INDIRECT($BW11&"!$Y$3:$Y$550"),CC$1) -> 0 | CD11: =COUNTIF(INDIRECT($BW11&"!$Y$3:$Y$550"),CD$1) -> 0 | CE11: =COUNTIF(INDIRECT($BW11&"!$Y$3:$Y$550"),CE$1) -> 0 | ... CU11: =COUNTIF(INDIRECT($BW11&"!$Y$3:$Y$550"),CU$1) -> 0 | CV11: =SUM(BX11:CU11) -> 0
A12: November | B12: ='Patient Days'!B24 -> 0 | E12: November | F12: =SUM(G12:Z12) -> 0 | G12: =COUNTIF(INDIRECT($E12&"!$J$3:$J$550"),G$1) -> 0 | H12: =COUNTIF(INDIRECT($E12&"!$J$3:$J$550"),H$1) -> 0 | I12: =COUNTIF(INDIRECT($E12&"!$J$3:$J$550"),I$1) -> 0 | J12: =COUNTIF(INDIRECT($E12&"!$J$3:$J$550"),J$1) -> 0 | K12: =COUNTIF(INDIRECT($E12&"!$J$3:$J$550"),K$1) -> 0 | L12: =COUNTIF(INDIRECT($E12&"!$J$3:$J$550"),L$1) -> 0 | M12: =COUNTIF(INDIRECT($E12&"!$J$3:$J$550"),M$1) -> 0 | N12: =COUNTIF(INDIRECT($E12&"!$J$3:$J$550"),N$1) -> 0 | ... AA12: =COUNTIF(INDIRECT($E12&"!$J$3:$J$550"),AA$1) -> 0 | AD12: November | AE12: =SUM(AF12:AJ12) -> 0 | AF12: =COUNTIF(INDIRECT($AD12&"!$AA$3:$AA$550"),AF$1) -> 0 | AG12: =COUNTIF(INDIRECT($AD12&"!$AA$3:$AA$550"),AG$1) -> 0 | AH12: =COUNTIF(INDIRECT($AD12&"!$AA$3:$AA$550"),AH$1) -> 0 | AI12: =COUNTIF(INDIRECT($AD12&"!$AA$3:$AA$550"),AI$1) -> 0 | AJ12: =COUNTIF(INDIRECT($AD12&"!$AA$3:$AA$550"),AJ$1) -> 0 | BB12: November | BC12: =SUM(BD12:BE12) -> 0 | BD12: =COUNTIF(INDIRECT($BB12&"!$AE$3:$AE$550"), "Yes") -> 0 | BE12: =COUNTIF(INDIRECT($BB12&"!$AE$3:$AE$550"), "No") -> 0 | BW12: November | BX12: =COUNTIF(INDIRECT($BW12&"!$Y$3:$Y$550"),BX$1) -> 0 | BY12: =COUNTIF(INDIRECT($BW12&"!$Y$3:$Y$550"),BY$1) -> 0 | BZ12: =COUNTIF(INDIRECT($BW12&"!$Y$3:$Y$550"),BZ$1) -> 0 | CA12: =COUNTIF(INDIRECT($BW12&"!$Y$3:$Y$550"),CA$1) -> 0 | CB12: =COUNTIF(INDIRECT($BW12&"!$Y$3:$Y$550"),CB$1) -> 0 | CC12: =COUNTIF(INDIRECT($BW12&"!$Y$3:$Y$550"),CC$1) -> 0 | CD12: =COUNTIF(INDIRECT($BW12&"!$Y$3:$Y$550"),CD$1) -> 0 | CE12: =COUNTIF(INDIRECT($BW12&"!$Y$3:$Y$550"),CE$1) -> 0 | ... CU12: =COUNTIF(INDIRECT($BW12&"!$Y$3:$Y$550"),CU$1) -> 0 | CV12: =SUM(BX12:CU12) -> 0
A13: December | B13: ='Patient Days'!B25 -> 0 | E13: December | F13: =SUM(G13:Z13) -> 0 | G13: =COUNTIF(INDIRECT($E13&"!$J$3:$J$550"),G$1) -> 0 | H13: =COUNTIF(INDIRECT($E13&"!$J$3:$J$550"),H$1) -> 0 | I13: =COUNTIF(INDIRECT($E13&"!$J$3:$J$550"),I$1) -> 0 | J13: =COUNTIF(INDIRECT($E13&"!$J$3:$J$550"),J$1) -> 0 | K13: =COUNTIF(INDIRECT($E13&"!$J$3:$J$550"),K$1) -> 0 | L13: =COUNTIF(INDIRECT($E13&"!$J$3:$J$550"),L$1) -> 0 | M13: =COUNTIF(INDIRECT($E13&"!$J$3:$J$550"),M$1) -> 0 | N13: =COUNTIF(INDIRECT($E13&"!$J$3:$J$550"),N$1) -> 0 | ... AA13: =COUNTIF(INDIRECT($E13&"!$J$3:$J$550"),AA$1) -> 0 | AD13: December | AE13: =SUM(AF13:AJ13) -> 0 | AF13: =COUNTIF(INDIRECT($AD13&"!$AA$3:$AA$550"),AF$1) -> 0 | AG13: =COUNTIF(INDIRECT($AD13&"!$AA$3:$AA$550"),AG$1) -> 0 | AH13: =COUNTIF(INDIRECT($AD13&"!$AA$3:$AA$550"),AH$1) -> 0 | AI13: =COUNTIF(INDIRECT($AD13&"!$AA$3:$AA$550"),AI$1) -> 0 | AJ13: =COUNTIF(INDIRECT($AD13&"!$AA$3:$AA$550"),AJ$1) -> 0 | BB13: December | BC13: =SUM(BD13:BE13) -> 0 | BD13: =COUNTIF(INDIRECT($BB13&"!$AE$3:$AE$550"), "Yes") -> 0 | BE13: =COUNTIF(INDIRECT($BB13&"!$AE$3:$AE$550"), "No") -> 0 | BW13: December | BX13: =COUNTIF(INDIRECT($BW13&"!$Y$3:$Y$550"),BX$1) -> 0 | BY13: =COUNTIF(INDIRECT($BW13&"!$Y$3:$Y$550"),BY$1) -> 0 | BZ13: =COUNTIF(INDIRECT($BW13&"!$Y$3:$Y$550"),BZ$1) -> 0 | CA13: =COUNTIF(INDIRECT($BW13&"!$Y$3:$Y$550"),CA$1) -> 0 | CB13: =COUNTIF(INDIRECT($BW13&"!$Y$3:$Y$550"),CB$1) -> 0 | CC13: =COUNTIF(INDIRECT($BW13&"!$Y$3:$Y$550"),CC$1) -> 0 | CD13: =COUNTIF(INDIRECT($BW13&"!$Y$3:$Y$550"),CD$1) -> 0 | CE13: =COUNTIF(INDIRECT($BW13&"!$Y$3:$Y$550"),CE$1) -> 0 | ... CU13: =COUNTIF(INDIRECT($BW13&"!$Y$3:$Y$550"),CU$1) -> 0 | CV13: =SUM(BX13:CU13) -> 0
BW14: Total | BX14: =SUM(BX2:BX13) -> 0 | BY14: =SUM(BY2:BY13) -> 0 | BZ14: =SUM(BZ2:BZ13) -> 0 | CA14: =SUM(CA2:CA13) -> 0 | CB14: =SUM(CB2:CB13) -> 0 | CC14: =SUM(CC2:CC13) -> 0 | CD14: =SUM(CD2:CD13) -> 0 | CE14: =SUM(CE2:CE13) -> 0 | ... CU14: =SUM(CU2:CU13) -> 0 | CV14: =SUM(BX14:CU14) -> 0
BZ17: G

Sheet January
A1: JANUARY | D1: Gray-shaded fields are automatically calculated and do not require manual entry.
A2: Patient Information | D2: Admit/Discharge Info | J2: Classification | M2: C.diff infection-specific data | Q2: Diagnostics (microbiology, other labs, radiology) | W2: Antimicrobial Starts | AI2: Other Information
A3: Unit Name | B3: MRN | C3: Room # | D3: Admit Date | E3: Discharge/ Transfer Date | F3: Discharge/ Transfer Destination | G3: Reason for Discharge/ Transfer | H3: Has patient been discharged from your facility in the past 4 weeks? | I3: Has patient been discharged from another facility in the past 4 weeks? | J3: Infection type | K3: Onset Date | L3: Device Type(s) | M3: If C.diff infection, insert date of diarrhea onset (mm/dd/yyyy) | N3: Date stool specimen collected (mm/dd/yyyy) | O3: Stool lab test positive for C. diff? Y/N | P3: Last physical overnight location prior to this one | Q3: Diagnostic Performed? Y/N | R3: Test Date | S3: Type of Test | T3: Specimen Source | U3: Antimicrobial Resistant Organism? Y/N | V3: If Yes, Specify: | W3: Category | X3: Antimicrobial | Y3: Antimicrobial Class | Z3: Provider | AA3: Antimicrobial Rx Origin | AB3: Antimicrobial Start Date | AC3: Antimicrobial End Date | AD3: Total Days of Therapy | AE3: Meets Criteria? Y/N | AF3: Antimicrobial Reassessment (Antimicrobial "Time outs") Performed? Y/N | AG3: Other Antimicrobial Prescribed Name | AH3: Other Antimicrobial Prescribed Class | AI3: Transmission-based Precautions required? Y/N | AJ3: Type of Precaution | AK3: Date Symptoms Resolved
W4: =IF(X4="","",IFERROR(_xlfn.XLOOKUP(X4,Lookups!$H:$H,Lookups!$G:$G,""),"")) | Y4: =IF(X4="","",IFERROR(_xlfn.XLOOKUP(X4,Lookups!$H:$H,Lookups!$I:$I,""),"")) | AD4: =IF(OR(ISBLANK(AB4),ISBLANK(AC4)),"",(AC4-AB4)+1) | AH4: =IF(AG4="","",IFERROR(_xlfn.XLOOKUP(AG4,Lookups!$H$2:$H$103,Lookups!$I$2:$I$103,""),""))
W5: =IF(X5="","",IFERROR(_xlfn.XLOOKUP(X5,Lookups!$H:$H,Lookups!$G:$G,""),"")) | Y5: =IF(X5="","",IFERROR(_xlfn.XLOOKUP(X5,Lookups!$H:$H,Lookups!$I:$I,""),"")) | AD5: =IF(OR(ISBLANK(AB5),ISBLANK(AC5)),"",(AC5-AB5)+1) | AH5: =IF(AG5="","",IFERROR(_xlfn.XLOOKUP(AG5,Lookups!$H$2:$H$103,Lookups!$I$2:$I$103,""),""))
W6: =IF(X6="","",IFERROR(_xlfn.XLOOKUP(X6,Lookups!$H:$H,Lookups!$G:$G,""),"")) | Y6: =IF(X6="","",IFERROR(_xlfn.XLOOKUP(X6,Lookups!$H:$H,Lookups!$I:$I,""),"")) | AD6: =IF(OR(ISBLANK(AB6),ISBLANK(AC6)),"",(AC6-AB6)+1) | AH6: =IF(AG6="","",IFERROR(_xlfn.XLOOKUP(AG6,Lookups!$H$2:$H$103,Lookups!$I$2:$I$103,""),""))
W7: =IF(X7="","",IFERROR(_xlfn.XLOOKUP(X7,Lookups!$H:$H,Lookups!$G:$G,""),"")) | Y7: =IF(X7="","",IFERROR(_xlfn.XLOOKUP(X7,Lookups!$H:$H,Lookups!$I:$I,""),"")) | AD7: =IF(OR(ISBLANK(AB7),ISBLANK(AC7)),"",(AC7-AB7)+1) | AH7: =IF(AG7="","",IFERROR(_xlfn.XLOOKUP(AG7,Lookups!$H$2:$H$103,Lookups!$I$2:$I$103,""),""))
W8: =IF(X8="","",IFERROR(_xlfn.XLOOKUP(X8,Lookups!$H:$H,Lookups!$G:$G,""),"")) | Y8: =IF(X8="","",IFERROR(_xlfn.XLOOKUP(X8,Lookups!$H:$H,Lookups!$I:$I,""),"")) | AD8: =IF(OR(ISBLANK(AB8),ISBLANK(AC8)),"",(AC8-AB8)+1) | AH8: =IF(AG8="","",IFERROR(_xlfn.XLOOKUP(AG8,Lookups!$H$2:$H$103,Lookups!$I$2:$I$103,""),""))
W9: =IF(X9="","",IFERROR(_xlfn.XLOOKUP(X9,Lookups!$H:$H,Lookups!$G:$G,""),"")) | Y9: =IF(X9="","",IFERROR(_xlfn.XLOOKUP(X9,Lookups!$H:$H,Lookups!$I:$I,""),"")) | AD9: =IF(OR(ISBLANK(AB9),ISBLANK(AC9)),"",(AC9-AB9)+1) | AH9: =IF(AG9="","",IFERROR(_xlfn.XLOOKUP(AG9,Lookups!$H$2:$H$103,Lookups!$I$2:$I$103,""),""))
W10: =IF(X10="","",IFERROR(_xlfn.XLOOKUP(X10,Lookups!$H:$H,Lookups!$G:$G,""),"")) | Y10: =IF(X10="","",IFERROR(_xlfn.XLOOKUP(X10,Lookups!$H:$H,Lookups!$I:$I,""),"")) | AD10: =IF(OR(ISBLANK(AB10),ISBLANK(AC10)),"",(AC10-AB10)+1) | AH10: =IF(AG10="","",IFERROR(_xlfn.XLOOKUP(AG10,Lookups!$H$2:$H$103,Lookups!$I$2:$I$103,""),""))
W11: =IF(X11="","",IFERROR(_xlfn.XLOOKUP(X11,Lookups!$H:$H,Lookups!$G:$G,""),"")) | Y11: =IF(X11="","",IFERROR(_xlfn.XLOOKUP(X11,Lookups!$H:$H,Lookups!$I:$I,""),"")) | AD11: =IF(OR(ISBLANK(AB11),ISBLANK(AC11)),"",(AC11-AB11)+1) | AH11: =IF(AG11="","",IFERROR(_xlfn.XLOOKUP(AG11,Lookups!$H$2:$H$103,Lookups!$I$2:$I$103,""),""))
W12: =IF(X12="","",IFERROR(_xlfn.XLOOKUP(X12,Lookups!$H:$H,Lookups!$G:$G,""),"")) | Y12: =IF(X12="","",IFERROR(_xlfn.XLOOKUP(X12,Lookups!$H:$H,Lookups!$I:$I,""),"")) | AD12: =IF(OR(ISBLANK(AB12),ISBLANK(AC12)),"",(AC12-AB12)+1) | AH12: =IF(AG12="","",IFERROR(_xlfn.XLOOKUP(AG12,Lookups!$H$2:$H$103,Lookups!$I$2:$I$103,""),""))
W13: =IF(X13="","",IFERROR(_xlfn.XLOOKUP(X13,Lookups!$H:$H,Lookups!$G:$G,""),"")) | Y13: =IF(X13="","",IFERROR(_xlfn.XLOOKUP(X13,Lookups!$H:$H,Lookups!$I:$I,""),"")) | AD13: =IF(OR(ISBLANK(AB13),ISBLANK(AC13)),"",(AC13-AB13)+1) | AH13: =IF(AG13="","",IFERROR(_xlfn.XLOOKUP(AG13,Lookups!$H$2:$H$103,Lookups!$I$2:$I$103,""),""))
W14: =IF(X14="","",IFERROR(_xlfn.XLOOKUP(X14,Lookups!$H:$H,Lookups!$G:$G,""),"")) | Y14: =IF(X14="","",IFERROR(_xlfn.XLOOKUP(X14,Lookups!$H:$H,Lookups!$I:$I,""),"")) | AD14: =IF(OR(ISBLANK(AB14),ISBLANK(AC14)),"",(AC14-AB14)+1) | AH14: =IF(AG14="","",IFERROR(_xlfn.XLOOKUP(AG14,Lookups!$H$2:$H$103,Lookups!$I$2:$I$103,""),""))
W15: =IF(X15="","",IFERROR(_xlfn.XLOOKUP(X15,Lookups!$H:$H,Lookups!$G:$G,""),"")) | Y15: =IF(X15="","",IFERROR(_xlfn.XLOOKUP(X15,Lookups!$H:$H,Lookups!$I:$I,""),"")) | AD15: =IF(OR(ISBLANK(AB15),ISBLANK(AC15)),"",(AC15-AB15)+1) | AH15: =IF(AG15="","",IFERROR(_xlfn.XLOOKUP(AG15,Lookups!$H$2:$H$103,Lookups!$I$2:$I$103,""),""))
... W54: =IF(X54="","",IFERROR(_xlfn.XLOOKUP(X54,Lookups!$H:$H,Lookups!$G:$G,""),"")) | Y54: =IF(X54="","",IFERROR(_xlfn.XLOOKUP(X54,Lookups!$H:$H,Lookups!$I:$I,""),"")) | AD54: =IF(OR(ISBLANK(AB54),ISBLANK(AC54)),"",(AC54-AB54)+1) | AH54: =IF(AG54="","",IFERROR(_xlfn.XLOOKUP(AG54,Lookups!$H$2:$H$103,Lookups!$I$2:$I$103,""),""))

Sheet February
A1: FEBRUARY | D1: Gray-shaded fields are automatically calculated and do not require manual entry.
A2: Patient Information | D2: Admit/Discharge Info | J2: Classification | M2: C.diff infection-specific data | Q2: Diagnostics (microbiology, other labs, radiology) | W2: Antimicrobial Starts | AI2: Other Information
A3: Unit Name | B3: MRN | C3: Room # | D3: Admit Date | E3: Discharge/ Transfer Date | F3: Discharge/ Transfer Destination | G3: Reason for Discharge/ Transfer | H3: Has patient been discharged from your facility in the past 4 weeks? | I3: Has patient been discharged from another facility in the past 4 weeks? | J3: Infection type | K3: Onset Date | L3: Device Type(s) | M3: If C.diff infection, insert date of diarrhea onset (mm/dd/yyyy) | N3: Date stool specimen collected (mm/dd/yyyy) | O3: Stool lab test positive for C. diff? Y/N | P3: Last physical overnight location prior to this one | Q3: Diagnostic Performed? Y/N | R3: Test Date | S3: Type of Test | T3: Specimen Source | U3: Antimicrobial Resistant Organism? Y/N | V3: If Yes, Specify: | W3: Category | X3: Antimicrobial | Y3: Antimicrobial Class | Z3: Provider | AA3: Antimicrobial Rx Origin | AB3: Antimicrobial Start Date | AC3: Antimicrobial End Date | AD3: Total Days of Therapy | AE3: Meets Criteria? Y/N | AF3: Antimicrobial Reassessment (Antimicrobial "Time outs") Performed? Y/N | AG3: Other Antimicrobial Prescribed Name | AH3: Other Antimicrobial Prescribed Class | AI3: Transmission-based Precautions required? Y/N | AJ3: Type of Precaution | AK3: Date Symptoms Resolved
W4: =IF(X4="","",IFERROR(_xlfn.XLOOKUP(X4,Lookups!$H:$H,Lookups!$G:$G,""),"")) | Y4: =IF(X4="","",IFERROR(_xlfn.XLOOKUP(X4,Lookups!$H:$H,Lookups!$I:$I,""),"")) | AD4: =IF(OR(ISBLANK(AB4),ISBLANK(AC4)),"",(AC4-AB4)+1) | AH4: =IF(AG4="","",IFERROR(_xlfn.XLOOKUP(AG4,Lookups!$H$2:$H$103,Lookups!$I$2:$I$103,""),""))
W5: =IF(X5="","",IFERROR(_xlfn.XLOOKUP(X5,Lookups!$H:$H,Lookups!$G:$G,""),"")) | Y5: =IF(X5="","",IFERROR(_xlfn.XLOOKUP(X5,Lookups!$H:$H,Lookups!$I:$I,""),"")) | AD5: =IF(OR(ISBLANK(AB5),ISBLANK(AC5)),"",(AC5-AB5)+1) | AH5: =IF(AG5="","",IFERROR(_xlfn.XLOOKUP(AG5,Lookups!$H$2:$H$103,Lookups!$I$2:$I$103,""),""))
W6: =IF(X6="","",IFERROR(_xlfn.XLOOKUP(X6,Lookups!$H:$H,Lookups!$G:$G,""),"")) | Y6: =IF(X6="","",IFERROR(_xlfn.XLOOKUP(X6,Lookups!$H:$H,Lookups!$I:$I,""),"")) | AD6: =IF(OR(ISBLANK(AB6),ISBLANK(AC6)),"",(AC6-AB6)+1) | AH6: =IF(AG6="","",IFERROR(_xlfn.XLOOKUP(AG6,Lookups!$H$2:$H$103,Lookups!$I$2:$I$103,""),""))
W7: =IF(X7="","",IFERROR(_xlfn.XLOOKUP(X7,Lookups!$H:$H,Lookups!$G:$G,""),"")) | Y7: =IF(X7="","",IFERROR(_xlfn.XLOOKUP(X7,Lookups!$H:$H,Lookups!$I:$I,""),"")) | AD7: =IF(OR(ISBLANK(AB7),ISBLANK(AC7)),"",(AC7-AB7)+1) | AH7: =IF(AG7="","",IFERROR(_xlfn.XLOOKUP(AG7,Lookups!$H$2:$H$103,Lookups!$I$2:$I$103,""),""))
W8: =IF(X8="","",IFERROR(_xlfn.XLOOKUP(X8,Lookups!$H:$H,Lookups!$G:$G,""),"")) | Y8: =IF(X8="","",IFERROR(_xlfn.XLOOKUP(X8,Lookups!$H:$H,Lookups!$I:$I,""),"")) | AD8: =IF(OR(ISBLANK(AB8),ISBLANK(AC8)),"",(AC8-AB8)+1) | AH8: =IF(AG8="","",IFERROR(_xlfn.XLOOKUP(AG8,Lookups!$H$2:$H$103,Lookups!$I$2:$I$103,""),""))
W9: =IF(X9="","",IFERROR(_xlfn.XLOOKUP(X9,Lookups!$H:$H,Lookups!$G:$G,""),"")) | Y9: =IF(X9="","",IFERROR(_xlfn.XLOOKUP(X9,Lookups!$H:$H,Lookups!$I:$I,""),"")) | AD9: =IF(OR(ISBLANK(AB9),ISBLANK(AC9)),"",(AC9-AB9)+1) | AH9: =IF(AG9="","",IFERROR(_xlfn.XLOOKUP(AG9,Lookups!$H$2:$H$103,Lookups!$I$2:$I$103,""),""))
W10: =IF(X10="","",IFERROR(_xlfn.XLOOKUP(X10,Lookups!$H:$H,Lookups!$G:$G,""),"")) | Y10: =IF(X10="","",IFERROR(_xlfn.XLOOKUP(X10,Lookups!$H:$H,Lookups!$I:$I,""),"")) | AD10: =IF(OR(ISBLANK(AB10),ISBLANK(AC10)),"",(AC10-AB10)+1) | AH10: =IF(AG10="","",IFERROR(_xlfn.XLOOKUP(AG10,Lookups!$H$2:$H$103,Lookups!$I$2:$I$103,""),""))
W11: =IF(X11="","",IFERROR(_xlfn.XLOOKUP(X11,Lookups!$H:$H,Lookups!$G:$G,""),"")) | Y11: =IF(X11="","",IFERROR(_xlfn.XLOOKUP(X11,Lookups!$H:$H,Lookups!$I:$I,""),"")) | AD11: =IF(OR(ISBLANK(AB11),ISBLANK(AC11)),"",(AC11-AB11)+1) | AH11: =IF(AG11="","",IFERROR(_xlfn.XLOOKUP(AG11,Lookups!$H$2:$H$103,Lookups!$I$2:$I$103,""),""))
W12: =IF(X12="","",IFERROR(_xlfn.XLOOKUP(X12,Lookups!$H:$H,Lookups!$G:$G,""),"")) | Y12: =IF(X12="","",IFERROR(_xlfn.XLOOKUP(X12,Lookups!$H:$H,Lookups!$I:$I,""),"")) | AD12: =IF(OR(ISBLANK(AB12),ISBLANK(AC12)),"",(AC12-AB12)+1) | AH12: =IF(AG12="","",IFERROR(_xlfn.XLOOKUP(AG12,Lookups!$H$2:$H$103,Lookups!$I$2:$I$103,""),""))
W13: =IF(X13="","",IFERROR(_xlfn.XLOOKUP(X13,Lookups!$H:$H,Lookups!$G:$G,""),"")) | Y13: =IF(X13="","",IFERROR(_xlfn.XLOOKUP(X13,Lookups!$H:$H,Lookups!$I:$I,""),"")) | AD13: =IF(OR(ISBLANK(AB13),ISBLANK(AC13)),"",(AC13-AB13)+1) | AH13: =IF(AG13="","",IFERROR(_xlfn.XLOOKUP(AG13,Lookups!$H$2:$H$103,Lookups!$I$2:$I$103,""),""))
W14: =IF(X14="","",IFERROR(_xlfn.XLOOKUP(X14,Lookups!$H:$H,Lookups!$G:$G,""),"")) | Y14: =IF(X14="","",IFERROR(_xlfn.XLOOKUP(X14,Lookups!$H:$H,Lookups!$I:$I,""),"")) | AD14: =IF(OR(ISBLANK(AB14),ISBLANK(AC14)),"",(AC14-AB14)+1) | AH14: =IF(AG14="","",IFERROR(_xlfn.XLOOKUP(AG14,Lookups!$H$2:$H$103,Lookups!$I$2:$I$103,""),""))
W15: =IF(X15="","",IFERROR(_xlfn.XLOOKUP(X15,Lookups!$H:$H,Lookups!$G:$G,""),"")) | Y15: =IF(X15="","",IFERROR(_xlfn.XLOOKUP(X15,Lookups!$H:$H,Lookups!$I:$I,""),"")) | AD15: =IF(OR(ISBLANK(AB15),ISBLANK(AC15)),"",(AC15-AB15)+1) | AH15: =IF(AG15="","",IFERROR(_xlfn.XLOOKUP(AG15,Lookups!$H$2:$H$103,Lookups!$I$2:$I$103,""),""))
... W54: =IF(X54="","",IFERROR(_xlfn.XLOOKUP(X54,Lookups!$H:$H,Lookups!$G:$G,""),"")) | Y54: =IF(X54="","",IFERROR(_xlfn.XLOOKUP(X54,Lookups!$H:$H,Lookups!$I:$I,""),"")) | AD54: =IF(OR(ISBLANK(AB54),ISBLANK(AC54)),"",(AC54-AB54)+1) | AH54: =IF(AG54="","",IFERROR(_xlfn.XLOOKUP(AG54,Lookups!$H$2:$H$103,Lookups!$I$2:$I$103,""),""))

Sheet March
A1: MARCH | D1: Gray-shaded fields are automatically calculated and do not require manual entry.
A2: Patient Information | D2: Admit/Discharge Info | J2: Classification | M2: C.diff infection-specific data | Q2: Diagnostics (microbiology, other labs, radiology) | W2: Antimicrobial Starts | AI2: Other Information
A3: Unit Name | B3: MRN | C3: Room # | D3: Admit Date | E3: Discharge/ Transfer Date | F3: Discharge/ Transfer Destination | G3: Reason for Discharge/ Transfer | H3: Has patient been discharged from your facility in the past 4 weeks? | I3: Has patient been discharged from another facility in the past 4 weeks? | J3: Infection type | K3: Onset Date | L3: Device Type(s) | M3: If C.diff infection, insert date of diarrhea onset (mm/dd/yyyy) | N3: Date stool specimen collected (mm/dd/yyyy) | O3: Stool lab test positive for C. diff? Y/N | P3: Last physical overnight location prior to this one | Q3: Diagnostic Performed? Y/N | R3: Test Date | S3: Type of Test | T3: Specimen Source | U3: Antimicrobial Resistant Organism? Y/N | V3: If Yes, Specify: | W3: Category | X3: Antimicrobial | Y3: Antimicrobial Class | Z3: Provider | AA3: Antimicrobial Rx Origin | AB3: Antimicrobial Start Date | AC3: Antimicrobial End Date | AD3: Total Days of Therapy | AE3: Meets Criteria? Y/N | AF3: Antimicrobial Reassessment (Antimicrobial "Time outs") Performed? Y/N | AG3: Other Antimicrobial Prescribed Name | AH3: Other Antimicrobial Prescribed Class | AI3: Transmission-based Precautions required? Y/N | AJ3: Type of Precaution | AK3: Date Symptoms Resolved
W4: =IF(X4="","",IFERROR(_xlfn.XLOOKUP(X4,Lookups!$H:$H,Lookups!$G:$G,""),"")) | Y4: =IF(X4="","",IFERROR(_xlfn.XLOOKUP(X4,Lookups!$H:$H,Lookups!$I:$I,""),"")) | AD4: =IF(OR(ISBLANK(AB4),ISBLANK(AC4)),"",(AC4-AB4)+1) | AH4: =IF(AG4="","",IFERROR(_xlfn.XLOOKUP(AG4,Lookups!$H$2:$H$103,Lookups!$I$2:$I$103,""),""))
W5: =IF(X5="","",IFERROR(_xlfn.XLOOKUP(X5,Lookups!$H:$H,Lookups!$G:$G,""),"")) | Y5: =IF(X5="","",IFERROR(_xlfn.XLOOKUP(X5,Lookups!$H:$H,Lookups!$I:$I,""),"")) | AD5: =IF(OR(ISBLANK(AB5),ISBLANK(AC5)),"",(AC5-AB5)+1) | AH5: =IF(AG5="","",IFERROR(_xlfn.XLOOKUP(AG5,Lookups!$H$2:$H$103,Lookups!$I$2:$I$103,""),""))
W6: =IF(X6="","",IFERROR(_xlfn.XLOOKUP(X6,Lookups!$H:$H,Lookups!$G:$G,""),"")) | Y6: =IF(X6="","",IFERROR(_xlfn.XLOOKUP(X6,Lookups!$H:$H,Lookups!$I:$I,""),"")) | AD6: =IF(OR(ISBLANK(AB6),ISBLANK(AC6)),"",(AC6-AB6)+1) | AH6: =IF(AG6="","",IFERROR(_xlfn.XLOOKUP(AG6,Lookups!$H$2:$H$103,Lookups!$I$2:$I$103,""),""))
W7: =IF(X7="","",IFERROR(_xlfn.XLOOKUP(X7,Lookups!$H:$H,Lookups!$G:$G,""),"")) | Y7: =IF(X7="","",IFERROR(_xlfn.XLOOKUP(X7,Lookups!$H:$H,Lookups!$I:$I,""),"")) | AD7: =IF(OR(ISBLANK(AB7),ISBLANK(AC7)),"",(AC7-AB7)+1) | AH7: =IF(AG7="","",IFERROR(_xlfn.XLOOKUP(AG7,Lookups!$H$2:$H$103,Lookups!$I$2:$I$103,""),""))
W8: =IF(X8="","",IFERROR(_xlfn.XLOOKUP(X8,Lookups!$H:$H,Lookups!$G:$G,""),"")) | Y8: =IF(X8="","",IFERROR(_xlfn.XLOOKUP(X8,Lookups!$H:$H,Lookups!$I:$I,""),"")) | AD8: =IF(OR(ISBLANK(AB8),ISBLANK(AC8)),"",(AC8-AB8)+1) | AH8: =IF(AG8="","",IFERROR(_xlfn.XLOOKUP(AG8,Lookups!$H$2:$H$103,Lookups!$I$2:$I$103,""),""))
W9: =IF(X9="","",IFERROR(_xlfn.XLOOKUP(X9,Lookups!$H:$H,Lookups!$G:$G,""),"")) | Y9: =IF(X9="","",IFERROR(_xlfn.XLOOKUP(X9,Lookups!$H:$H,Lookups!$I:$I,""),"")) | AD9: =IF(OR(ISBLANK(AB9),ISBLANK(AC9)),"",(AC9-AB9)+1) | AH9: =IF(AG9="","",IFERROR(_xlfn.XLOOKUP(AG9,Lookups!$H$2:$H$103,Lookups!$I$2:$I$103,""),""))
W10: =IF(X10="","",IFERROR(_xlfn.XLOOKUP(X10,Lookups!$H:$H,Lookups!$G:$G,""),"")) | Y10: =IF(X10="","",IFERROR(_xlfn.XLOOKUP(X10,Lookups!$H:$H,Lookups!$I:$I,""),"")) | AD10: =IF(OR(ISBLANK(AB10),ISBLANK(AC10)),"",(AC10-AB10)+1) | AH10: =IF(AG10="","",IFERROR(_xlfn.XLOOKUP(AG10,Lookups!$H$2:$H$103,Lookups!$I$2:$I$103,""),""))
W11: =IF(X11="","",IFERROR(_xlfn.XLOOKUP(X11,Lookups!$H:$H,Lookups!$G:$G,""),"")) | Y11: =IF(X11="","",IFERROR(_xlfn.XLOOKUP(X11,Lookups!$H:$H,Lookups!$I:$I,""),"")) | AD11: =IF(OR(ISBLANK(AB11),ISBLANK(AC11)),"",(AC11-AB11)+1) | AH11: =IF(AG11="","",IFERROR(_xlfn.XLOOKUP(AG11,Lookups!$H$2:$H$103,Lookups!$I$2:$I$103,""),""))
W12: =IF(X12="","",IFERROR(_xlfn.XLOOKUP(X12,Lookups!$H:$H,Lookups!$G:$G,""),"")) | Y12: =IF(X12="","",IFERROR(_xlfn.XLOOKUP(X12,Lookups!$H:$H,Lookups!$I:$I,""),"")) | AD12: =IF(OR(ISBLANK(AB12),ISBLANK(AC12)),"",(AC12-AB12)+1) | AH12: =IF(AG12="","",IFERROR(_xlfn.XLOOKUP(AG12,Lookups!$H$2:$H$103,Lookups!$I$2:$I$103,""),""))
W13: =IF(X13="","",IFERROR(_xlfn.XLOOKUP(X13,Lookups!$H:$H,Lookups!$G:$G,""),"")) | Y13: =IF(X13="","",IFERROR(_xlfn.XLOOKUP(X13,Lookups!$H:$H,Lookups!$I:$I,""),"")) | AD13: =IF(OR(ISBLANK(AB13),ISBLANK(AC13)),"",(AC13-AB13)+1) | AH13: =IF(AG13="","",IFERROR(_xlfn.XLOOKUP(AG13,Lookups!$H$2:$H$103,Lookups!$I$2:$I$103,""),""))
W14: =IF(X14="","",IFERROR(_xlfn.XLOOKUP(X14,Lookups!$H:$H,Lookups!$G:$G,""),"")) | Y14: =IF(X14="","",IFERROR(_xlfn.XLOOKUP(X14,Lookups!$H:$H,Lookups!$I:$I,""),"")) | AD14: =IF(OR(ISBLANK(AB14),ISBLANK(AC14)),"",(AC14-AB14)+1) | AH14: =IF(AG14="","",IFERROR(_xlfn.XLOOKUP(AG14,Lookups!$H$2:$H$103,Lookups!$I$2:$I$103,""),""))
W15: =IF(X15="","",IFERROR(_xlfn.XLOOKUP(X15,Lookups!$H:$H,Lookups!$G:$G,""),"")) | Y15: =IF(X15="","",IFERROR(_xlfn.XLOOKUP(X15,Lookups!$H:$H,Lookups!$I:$I,""),"")) | AD15: =IF(OR(ISBLANK(AB15),ISBLANK(AC15)),"",(AC15-AB15)+1) | AH15: =IF(AG15="","",IFERROR(_xlfn.XLOOKUP(AG15,Lookups!$H$2:$H$103,Lookups!$I$2:$I$103,""),""))
... W54: =IF(X54="","",IFERROR(_xlfn.XLOOKUP(X54,Lookups!$H:$H,Lookups!$G:$G,""),"")) | Y54: =IF(X54="","",IFERROR(_xlfn.XLOOKUP(X54,Lookups!$H:$H,Lookups!$I:$I,""),"")) | AD54: =IF(OR(ISBLANK(AB54),ISBLANK(AC54)),"",(AC54-AB54)+1) | AH54: =IF(AG54="","",IFERROR(_xlfn.XLOOKUP(AG54,Lookups!$H$2:$H$103,Lookups!$I$2:$I$103,""),""))

Sheet April
A1: APRIL | D1: Gray-shaded fields are automatically calculated and do not require manual entry.
A2: Patient Information | D2: Admit/Discharge Info | J2: Classification | M2: C.diff infection-specific data | Q2: Diagnostics (microbiology, other labs, radiology) | W2: Antimicrobial Starts | AI2: Other Information
A3: Unit Name | B3: MRN | C3: Room # | D3: Admit Date | E3: Discharge/ Transfer Date | F3: Discharge/ Transfer Destination | G3: Reason for Discharge/ Transfer | H3: Has patient been discharged from your facility in the past 4 weeks? | I3: Has patient been discharged from another facility in the past 4 weeks? | J3: Infection type | K3: Onset Date | L3: Device Type(s) | M3: If C.diff infection, insert date of diarrhea onset (mm/dd/yyyy) | N3: Date stool specimen collected (mm/dd/yyyy) | O3: Stool lab test positive for C. diff? Y/N | P3: Last physical overnight location prior to this one | Q3: Diagnostic Performed? Y/N | R3: Test Date | S3: Type of Test | T3: Specimen Source | U3: Antimicrobial Resistant Organism? Y/N | V3: If Yes, Specify: | W3: Category | X3: Antimicrobial | Y3: Antimicrobial Class | Z3: Provider | AA3: Antimicrobial Rx Origin | AB3: Antimicrobial Start Date | AC3: Antimicrobial End Date | AD3: Total Days of Therapy | AE3: Meets Criteria? Y/N | AF3: Antimicrobial Reassessment (Antimicrobial "Time outs") Performed? Y/N | AG3: Other Antimicrobial Prescribed Name | AH3: Other Antimicrobial Prescribed Class | AI3: Transmission-based Precautions required? Y/N | AJ3: Type of Precaution | AK3: Date Symptoms Resolved
W4: =IF(X4="","",IFERROR(_xlfn.XLOOKUP(X4,Lookups!$H:$H,Lookups!$G:$G,""),"")) | Y4: =IF(X4="","",IFERROR(_xlfn.XLOOKUP(X4,Lookups!$H:$H,Lookups!$I:$I,""),"")) | AD4: =IF(OR(ISBLANK(AB4),ISBLANK(AC4)),"",(AC4-AB4)+1) | AH4: =IF(AG4="","",IFERROR(_xlfn.XLOOKUP(AG4,Lookups!$H$2:$H$103,Lookups!$I$2:$I$103,""),""))
W5: =IF(X5="","",IFERROR(_xlfn.XLOOKUP(X5,Lookups!$H:$H,Lookups!$G:$G,""),"")) | Y5: =IF(X5="","",IFERROR(_xlfn.XLOOKUP(X5,Lookups!$H:$H,Lookups!$I:$I,""),"")) | AD5: =IF(OR(ISBLANK(AB5),ISBLANK(AC5)),"",(AC5-AB5)+1) | AH5: =IF(AG5="","",IFERROR(_xlfn.XLOOKUP(AG5,Lookups!$H$2:$H$103,Lookups!$I$2:$I$103,""),""))
W6: =IF(X6="","",IFERROR(_xlfn.XLOOKUP(X6,Lookups!$H:$H,Lookups!$G:$G,""),"")) | Y6: =IF(X6="","",IFERROR(_xlfn.XLOOKUP(X6,Lookups!$H:$H,Lookups!$I:$I,""),"")) | AD6: =IF(OR(ISBLANK(AB6),ISBLANK(AC6)),"",(AC6-AB6)+1) | AH6: =IF(AG6="","",IFERROR(_xlfn.XLOOKUP(AG6,Lookups!$H$2:$H$103,Lookups!$I$2:$I$103,""),""))
W7: =IF(X7="","",IFERROR(_xlfn.XLOOKUP(X7,Lookups!$H:$H,Lookups!$G:$G,""),"")) | Y7: =IF(X7="","",IFERROR(_xlfn.XLOOKUP(X7,Lookups!$H:$H,Lookups!$I:$I,""),"")) | AD7: =IF(OR(ISBLANK(AB7),ISBLANK(AC7)),"",(AC7-AB7)+1) | AH7: =IF(AG7="","",IFERROR(_xlfn.XLOOKUP(AG7,Lookups!$H$2:$H$103,Lookups!$I$2:$I$103,""),""))
W8: =IF(X8="","",IFERROR(_xlfn.XLOOKUP(X8,Lookups!$H:$H,Lookups!$G:$G,""),"")) | Y8: =IF(X8="","",IFERROR(_xlfn.XLOOKUP(X8,Lookups!$H:$H,Lookups!$I:$I,""),"")) | AD8: =IF(OR(ISBLANK(AB8),ISBLANK(AC8)),"",(AC8-AB8)+1) | AH8: =IF(AG8="","",IFERROR(_xlfn.XLOOKUP(AG8,Lookups!$H$2:$H$103,Lookups!$I$2:$I$103,""),""))
W9: =IF(X9="","",IFERROR(_xlfn.XLOOKUP(X9,Lookups!$H:$H,Lookups!$G:$G,""),"")) | Y9: =IF(X9="","",IFERROR(_xlfn.XLOOKUP(X9,Lookups!$H:$H,Lookups!$I:$I,""),"")) | AD9: =IF(OR(ISBLANK(AB9),ISBLANK(AC9)),"",(AC9-AB9)+1) | AH9: =IF(AG9="","",IFERROR(_xlfn.XLOOKUP(AG9,Lookups!$H$2:$H$103,Lookups!$I$2:$I$103,""),""))
W10: =IF(X10="","",IFERROR(_xlfn.XLOOKUP(X10,Lookups!$H:$H,Lookups!$G:$G,""),"")) | Y10: =IF(X10="","",IFERROR(_xlfn.XLOOKUP(X10,Lookups!$H:$H,Lookups!$I:$I,""),"")) | AD10: =IF(OR(ISBLANK(AB10),ISBLANK(AC10)),"",(AC10-AB10)+1) | AH10: =IF(AG10="","",IFERROR(_xlfn.XLOOKUP(AG10,Lookups!$H$2:$H$103,Lookups!$I$2:$I$103,""),""))
W11: =IF(X11="","",IFERROR(_xlfn.XLOOKUP(X11,Lookups!$H:$H,Lookups!$G:$G,""),"")) | Y11: =IF(X11="","",IFERROR(_xlfn.XLOOKUP(X11,Lookups!$H:$H,Lookups!$I:$I,""),"")) | AD11: =IF(OR(ISBLANK(AB11),ISBLANK(AC11)),"",(AC11-AB11)+1) | AH11: =IF(AG11="","",IFERROR(_xlfn.XLOOKUP(AG11,Lookups!$H$2:$H$103,Lookups!$I$2:$I$103,""),""))
W12: =IF(X12="","",IFERROR(_xlfn.XLOOKUP(X12,Lookups!$H:$H,Lookups!$G:$G,""),"")) | Y12: =IF(X12="","",IFERROR(_xlfn.XLOOKUP(X12,Lookups!$H:$H,Lookups!$I:$I,""),"")) | AD12: =IF(OR(ISBLANK(AB12),ISBLANK(AC12)),"",(AC12-AB12)+1) | AH12: =IF(AG12="","",IFERROR(_xlfn.XLOOKUP(AG12,Lookups!$H$2:$H$103,Lookups!$I$2:$I$103,""),""))
W13: =IF(X13="","",IFERROR(_xlfn.XLOOKUP(X13,Lookups!$H:$H,Lookups!$G:$G,""),"")) | Y13: =IF(X13="","",IFERROR(_xlfn.XLOOKUP(X13,Lookups!$H:$H,Lookups!$I:$I,""),"")) | AD13: =IF(OR(ISBLANK(AB13),ISBLANK(AC13)),"",(AC13-AB13)+1) | AH13: =IF(AG13="","",IFERROR(_xlfn.XLOOKUP(AG13,Lookups!$H$2:$H$103,Lookups!$I$2:$I$103,""),""))
W14: =IF(X14="","",IFERROR(_xlfn.XLOOKUP(X14,Lookups!$H:$H,Lookups!$G:$G,""),"")) | Y14: =IF(X14="","",IFERROR(_xlfn.XLOOKUP(X14,Lookups!$H:$H,Lookups!$I:$I,""),"")) | AD14: =IF(OR(ISBLANK(AB14),ISBLANK(AC14)),"",(AC14-AB14)+1) | AH14: =IF(AG14="","",IFERROR(_xlfn.XLOOKUP(AG14,Lookups!$H$2:$H$103,Lookups!$I$2:$I$103,""),""))
W15: =IF(X15="","",IFERROR(_xlfn.XLOOKUP(X15,Lookups!$H:$H,Lookups!$G:$G,""),"")) | Y15: =IF(X15="","",IFERROR(_xlfn.XLOOKUP(X15,Lookups!$H:$H,Lookups!$I:$I,""),"")) | AD15: =IF(OR(ISBLANK(AB15),ISBLANK(AC15)),"",(AC15-AB15)+1) | AH15: =IF(AG15="","",IFERROR(_xlfn.XLOOKUP(AG15,Lookups!$H$2:$H$103,Lookups!$I$2:$I$103,""),""))
... W54: =IF(X54="","",IFERROR(_xlfn.XLOOKUP(X54,Lookups!$H:$H,Lookups!$G:$G,""),"")) | Y54: =IF(X54="","",IFERROR(_xlfn.XLOOKUP(X54,Lookups!$H:$H,Lookups!$I:$I,""),"")) | AD54: =IF(OR(ISBLANK(AB54),ISBLANK(AC54)),"",(AC54-AB54)+1) | AH54: =IF(AG54="","",IFERROR(_xlfn.XLOOKUP(AG54,Lookups!$H$2:$H$103,Lookups!$I$2:$I$103,""),""))

Sheet May
A1: MAY | D1: Gray-shaded fields are automatically calculated and do not require manual entry.
A2: Patient Information | D2: Admit/Discharge Info | J2: Classification | M2: C.diff infection-specific data | Q2: Diagnostics (microbiology, other labs, radiology) | W2: Antimicrobial Starts | AI2: Other Information
A3: Unit Name | B3: MRN | C3: Room # | D3: Admit Date | E3: Discharge/ Transfer Date | F3: Discharge/ Transfer Destination | G3: Reason for Discharge/ Transfer | H3: Has patient been discharged from your facility in the past 4 weeks? | I3: Has patient been discharged from another facility in the past 4 weeks? | J3: Infection type | K3: Onset Date | L3: Device Type(s) | M3: If C.diff infection, insert date of diarrhea onset (mm/dd/yyyy) | N3: Date stool specimen collected (mm/dd/yyyy) | O3: Stool lab test positive for C. diff? Y/N | P3: Last physical overnight location prior to this one | Q3: Diagnostic Performed? Y/N | R3: Test Date | S3: Type of Test | T3: Specimen Source | U3: Antimicrobial Resistant Organism? Y/N | V3: If Yes, Specify: | W3: Category | X3: Antimicrobial | Y3: Antimicrobial Class | Z3: Provider | AA3: Antimicrobial Rx Origin | AB3: Antimicrobial Start Date | AC3: Antimicrobial End Date | AD3: Total Days of Therapy | AE3: Meets Criteria? Y/N | AF3: Antimicrobial Reassessment (Antimicrobial "Time outs") Performed? Y/N | AG3: Other Antimicrobial Prescribed Name | AH3: Other Antimicrobial Prescribed Class | AI3: Transmission-based Precautions required? Y/N | AJ3: Type of Precaution | AK3: Date Symptoms Resolved
W4: =IF(X4="","",IFERROR(_xlfn.XLOOKUP(X4,Lookups!$H:$H,Lookups!$G:$G,""),"")) | Y4: =IF(X4="","",IFERROR(_xlfn.XLOOKUP(X4,Lookups!$H:$H,Lookups!$I:$I,""),"")) | AD4: =IF(OR(ISBLANK(AB4),ISBLANK(AC4)),"",(AC4-AB4)+1) | AH4: =IF(AG4="","",IFERROR(_xlfn.XLOOKUP(AG4,Lookups!$H$2:$H$103,Lookups!$I$2:$I$103,""),""))
W5: =IF(X5="","",IFERROR(_xlfn.XLOOKUP(X5,Lookups!$H:$H,Lookups!$G:$G,""),"")) | Y5: =IF(X5="","",IFERROR(_xlfn.XLOOKUP(X5,Lookups!$H:$H,Lookups!$I:$I,""),"")) | AD5: =IF(OR(ISBLANK(AB5),ISBLANK(AC5)),"",(AC5-AB5)+1) | AH5: =IF(AG5="","",IFERROR(_xlfn.XLOOKUP(AG5,Lookups!$H$2:$H$103,Lookups!$I$2:$I$103,""),""))
W6: =IF(X6="","",IFERROR(_xlfn.XLOOKUP(X6,Lookups!$H:$H,Lookups!$G:$G,""),"")) | Y6: =IF(X6="","",IFERROR(_xlfn.XLOOKUP(X6,Lookups!$H:$H,Lookups!$I:$I,""),"")) | AD6: =IF(OR(ISBLANK(AB6),ISBLANK(AC6)),"",(AC6-AB6)+1) | AH6: =IF(AG6="","",IFERROR(_xlfn.XLOOKUP(AG6,Lookups!$H$2:$H$103,Lookups!$I$2:$I$103,""),""))
W7: =IF(X7="","",IFERROR(_xlfn.XLOOKUP(X7,Lookups!$H:$H,Lookups!$G:$G,""),"")) | Y7: =IF(X7="","",IFERROR(_xlfn.XLOOKUP(X7,Lookups!$H:$H,Lookups!$I:$I,""),"")) | AD7: =IF(OR(ISBLANK(AB7),ISBLANK(AC7)),"",(AC7-AB7)+1) | AH7: =IF(AG7="","",IFERROR(_xlfn.XLOOKUP(AG7,Lookups!$H$2:$H$103,Lookups!$I$2:$I$103,""),""))
W8: =IF(X8="","",IFERROR(_xlfn.XLOOKUP(X8,Lookups!$H:$H,Lookups!$G:$G,""),"")) | Y8: =IF(X8="","",IFERROR(_xlfn.XLOOKUP(X8,Lookups!$H:$H,Lookups!$I:$I,""),"")) | AD8: =IF(OR(ISBLANK(AB8),ISBLANK(AC8)),"",(AC8-AB8)+1) | AH8: =IF(AG8="","",IFERROR(_xlfn.XLOOKUP(AG8,Lookups!$H$2:$H$103,Lookups!$I$2:$I$103,""),""))
W9: =IF(X9="","",IFERROR(_xlfn.XLOOKUP(X9,Lookups!$H:$H,Lookups!$G:$G,""),"")) | Y9: =IF(X9="","",IFERROR(_xlfn.XLOOKUP(X9,Lookups!$H:$H,Lookups!$I:$I,""),"")) | AD9: =IF(OR(ISBLANK(AB9),ISBLANK(AC9)),"",(AC9-AB9)+1) | AH9: =IF(AG9="","",IFERROR(_xlfn.XLOOKUP(AG9,Lookups!$H$2:$H$103,Lookups!$I$2:$I$103,""),""))
W10: =IF(X10="","",IFERROR(_xlfn.XLOOKUP(X10,Lookups!$H:$H,Lookups!$G:$G,""),"")) | Y10: =IF(X10="","",IFERROR(_xlfn.XLOOKUP(X10,Lookups!$H:$H,Lookups!$I:$I,""),"")) | AD10: =IF(OR(ISBLANK(AB10),ISBLANK(AC10)),"",(AC10-AB10)+1) | AH10: =IF(AG10="","",IFERROR(_xlfn.XLOOKUP(AG10,Lookups!$H$2:$H$103,Lookups!$I$2:$I$103,""),""))
W11: =IF(X11="","",IFERROR(_xlfn.XLOOKUP(X11,Lookups!$H:$H,Lookups!$G:$G,""),"")) | Y11: =IF(X11="","",IFERROR(_xlfn.XLOOKUP(X11,Lookups!$H:$H,Lookups!$I:$I,""),"")) | AD11: =IF(OR(ISBLANK(AB11),ISBLANK(AC11)),"",(AC11-AB11)+1) | AH11: =IF(AG11="","",IFERROR(_xlfn.XLOOKUP(AG11,Lookups!$H$2:$H$103,Lookups!$I$2:$I$103,""),""))
W12: =IF(X12="","",IFERROR(_xlfn.XLOOKUP(X12,Lookups!$H:$H,Lookups!$G:$G,""),"")) | Y12: =IF(X12="","",IFERROR(_xlfn.XLOOKUP(X12,Lookups!$H:$H,Lookups!$I:$I,""),"")) | AD12: =IF(OR(ISBLANK(AB12),ISBLANK(AC12)),"",(AC12-AB12)+1) | AH12: =IF(AG12="","",IFERROR(_xlfn.XLOOKUP(AG12,Lookups!$H$2:$H$103,Lookups!$I$2:$I$103,""),""))
W13: =IF(X13="","",IFERROR(_xlfn.XLOOKUP(X13,Lookups!$H:$H,Lookups!$G:$G,""),"")) | Y13: =IF(X13="","",IFERROR(_xlfn.XLOOKUP(X13,Lookups!$H:$H,Lookups!$I:$I,""),"")) | AD13: =IF(OR(ISBLANK(AB13),ISBLANK(AC13)),"",(AC13-AB13)+1) | AH13: =IF(AG13="","",IFERROR(_xlfn.XLOOKUP(AG13,Lookups!$H$2:$H$103,Lookups!$I$2:$I$103,""),""))
W14: =IF(X14="","",IFERROR(_xlfn.XLOOKUP(X14,Lookups!$H:$H,Lookups!$G:$G,""),"")) | Y14: =IF(X14="","",IFERROR(_xlfn.XLOOKUP(X14,Lookups!$H:$H,Lookups!$I:$I,""),"")) | AD14: =IF(OR(ISBLANK(AB14),ISBLANK(AC14)),"",(AC14-AB14)+1) | AH14: =IF(AG14="","",IFERROR(_xlfn.XLOOKUP(AG14,Lookups!$H$2:$H$103,Lookups!$I$2:$I$103,""),""))
W15: =IF(X15="","",IFERROR(_xlfn.XLOOKUP(X15,Lookups!$H:$H,Lookups!$G:$G,""),"")) | Y15: =IF(X15="","",IFERROR(_xlfn.XLOOKUP(X15,Lookups!$H:$H,Lookups!$I:$I,""),"")) | AD15: =IF(OR(ISBLANK(AB15),ISBLANK(AC15)),"",(AC15-AB15)+1) | AH15: =IF(AG15="","",IFERROR(_xlfn.XLOOKUP(AG15,Lookups!$H$2:$H$103,Lookups!$I$2:$I$103,""),""))
... W54: =IF(X54="","",IFERROR(_xlfn.XLOOKUP(X54,Lookups!$H:$H,Lookups!$G:$G,""),"")) | Y54: =IF(X54="","",IFERROR(_xlfn.XLOOKUP(X54,Lookups!$H:$H,Lookups!$I:$I,""),"")) | AD54: =IF(OR(ISBLANK(AB54),ISBLANK(AC54)),"",(AC54-AB54)+1) | AH54: =IF(AG54="","",IFERROR(_xlfn.XLOOKUP(AG54,Lookups!$H$2:$H$103,Lookups!$I$2:$I$103,""),""))

Sheet June
A1: JUNE | D1: Gray-shaded fields are automatically calculated and do not require manual entry.
A2: Patient Information | D2: Admit/Discharge Info | J2: Classification | M2: C.diff infection-specific data | Q2: Diagnostics (microbiology, other labs, radiology) | W2: Antimicrobial Starts | AI2: Other Information
A3: Unit Name | B3: MRN | C3: Room # | D3: Admit Date | E3: Discharge/ Transfer Date | F3: Discharge/ Transfer Destination | G3: Reason for Discharge/ Transfer | H3: Has patient been discharged from your facility in the past 4 weeks? | I3: Has patient been discharged from another facility in the past 4 weeks? | J3: Infection type | K3: Onset Date | L3: Device Type(s) | M3: If C.diff infection, insert date of diarrhea onset (mm/dd/yyyy) | N3: Date stool specimen collected (mm/dd/yyyy) | O3: Stool lab test positive for C. diff? Y/N | P3: Last physical overnight location prior to this one | Q3: Diagnostic Performed? Y/N | R3: Test Date | S3: Type of Test | T3: Specimen Source | U3: Antimicrobial Resistant Organism? Y/N | V3: If Yes, Specify: | W3: Category | X3: Antimicrobial | Y3: Antimicrobial Class | Z3: Provider | AA3: Antimicrobial Rx Origin | AB3: Antimicrobial Start Date | AC3: Antimicrobial End Date | AD3: Total Days of Therapy | AE3: Meets Criteria? Y/N | AF3: Antimicrobial Reassessment (Antimicrobial "Time outs") Performed? Y/N | AG3: Other Antimicrobial Prescribed Name | AH3: Other Antimicrobial Prescribed Class | AI3: Transmission-based Precautions required? Y/N | AJ3: Type of Precaution | AK3: Date Symptoms Resolved
W4: =IF(X4="","",IFERROR(_xlfn.XLOOKUP(X4,Lookups!$H:$H,Lookups!$G:$G,""),"")) | Y4: =IF(X4="","",IFERROR(_xlfn.XLOOKUP(X4,Lookups!$H:$H,Lookups!$I:$I,""),"")) | AD4: =IF(OR(ISBLANK(AB4),ISBLANK(AC4)),"",(AC4-AB4)+1) | AH4: =IF(AG4="","",IFERROR(_xlfn.XLOOKUP(AG4,Lookups!$H$2:$H$103,Lookups!$I$2:$I$103,""),""))
W5: =IF(X5="","",IFERROR(_xlfn.XLOOKUP(X5,Lookups!$H:$H,Lookups!$G:$G,""),"")) | Y5: =IF(X5="","",IFERROR(_xlfn.XLOOKUP(X5,Lookups!$H:$H,Lookups!$I:$I,""),"")) | AD5: =IF(OR(ISBLANK(AB5),ISBLANK(AC5)),"",(AC5-AB5)+1) | AH5: =IF(AG5="","",IFERROR(_xlfn.XLOOKUP(AG5,Lookups!$H$2:$H$103,Lookups!$I$2:$I$103,""),""))
W6: =IF(X6="","",IFERROR(_xlfn.XLOOKUP(X6,Lookups!$H:$H,Lookups!$G:$G,""),"")) | Y6: =IF(X6="","",IFERROR(_xlfn.XLOOKUP(X6,Lookups!$H:$H,Lookups!$I:$I,""),"")) | AD6: =IF(OR(ISBLANK(AB6),ISBLANK(AC6)),"",(AC6-AB6)+1) | AH6: =IF(AG6="","",IFERROR(_xlfn.XLOOKUP(AG6,Lookups!$H$2:$H$103,Lookups!$I$2:$I$103,""),""))
W7: =IF(X7="","",IFERROR(_xlfn.XLOOKUP(X7,Lookups!$H:$H,Lookups!$G:$G,""),"")) | Y7: =IF(X7="","",IFERROR(_xlfn.XLOOKUP(X7,Lookups!$H:$H,Lookups!$I:$I,""),"")) | AD7: =IF(OR(ISBLANK(AB7),ISBLANK(AC7)),"",(AC7-AB7)+1) | AH7: =IF(AG7="","",IFERROR(_xlfn.XLOOKUP(AG7,Lookups!$H$2:$H$103,Lookups!$I$2:$I$103,""),""))
W8: =IF(X8="","",IFERROR(_xlfn.XLOOKUP(X8,Lookups!$H:$H,Lookups!$G:$G,""),"")) | Y8: =IF(X8="","",IFERROR(_xlfn.XLOOKUP(X8,Lookups!$H:$H,Lookups!$I:$I,""),"")) | AD8: =IF(OR(ISBLANK(AB8),ISBLANK(AC8)),"",(AC8-AB8)+1) | AH8: =IF(AG8="","",IFERROR(_xlfn.XLOOKUP(AG8,Lookups!$H$2:$H$103,Lookups!$I$2:$I$103,""),""))
W9: =IF(X9="","",IFERROR(_xlfn.XLOOKUP(X9,Lookups!$H:$H,Lookups!$G:$G,""),"")) | Y9: =IF(X9="","",IFERROR(_xlfn.XLOOKUP(X9,Lookups!$H:$H,Lookups!$I:$I,""),"")) | AD9: =IF(OR(ISBLANK(AB9),ISBLANK(AC9)),"",(AC9-AB9)+1) | AH9: =IF(AG9="","",IFERROR(_xlfn.XLOOKUP(AG9,Lookups!$H$2:$H$103,Lookups!$I$2:$I$103,""),""))
W10: =IF(X10="","",IFERROR(_xlfn.XLOOKUP(X10,Lookups!$H:$H,Lookups!$G:$G,""),"")) | Y10: =IF(X10="","",IFERROR(_xlfn.XLOOKUP(X10,Lookups!$H:$H,Lookups!$I:$I,""),"")) | AD10: =IF(OR(ISBLANK(AB10),ISBLANK(AC10)),"",(AC10-AB10)+1) | AH10: =IF(AG10="","",IFERROR(_xlfn.XLOOKUP(AG10,Lookups!$H$2:$H$103,Lookups!$I$2:$I$103,""),""))
W11: =IF(X11="","",IFERROR(_xlfn.XLOOKUP(X11,Lookups!$H:$H,Lookups!$G:$G,""),"")) | Y11: =IF(X11="","",IFERROR(_xlfn.XLOOKUP(X11,Lookups!$H:$H,Lookups!$I:$I,""),"")) | AD11: =IF(OR(ISBLANK(AB11),ISBLANK(AC11)),"",(AC11-AB11)+1) | AH11: =IF(AG11="","",IFERROR(_xlfn.XLOOKUP(AG11,Lookups!$H$2:$H$103,Lookups!$I$2:$I$103,""),""))
W12: =IF(X12="","",IFERROR(_xlfn.XLOOKUP(X12,Lookups!$H:$H,Lookups!$G:$G,""),"")) | Y12: =IF(X12="","",IFERROR(_xlfn.XLOOKUP(X12,Lookups!$H:$H,Lookups!$I:$I,""),"")) | AD12: =IF(OR(ISBLANK(AB12),ISBLANK(AC12)),"",(AC12-AB12)+1) | AH12: =IF(AG12="","",IFERROR(_xlfn.XLOOKUP(AG12,Lookups!$H$2:$H$103,Lookups!$I$2:$I$103,""),""))
W13: =IF(X13="","",IFERROR(_xlfn.XLOOKUP(X13,Lookups!$H:$H,Lookups!$G:$G,""),"")) | Y13: =IF(X13="","",IFERROR(_xlfn.XLOOKUP(X13,Lookups!$H:$H,Lookups!$I:$I,""),"")) | AD13: =IF(OR(ISBLANK(AB13),ISBLANK(AC13)),"",(AC13-AB13)+1) | AH13: =IF(AG13="","",IFERROR(_xlfn.XLOOKUP(AG13,Lookups!$H$2:$H$103,Lookups!$I$2:$I$103,""),""))
W14: =IF(X14="","",IFERROR(_xlfn.XLOOKUP(X14,Lookups!$H:$H,Lookups!$G:$G,""),"")) | Y14: =IF(X14="","",IFERROR(_xlfn.XLOOKUP(X14,Lookups!$H:$H,Lookups!$I:$I,""),"")) | AD14: =IF(OR(ISBLANK(AB14),ISBLANK(AC14)),"",(AC14-AB14)+1) | AH14: =IF(AG14="","",IFERROR(_xlfn.XLOOKUP(AG14,Lookups!$H$2:$H$103,Lookups!$I$2:$I$103,""),""))
W15: =IF(X15="","",IFERROR(_xlfn.XLOOKUP(X15,Lookups!$H:$H,Lookups!$G:$G,""),"")) | Y15: =IF(X15="","",IFERROR(_xlfn.XLOOKUP(X15,Lookups!$H:$H,Lookups!$I:$I,""),"")) | AD15: =IF(OR(ISBLANK(AB15),ISBLANK(AC15)),"",(AC15-AB15)+1) | AH15: =IF(AG15="","",IFERROR(_xlfn.XLOOKUP(AG15,Lookups!$H$2:$H$103,Lookups!$I$2:$I$103,""),""))
... W54: =IF(X54="","",IFERROR(_xlfn.XLOOKUP(X54,Lookups!$H:$H,Lookups!$G:$G,""),"")) | Y54: =IF(X54="","",IFERROR(_xlfn.XLOOKUP(X54,Lookups!$H:$H,Lookups!$I:$I,""),"")) | AD54: =IF(OR(ISBLANK(AB54),ISBLANK(AC54)),"",(AC54-AB54)+1) | AH54: =IF(AG54="","",IFERROR(_xlfn.XLOOKUP(AG54,Lookups!$H$2:$H$103,Lookups!$I$2:$I$103,""),""))

Sheet July
A1: JULY | D1: Gray-shaded fields are automatically calculated and do not require manual entry.
A2: Patient Information | D2: Admit/Discharge Info | J2: Classification | M2: C.diff infection-specific data | Q2: Diagnostics (microbiology, other labs, radiology) | W2: Antimicrobial Starts | AI2: Other Information
A3: Unit Name | B3: MRN | C3: Room # | D3: Admit Date | E3: Discharge/ Transfer Date | F3: Discharge/ Transfer Destination | G3: Reason for Discharge/ Transfer | H3: Has patient been discharged from your facility in the past 4 weeks? | I3: Has patient been discharged from another facility in the past 4 weeks? | J3: Infection type | K3: Onset Date | L3: Device Type(s) | M3: If C.diff infection, insert date of diarrhea onset (mm/dd/yyyy) | N3: Date stool specimen collected (mm/dd/yyyy) | O3: Stool lab test positive for C. diff? Y/N | P3: Last physical overnight location prior to this one | Q3: Diagnostic Performed? Y/N | R3: Test Date | S3: Type of Test | T3: Specimen Source | U3: Antimicrobial Resistant Organism? Y/N | V3: If Yes, Specify: | W3: Category | X3: Antimicrobial | Y3: Antimicrobial Class | Z3: Provider | AA3: Antimicrobial Rx Origin | AB3: Antimicrobial Start Date | AC3: Antimicrobial End Date | AD3: Total Days of Therapy | AE3: Meets Criteria? Y/N | AF3: Antimicrobial Reassessment (Antimicrobial "Time outs") Performed? Y/N | AG3: Other Antimicrobial Prescribed Name | AH3: Other Antimicrobial Prescribed Class | AI3: Transmission-based Precautions required? Y/N | AJ3: Type of Precaution | AK3: Date Symptoms Resolved
W4: =IF(X4="","",IFERROR(_xlfn.XLOOKUP(X4,Lookups!$H:$H,Lookups!$G:$G,""),"")) | Y4: =IF(X4="","",IFERROR(_xlfn.XLOOKUP(X4,Lookups!$H:$H,Lookups!$I:$I,""),"")) | AD4: =IF(OR(ISBLANK(AB4),ISBLANK(AC4)),"",(AC4-AB4)+1) | AH4: =IF(AG4="","",IFERROR(_xlfn.XLOOKUP(AG4,Lookups!$H$2:$H$103,Lookups!$I$2:$I$103,""),""))
W5: =IF(X5="","",IFERROR(_xlfn.XLOOKUP(X5,Lookups!$H:$H,Lookups!$G:$G,""),"")) | Y5: =IF(X5="","",IFERROR(_xlfn.XLOOKUP(X5,Lookups!$H:$H,Lookups!$I:$I,""),"")) | AD5: =IF(OR(ISBLANK(AB5),ISBLANK(AC5)),"",(AC5-AB5)+1) | AH5: =IF(AG5="","",IFERROR(_xlfn.XLOOKUP(AG5,Lookups!$H$2:$H$103,Lookups!$I$2:$I$103,""),""))
W6: =IF(X6="","",IFERROR(_xlfn.XLOOKUP(X6,Lookups!$H:$H,Lookups!$G:$G,""),"")) | Y6: =IF(X6="","",IFERROR(_xlfn.XLOOKUP(X6,Lookups!$H:$H,Lookups!$I:$I,""),"")) | AD6: =IF(OR(ISBLANK(AB6),ISBLANK(AC6)),"",(AC6-AB6)+1) | AH6: =IF(AG6="","",IFERROR(_xlfn.XLOOKUP(AG6,Lookups!$H$2:$H$103,Lookups!$I$2:$I$103,""),""))
W7: =IF(X7="","",IFERROR(_xlfn.XLOOKUP(X7,Lookups!$H:$H,Lookups!$G:$G,""),"")) | Y7: =IF(X7="","",IFERROR(_xlfn.XLOOKUP(X7,Lookups!$H:$H,Lookups!$I:$I,""),"")) | AD7: =IF(OR(ISBLANK(AB7),ISBLANK(AC7)),"",(AC7-AB7)+1) | AH7: =IF(AG7="","",IFERROR(_xlfn.XLOOKUP(AG7,Lookups!$H$2:$H$103,Lookups!$I$2:$I$103,""),""))
W8: =IF(X8="","",IFERROR(_xlfn.XLOOKUP(X8,Lookups!$H:$H,Lookups!$G:$G,""),"")) | Y8: =IF(X8="","",IFERROR(_xlfn.XLOOKUP(X8,Lookups!$H:$H,Lookups!$I:$I,""),"")) | AD8: =IF(OR(ISBLANK(AB8),ISBLANK(AC8)),"",(AC8-AB8)+1) | AH8: =IF(AG8="","",IFERROR(_xlfn.XLOOKUP(AG8,Lookups!$H$2:$H$103,Lookups!$I$2:$I$103,""),""))
W9: =IF(X9="","",IFERROR(_xlfn.XLOOKUP(X9,Lookups!$H:$H,Lookups!$G:$G,""),"")) | Y9: =IF(X9="","",IFERROR(_xlfn.XLOOKUP(X9,Lookups!$H:$H,Lookups!$I:$I,""),"")) | AD9: =IF(OR(ISBLANK(AB9),ISBLANK(AC9)),"",(AC9-AB9)+1) | AH9: =IF(AG9="","",IFERROR(_xlfn.XLOOKUP(AG9,Lookups!$H$2:$H$103,Lookups!$I$2:$I$103,""),""))
W10: =IF(X10="","",IFERROR(_xlfn.XLOOKUP(X10,Lookups!$H:$H,Lookups!$G:$G,""),"")) | Y10: =IF(X10="","",IFERROR(_xlfn.XLOOKUP(X10,Lookups!$H:$H,Lookups!$I:$I,""),"")) | AD10: =IF(OR(ISBLANK(AB10),ISBLANK(AC10)),"",(AC10-AB10)+1) | AH10: =IF(AG10="","",IFERROR(_xlfn.XLOOKUP(AG10,Lookups!$H$2:$H$103,Lookups!$I$2:$I$103,""),""))
W11: =IF(X11="","",IFERROR(_xlfn.XLOOKUP(X11,Lookups!$H:$H,Lookups!$G:$G,""),"")) | Y11: =IF(X11="","",IFERROR(_xlfn.XLOOKUP(X11,Lookups!$H:$H,Lookups!$I:$I,""),"")) | AD11: =IF(OR(ISBLANK(AB11),ISBLANK(AC11)),"",(AC11-AB11)+1) | AH11: =IF(AG11="","",IFERROR(_xlfn.XLOOKUP(AG11,Lookups!$H$2:$H$103,Lookups!$I$2:$I$103,""),""))
W12: =IF(X12="","",IFERROR(_xlfn.XLOOKUP(X12,Lookups!$H:$H,Lookups!$G:$G,""),"")) | Y12: =IF(X12="","",IFERROR(_xlfn.XLOOKUP(X12,Lookups!$H:$H,Lookups!$I:$I,""),"")) | AD12: =IF(OR(ISBLANK(AB12),ISBLANK(AC12)),"",(AC12-AB12)+1) | AH12: =IF(AG12="","",IFERROR(_xlfn.XLOOKUP(AG12,Lookups!$H$2:$H$103,Lookups!$I$2:$I$103,""),""))
W13: =IF(X13="","",IFERROR(_xlfn.XLOOKUP(X13,Lookups!$H:$H,Lookups!$G:$G,""),"")) | Y13: =IF(X13="","",IFERROR(_xlfn.XLOOKUP(X13,Lookups!$H:$H,Lookups!$I:$I,""),"")) | AD13: =IF(OR(ISBLANK(AB13),ISBLANK(AC13)),"",(AC13-AB13)+1) | AH13: =IF(AG13="","",IFERROR(_xlfn.XLOOKUP(AG13,Lookups!$H$2:$H$103,Lookups!$I$2:$I$103,""),""))
W14: =IF(X14="","",IFERROR(_xlfn.XLOOKUP(X14,Lookups!$H:$H,Lookups!$G:$G,""),"")) | Y14: =IF(X14="","",IFERROR(_xlfn.XLOOKUP(X14,Lookups!$H:$H,Lookups!$I:$I,""),"")) | AD14: =IF(OR(ISBLANK(AB14),ISBLANK(AC14)),"",(AC14-AB14)+1) | AH14: =IF(AG14="","",IFERROR(_xlfn.XLOOKUP(AG14,Lookups!$H$2:$H$103,Lookups!$I$2:$I$103,""),""))
W15: =IF(X15="","",IFERROR(_xlfn.XLOOKUP(X15,Lookups!$H:$H,Lookups!$G:$G,""),"")) | Y15: =IF(X15="","",IFERROR(_xlfn.XLOOKUP(X15,Lookups!$H:$H,Lookups!$I:$I,""),"")) | AD15: =IF(OR(ISBLANK(AB15),ISBLANK(AC15)),"",(AC15-AB15)+1) | AH15: =IF(AG15="","",IFERROR(_xlfn.XLOOKUP(AG15,Lookups!$H$2:$H$103,Lookups!$I$2:$I$103,""),""))
... W54: =IF(X54="","",IFERROR(_xlfn.XLOOKUP(X54,Lookups!$H:$H,Lookups!$G:$G,""),"")) | Y54: =IF(X54="","",IFERROR(_xlfn.XLOOKUP(X54,Lookups!$H:$H,Lookups!$I:$I,""),"")) | AD54: =IF(OR(ISBLANK(AB54),ISBLANK(AC54)),"",(AC54-AB54)+1) | AH54: =IF(AG54="","",IFERROR(_xlfn.XLOOKUP(AG54,Lookups!$H$2:$H$103,Lookups!$I$2:$I$103,""),""))

Sheet August
A1: AUGUST | D1: Gray-shaded fields are automatically calculated and do not require manual entry.
A2: Patient Information | D2: Admit/Discharge Info | J2: Classification | M2: C.diff infection-specific data | Q2: Diagnostics (microbiology, other labs, radiology) | W2: Antimicrobial Starts | AI2: Other Information
A3: Unit Name | B3: MRN | C3: Room # | D3: Admit Date | E3: Discharge/ Transfer Date | F3: Discharge/ Transfer Destination | G3: Reason for Discharge/ Transfer | H3: Has patient been discharged from your facility in the past 4 weeks? | I3: Has patient been discharged from another facility in the past 4 weeks? | J3: Infection type | K3: Onset Date | L3: Device Type(s) | M3: If C.diff infection, insert date of diarrhea onset (mm/dd/yyyy) | N3: Date stool specimen collected (mm/dd/yyyy) | O3: Stool lab test positive for C. diff? Y/N | P3: Last physical overnight location prior to this one | Q3: Diagnostic Performed? Y/N | R3: Test Date | S3: Type of Test | T3: Specimen Source | U3: Antimicrobial Resistant Organism? Y/N | V3: If Yes, Specify: | W3: Category | X3: Antimicrobial | Y3: Antimicrobial Class | Z3: Provider | AA3: Antimicrobial Rx Origin | AB3: Antimicrobial Start Date | AC3: Antimicrobial End Date | AD3: Total Days of Therapy | AE3: Meets Criteria? Y/N | AF3: Antimicrobial Reassessment (Antimicrobial "Time outs") Performed? Y/N | AG3: Other Antimicrobial Prescribed Name | AH3: Other Antimicrobial Prescribed Class | AI3: Transmission-based Precautions required? Y/N | AJ3: Type of Precaution | AK3: Date Symptoms Resolved
W4: =IF(X4="","",IFERROR(_xlfn.XLOOKUP(X4,Lookups!$H:$H,Lookups!$G:$G,""),"")) | Y4: =IF(X4="","",IFERROR(_xlfn.XLOOKUP(X4,Lookups!$H:$H,Lookups!$I:$I,""),"")) | AD4: =IF(OR(ISBLANK(AB4),ISBLANK(AC4)),"",(AC4-AB4)+1) | AH4: =IF(AG4="","",IFERROR(_xlfn.XLOOKUP(AG4,Lookups!$H$2:$H$103,Lookups!$I$2:$I$103,""),""))
W5: =IF(X5="","",IFERROR(_xlfn.XLOOKUP(X5,Lookups!$H:$H,Lookups!$G:$G,""),"")) | Y5: =IF(X5="","",IFERROR(_xlfn.XLOOKUP(X5,Lookups!$H:$H,Lookups!$I:$I,""),"")) | AD5: =IF(OR(ISBLANK(AB5),ISBLANK(AC5)),"",(AC5-AB5)+1) | AH5: =IF(AG5="","",IFERROR(_xlfn.XLOOKUP(AG5,Lookups!$H$2:$H$103,Lookups!$I$2:$I$103,""),""))
W6: =IF(X6="","",IFERROR(_xlfn.XLOOKUP(X6,Lookups!$H:$H,Lookups!$G:$G,""),"")) | Y6: =IF(X6="","",IFERROR(_xlfn.XLOOKUP(X6,Lookups!$H:$H,Lookups!$I:$I,""),"")) | AD6: =IF(OR(ISBLANK(AB6),ISBLANK(AC6)),"",(AC6-AB6)+1) | AH6: =IF(AG6="","",IFERROR(_xlfn.XLOOKUP(AG6,Lookups!$H$2:$H$103,Lookups!$I$2:$I$103,""),""))
W7: =IF(X7="","",IFERROR(_xlfn.XLOOKUP(X7,Lookups!$H:$H,Lookups!$G:$G,""),"")) | Y7: =IF(X7="","",IFERROR(_xlfn.XLOOKUP(X7,Lookups!$H:$H,Lookups!$I:$I,""),"")) | AD7: =IF(OR(ISBLANK(AB7),ISBLANK(AC7)),"",(AC7-AB7)+1) | AH7: =IF(AG7="","",IFERROR(_xlfn.XLOOKUP(AG7,Lookups!$H$2:$H$103,Lookups!$I$2:$I$103,""),""))
W8: =IF(X8="","",IFERROR(_xlfn.XLOOKUP(X8,Lookups!$H:$H,Lookups!$G:$G,""),"")) | Y8: =IF(X8="","",IFERROR(_xlfn.XLOOKUP(X8,Lookups!$H:$H,Lookups!$I:$I,""),"")) | AD8: =IF(OR(ISBLANK(AB8),ISBLANK(AC8)),"",(AC8-AB8)+1) | AH8: =IF(AG8="","",IFERROR(_xlfn.XLOOKUP(AG8,Lookups!$H$2:$H$103,Lookups!$I$2:$I$103,""),""))
W9: =IF(X9="","",IFERROR(_xlfn.XLOOKUP(X9,Lookups!$H:$H,Lookups!$G:$G,""),"")) | Y9: =IF(X9="","",IFERROR(_xlfn.XLOOKUP(X9,Lookups!$H:$H,Lookups!$I:$I,""),"")) | AD9: =IF(OR(ISBLANK(AB9),ISBLANK(AC9)),"",(AC9-AB9)+1) | AH9: =IF(AG9="","",IFERROR(_xlfn.XLOOKUP(AG9,Lookups!$H$2:$H$103,Lookups!$I$2:$I$103,""),""))
W10: =IF(X10="","",IFERROR(_xlfn.XLOOKUP(X10,Lookups!$H:$H,Lookups!$G:$G,""),"")) | Y10: =IF(X10="","",IFERROR(_xlfn.XLOOKUP(X10,Lookups!$H:$H,Lookups!$I:$I,""),"")) | AD10: =IF(OR(ISBLANK(AB10),ISBLANK(AC10)),"",(AC10-AB10)+1) | AH10: =IF(AG10="","",IFERROR(_xlfn.XLOOKUP(AG10,Lookups!$H$2:$H$103,Lookups!$I$2:$I$103,""),""))
W11: =IF(X11="","",IFERROR(_xlfn.XLOOKUP(X11,Lookups!$H:$H,Lookups!$G:$G,""),"")) | Y11: =IF(X11="","",IFERROR(_xlfn.XLOOKUP(X11,Lookups!$H:$H,Lookups!$I:$I,""),"")) | AD11: =IF(OR(ISBLANK(AB11),ISBLANK(AC11)),"",(AC11-AB11)+1) | AH11: =IF(AG11="","",IFERROR(_xlfn.XLOOKUP(AG11,Lookups!$H$2:$H$103,Lookups!$I$2:$I$103,""),""))
W12: =IF(X12="","",IFERROR(_xlfn.XLOOKUP(X12,Lookups!$H:$H,Lookups!$G:$G,""),"")) | Y12: =IF(X12="","",IFERROR(_xlfn.XLOOKUP(X12,Lookups!$H:$H,Lookups!$I:$I,""),"")) | AD12: =IF(OR(ISBLANK(AB12),ISBLANK(AC12)),"",(AC12-AB12)+1) | AH12: =IF(AG12="","",IFERROR(_xlfn.XLOOKUP(AG12,Lookups!$H$2:$H$103,Lookups!$I$2:$I$103,""),""))
W13: =IF(X13="","",IFERROR(_xlfn.XLOOKUP(X13,Lookups!$H:$H,Lookups!$G:$G,""),"")) | Y13: =IF(X13="","",IFERROR(_xlfn.XLOOKUP(X13,Lookups!$H:$H,Lookups!$I:$I,""),"")) | AD13: =IF(OR(ISBLANK(AB13),ISBLANK(AC13)),"",(AC13-AB13)+1) | AH13: =IF(AG13="","",IFERROR(_xlfn.XLOOKUP(AG13,Lookups!$H$2:$H$103,Lookups!$I$2:$I$103,""),""))
W14: =IF(X14="","",IFERROR(_xlfn.XLOOKUP(X14,Lookups!$H:$H,Lookups!$G:$G,""),"")) | Y14: =IF(X14="","",IFERROR(_xlfn.XLOOKUP(X14,Lookups!$H:$H,Lookups!$I:$I,""),"")) | AD14: =IF(OR(ISBLANK(AB14),ISBLANK(AC14)),"",(AC14-AB14)+1) | AH14: =IF(AG14="","",IFERROR(_xlfn.XLOOKUP(AG14,Lookups!$H$2:$H$103,Lookups!$I$2:$I$103,""),""))
W15: =IF(X15="","",IFERROR(_xlfn.XLOOKUP(X15,Lookups!$H:$H,Lookups!$G:$G,""),"")) | Y15: =IF(X15="","",IFERROR(_xlfn.XLOOKUP(X15,Lookups!$H:$H,Lookups!$I:$I,""),"")) | AD15: =IF(OR(ISBLANK(AB15),ISBLANK(AC15)),"",(AC15-AB15)+1) | AH15: =IF(AG15="","",IFERROR(_xlfn.XLOOKUP(AG15,Lookups!$H$2:$H$103,Lookups!$I$2:$I$103,""),""))
... W54: =IF(X54="","",IFERROR(_xlfn.XLOOKUP(X54,Lookups!$H:$H,Lookups!$G:$G,""),"")) | Y54: =IF(X54="","",IFERROR(_xlfn.XLOOKUP(X54,Lookups!$H:$H,Lookups!$I:$I,""),"")) | AD54: =IF(OR(ISBLANK(AB54),ISBLANK(AC54)),"",(AC54-AB54)+1) | AH54: =IF(AG54="","",IFERROR(_xlfn.XLOOKUP(AG54,Lookups!$H$2:$H$103,Lookups!$I$2:$I$103,""),""))

Sheet September
A1: SEPTEMBER | D1: Gray-shaded fields are automatically calculated and do not require manual entry.
A2: Patient Information | D2: Admit/Discharge Info | J2: Classification | M2: C.diff infection-specific data | Q2: Diagnostics (microbiology, other labs, radiology) | W2: Antimicrobial Starts | AI2: Other Information
A3: Unit Name | B3: MRN | C3: Room # | D3: Admit Date | E3: Discharge/ Transfer Date | F3: Discharge/ Transfer Destination | G3: Reason for Discharge/ Transfer | H3: Has patient been discharged from your facility in the past 4 weeks? | I3: Has patient been discharged from another facility in the past 4 weeks? | J3: Infection type | K3: Onset Date | L3: Device Type(s) | M3: If C.diff infection, insert date of diarrhea onset (mm/dd/yyyy) | N3: Date stool specimen collected (mm/dd/yyyy) | O3: Stool lab test positive for C. diff? Y/N | P3: Last physical overnight location prior to this one | Q3: Diagnostic Performed? Y/N | R3: Test Date | S3: Type of Test | T3: Specimen Source | U3: Antimicrobial Resistant Organism? Y/N | V3: If Yes, Specify: | W3: Category | X3: Antimicrobial | Y3: Antimicrobial Class | Z3: Provider | AA3: Antimicrobial Rx Origin | AB3: Antimicrobial Start Date | AC3: Antimicrobial End Date | AD3: Total Days of Therapy | AE3: Meets Criteria? Y/N | AF3: Antimicrobial Reassessment (Antimicrobial "Time outs") Performed? Y/N | AG3: Other Antimicrobial Prescribed Name | AH3: Other Antimicrobial Prescribed Class | AI3: Transmission-based Precautions required? Y/N | AJ3: Type of Precaution | AK3: Date Symptoms Resolved
W4: =IF(X4="","",IFERROR(_xlfn.XLOOKUP(X4,Lookups!$H:$H,Lookups!$G:$G,""),"")) | Y4: =IF(X4="","",IFERROR(_xlfn.XLOOKUP(X4,Lookups!$H:$H,Lookups!$I:$I,""),"")) | AD4: =IF(OR(ISBLANK(AB4),ISBLANK(AC4)),"",(AC4-AB4)+1) | AH4: =IF(AG4="","",IFERROR(_xlfn.XLOOKUP(AG4,Lookups!$H$2:$H$103,Lookups!$I$2:$I$103,""),""))
W5: =IF(X5="","",IFERROR(_xlfn.XLOOKUP(X5,Lookups!$H:$H,Lookups!$G:$G,""),"")) | Y5: =IF(X5="","",IFERROR(_xlfn.XLOOKUP(X5,Lookups!$H:$H,Lookups!$I:$I,""),"")) | AD5: =IF(OR(ISBLANK(AB5),ISBLANK(AC5)),"",(AC5-AB5)+1) | AH5: =IF(AG5="","",IFERROR(_xlfn.XLOOKUP(AG5,Lookups!$H$2:$H$103,Lookups!$I$2:$I$103,""),""))
W6: =IF(X6="","",IFERROR(_xlfn.XLOOKUP(X6,Lookups!$H:$H,Lookups!$G:$G,""),"")) | Y6: =IF(X6="","",IFERROR(_xlfn.XLOOKUP(X6,Lookups!$H:$H,Lookups!$I:$I,""),"")) | AD6: =IF(OR(ISBLANK(AB6),ISBLANK(AC6)),"",(AC6-AB6)+1) | AH6: =IF(AG6="","",IFERROR(_xlfn.XLOOKUP(AG6,Lookups!$H$2:$H$103,Lookups!$I$2:$I$103,""),""))
W7: =IF(X7="","",IFERROR(_xlfn.XLOOKUP(X7,Lookups!$H:$H,Lookups!$G:$G,""),"")) | Y7: =IF(X7="","",IFERROR(_xlfn.XLOOKUP(X7,Lookups!$H:$H,Lookups!$I:$I,""),"")) | AD7: =IF(OR(ISBLANK(AB7),ISBLANK(AC7)),"",(AC7-AB7)+1) | AH7: =IF(AG7="","",IFERROR(_xlfn.XLOOKUP(AG7,Lookups!$H$2:$H$103,Lookups!$I$2:$I$103,""),""))
W8: =IF(X8="","",IFERROR(_xlfn.XLOOKUP(X8,Lookups!$H:$H,Lookups!$G:$G,""),"")) | Y8: =IF(X8="","",IFERROR(_xlfn.XLOOKUP(X8,Lookups!$H:$H,Lookups!$I:$I,""),"")) | AD8: =IF(OR(ISBLANK(AB8),ISBLANK(AC8)),"",(AC8-AB8)+1) | AH8: =IF(AG8="","",IFERROR(_xlfn.XLOOKUP(AG8,Lookups!$H$2:$H$103,Lookups!$I$2:$I$103,""),""))
W9: =IF(X9="","",IFERROR(_xlfn.XLOOKUP(X9,Lookups!$H:$H,Lookups!$G:$G,""),"")) | Y9: =IF(X9="","",IFERROR(_xlfn.XLOOKUP(X9,Lookups!$H:$H,Lookups!$I:$I,""),"")) | AD9: =IF(OR(ISBLANK(AB9),ISBLANK(AC9)),"",(AC9-AB9)+1) | AH9: =IF(AG9="","",IFERROR(_xlfn.XLOOKUP(AG9,Lookups!$H$2:$H$103,Lookups!$I$2:$I$103,""),""))
W10: =IF(X10="","",IFERROR(_xlfn.XLOOKUP(X10,Lookups!$H:$H,Lookups!$G:$G,""),"")) | Y10: =IF(X10="","",IFERROR(_xlfn.XLOOKUP(X10,Lookups!$H:$H,Lookups!$I:$I,""),"")) | AD10: =IF(OR(ISBLANK(AB10),ISBLANK(AC10)),"",(AC10-AB10)+1) | AH10: =IF(AG10="","",IFERROR(_xlfn.XLOOKUP(AG10,Lookups!$H$2:$H$103,Lookups!$I$2:$I$103,""),""))
W11: =IF(X11="","",IFERROR(_xlfn.XLOOKUP(X11,Lookups!$H:$H,Lookups!$G:$G,""),"")) | Y11: =IF(X11="","",IFERROR(_xlfn.XLOOKUP(X11,Lookups!$H:$H,Lookups!$I:$I,""),"")) | AD11: =IF(OR(ISBLANK(AB11),ISBLANK(AC11)),"",(AC11-AB11)+1) | AH11: =IF(AG11="","",IFERROR(_xlfn.XLOOKUP(AG11,Lookups!$H$2:$H$103,Lookups!$I$2:$I$103,""),""))
W12: =IF(X12="","",IFERROR(_xlfn.XLOOKUP(X12,Lookups!$H:$H,Lookups!$G:$G,""),"")) | Y12: =IF(X12="","",IFERROR(_xlfn.XLOOKUP(X12,Lookups!$H:$H,Lookups!$I:$I,""),"")) | AD12: =IF(OR(ISBLANK(AB12),ISBLANK(AC12)),"",(AC12-AB12)+1) | AH12: =IF(AG12="","",IFERROR(_xlfn.XLOOKUP(AG12,Lookups!$H$2:$H$103,Lookups!$I$2:$I$103,""),""))
W13: =IF(X13="","",IFERROR(_xlfn.XLOOKUP(X13,Lookups!$H:$H,Lookups!$G:$G,""),"")) | Y13: =IF(X13="","",IFERROR(_xlfn.XLOOKUP(X13,Lookups!$H:$H,Lookups!$I:$I,""),"")) | AD13: =IF(OR(ISBLANK(AB13),ISBLANK(AC13)),"",(AC13-AB13)+1) | AH13: =IF(AG13="","",IFERROR(_xlfn.XLOOKUP(AG13,Lookups!$H$2:$H$103,Lookups!$I$2:$I$103,""),""))
W14: =IF(X14="","",IFERROR(_xlfn.XLOOKUP(X14,Lookups!$H:$H,Lookups!$G:$G,""),"")) | Y14: =IF(X14="","",IFERROR(_xlfn.XLOOKUP(X14,Lookups!$H:$H,Lookups!$I:$I,""),"")) | AD14: =IF(OR(ISBLANK(AB14),ISBLANK(AC14)),"",(AC14-AB14)+1) | AH14: =IF(AG14="","",IFERROR(_xlfn.XLOOKUP(AG14,Lookups!$H$2:$H$103,Lookups!$I$2:$I$103,""),""))
W15: =IF(X15="","",IFERROR(_xlfn.XLOOKUP(X15,Lookups!$H:$H,Lookups!$G:$G,""),"")) | Y15: =IF(X15="","",IFERROR(_xlfn.XLOOKUP(X15,Lookups!$H:$H,Lookups!$I:$I,""),"")) | AD15: =IF(OR(ISBLANK(AB15),ISBLANK(AC15)),"",(AC15-AB15)+1) | AH15: =IF(AG15="","",IFERROR(_xlfn.XLOOKUP(AG15,Lookups!$H$2:$H$103,Lookups!$I$2:$I$103,""),""))
... W54: =IF(X54="","",IFERROR(_xlfn.XLOOKUP(X54,Lookups!$H:$H,Lookups!$G:$G,""),"")) | Y54: =IF(X54="","",IFERROR(_xlfn.XLOOKUP(X54,Lookups!$H:$H,Lookups!$I:$I,""),"")) | AD54: =IF(OR(ISBLANK(AB54),ISBLANK(AC54)),"",(AC54-AB54)+1) | AH54: =IF(AG54="","",IFERROR(_xlfn.XLOOKUP(AG54,Lookups!$H$2:$H$103,Lookups!$I$2:$I$103,""),""))

Sheet October
A1: OCTOBER | D1: Gray-shaded fields are automatically calculated and do not require manual entry.
A2: Patient Information | D2: Admit/Discharge Info | J2: Classification | M2: C.diff infection-specific data | Q2: Diagnostics (microbiology, other labs, radiology) | W2: Antimicrobial Starts | AI2: Other Information
A3: Unit Name | B3: MRN | C3: Room # | D3: Admit Date | E3: Discharge/ Transfer Date | F3: Discharge/ Transfer Destination | G3: Reason for Discharge/ Transfer | H3: Has patient been discharged from your facility in the past 4 weeks? | I3: Has patient been discharged from another facility in the past 4 weeks? | J3: Infection type | K3: Onset Date | L3: Device Type(s) | M3: If C.diff infection, insert date of diarrhea onset (mm/dd/yyyy) | N3: Date stool specimen collected (mm/dd/yyyy) | O3: Stool lab test positive for C. diff? Y/N | P3: Last physical overnight location prior to this one | Q3: Diagnostic Performed? Y/N | R3: Test Date | S3: Type of Test | T3: Specimen Source | U3: Antimicrobial Resistant Organism? Y/N | V3: If Yes, Specify: | W3: Category | X3: Antimicrobial | Y3: Antimicrobial Class | Z3: Provider | AA3: Antimicrobial Rx Origin | AB3: Antimicrobial Start Date | AC3: Antimicrobial End Date | AD3: Total Days of Therapy | AE3: Meets Criteria? Y/N | AF3: Antimicrobial Reassessment (Antimicrobial "Time outs") Performed? Y/N | AG3: Other Antimicrobial Prescribed Name | AH3: Other Antimicrobial Prescribed Class | AI3: Transmission-based Precautions required? Y/N | AJ3: Type of Precaution | AK3: Date Symptoms Resolved
W4: =IF(X4="","",IFERROR(_xlfn.XLOOKUP(X4,Lookups!$H:$H,Lookups!$G:$G,""),"")) | Y4: =IF(X4="","",IFERROR(_xlfn.XLOOKUP(X4,Lookups!$H:$H,Lookups!$I:$I,""),"")) | AD4: =IF(OR(ISBLANK(AB4),ISBLANK(AC4)),"",(AC4-AB4)+1) | AH4: =IF(AG4="","",IFERROR(_xlfn.XLOOKUP(AG4,Lookups!$H$2:$H$103,Lookups!$I$2:$I$103,""),""))
W5: =IF(X5="","",IFERROR(_xlfn.XLOOKUP(X5,Lookups!$H:$H,Lookups!$G:$G,""),"")) | Y5: =IF(X5="","",IFERROR(_xlfn.XLOOKUP(X5,Lookups!$H:$H,Lookups!$I:$I,""),"")) | AD5: =IF(OR(ISBLANK(AB5),ISBLANK(AC5)),"",(AC5-AB5)+1) | AH5: =IF(AG5="","",IFERROR(_xlfn.XLOOKUP(AG5,Lookups!$H$2:$H$103,Lookups!$I$2:$I$103,""),""))
W6: =IF(X6="","",IFERROR(_xlfn.XLOOKUP(X6,Lookups!$H:$H,Lookups!$G:$G,""),"")) | Y6: =IF(X6="","",IFERROR(_xlfn.XLOOKUP(X6,Lookups!$H:$H,Lookups!$I:$I,""),"")) | AD6: =IF(OR(ISBLANK(AB6),ISBLANK(AC6)),"",(AC6-AB6)+1) | AH6: =IF(AG6="","",IFERROR(_xlfn.XLOOKUP(AG6,Lookups!$H$2:$H$103,Lookups!$I$2:$I$103,""),""))
W7: =IF(X7="","",IFERROR(_xlfn.XLOOKUP(X7,Lookups!$H:$H,Lookups!$G:$G,""),"")) | Y7: =IF(X7="","",IFERROR(_xlfn.XLOOKUP(X7,Lookups!$H:$H,Lookups!$I:$I,""),"")) | AD7: =IF(OR(ISBLANK(AB7),ISBLANK(AC7)),"",(AC7-AB7)+1) | AH7: =IF(AG7="","",IFERROR(_xlfn.XLOOKUP(AG7,Lookups!$H$2:$H$103,Lookups!$I$2:$I$103,""),""))
W8: =IF(X8="","",IFERROR(_xlfn.XLOOKUP(X8,Lookups!$H:$H,Lookups!$G:$G,""),"")) | Y8: =IF(X8="","",IFERROR(_xlfn.XLOOKUP(X8,Lookups!$H:$H,Lookups!$I:$I,""),"")) | AD8: =IF(OR(ISBLANK(AB8),ISBLANK(AC8)),"",(AC8-AB8)+1) | AH8: =IF(AG8="","",IFERROR(_xlfn.XLOOKUP(AG8,Lookups!$H$2:$H$103,Lookups!$I$2:$I$103,""),""))
W9: =IF(X9="","",IFERROR(_xlfn.XLOOKUP(X9,Lookups!$H:$H,Lookups!$G:$G,""),"")) | Y9: =IF(X9="","",IFERROR(_xlfn.XLOOKUP(X9,Lookups!$H:$H,Lookups!$I:$I,""),"")) | AD9: =IF(OR(ISBLANK(AB9),ISBLANK(AC9)),"",(AC9-AB9)+1) | AH9: =IF(AG9="","",IFERROR(_xlfn.XLOOKUP(AG9,Lookups!$H$2:$H$103,Lookups!$I$2:$I$103,""),""))
W10: =IF(X10="","",IFERROR(_xlfn.XLOOKUP(X10,Lookups!$H:$H,Lookups!$G:$G,""),"")) | Y10: =IF(X10="","",IFERROR(_xlfn.XLOOKUP(X10,Lookups!$H:$H,Lookups!$I:$I,""),"")) | AD10: =IF(OR(ISBLANK(AB10),ISBLANK(AC10)),"",(AC10-AB10)+1) | AH10: =IF(AG10="","",IFERROR(_xlfn.XLOOKUP(AG10,Lookups!$H$2:$H$103,Lookups!$I$2:$I$103,""),""))
W11: =IF(X11="","",IFERROR(_xlfn.XLOOKUP(X11,Lookups!$H:$H,Lookups!$G:$G,""),"")) | Y11: =IF(X11="","",IFERROR(_xlfn.XLOOKUP(X11,Lookups!$H:$H,Lookups!$I:$I,""),"")) | AD11: =IF(OR(ISBLANK(AB11),ISBLANK(AC11)),"",(AC11-AB11)+1) | AH11: =IF(AG11="","",IFERROR(_xlfn.XLOOKUP(AG11,Lookups!$H$2:$H$103,Lookups!$I$2:$I$103,""),""))
W12: =IF(X12="","",IFERROR(_xlfn.XLOOKUP(X12,Lookups!$H:$H,Lookups!$G:$G,""),"")) | Y12: =IF(X12="","",IFERROR(_xlfn.XLOOKUP(X12,Lookups!$H:$H,Lookups!$I:$I,""),"")) | AD12: =IF(OR(ISBLANK(AB12),ISBLANK(AC12)),"",(AC12-AB12)+1) | AH12: =IF(AG12="","",IFERROR(_xlfn.XLOOKUP(AG12,Lookups!$H$2:$H$103,Lookups!$I$2:$I$103,""),""))
W13: =IF(X13="","",IFERROR(_xlfn.XLOOKUP(X13,Lookups!$H:$H,Lookups!$G:$G,""),"")) | Y13: =IF(X13="","",IFERROR(_xlfn.XLOOKUP(X13,Lookups!$H:$H,Lookups!$I:$I,""),"")) | AD13: =IF(OR(ISBLANK(AB13),ISBLANK(AC13)),"",(AC13-AB13)+1) | AH13: =IF(AG13="","",IFERROR(_xlfn.XLOOKUP(AG13,Lookups!$H$2:$H$103,Lookups!$I$2:$I$103,""),""))
W14: =IF(X14="","",IFERROR(_xlfn.XLOOKUP(X14,Lookups!$H:$H,Lookups!$G:$G,""),"")) | Y14: =IF(X14="","",IFERROR(_xlfn.XLOOKUP(X14,Lookups!$H:$H,Lookups!$I:$I,""),"")) | AD14: =IF(OR(ISBLANK(AB14),ISBLANK(AC14)),"",(AC14-AB14)+1) | AH14: =IF(AG14="","",IFERROR(_xlfn.XLOOKUP(AG14,Lookups!$H$2:$H$103,Lookups!$I$2:$I$103,""),""))
W15: =IF(X15="","",IFERROR(_xlfn.XLOOKUP(X15,Lookups!$H:$H,Lookups!$G:$G,""),"")) | Y15: =IF(X15="","",IFERROR(_xlfn.XLOOKUP(X15,Lookups!$H:$H,Lookups!$I:$I,""),"")) | AD15: =IF(OR(ISBLANK(AB15),ISBLANK(AC15)),"",(AC15-AB15)+1) | AH15: =IF(AG15="","",IFERROR(_xlfn.XLOOKUP(AG15,Lookups!$H$2:$H$103,Lookups!$I$2:$I$103,""),""))
... W54: =IF(X54="","",IFERROR(_xlfn.XLOOKUP(X54,Lookups!$H:$H,Lookups!$G:$G,""),"")) | Y54: =IF(X54="","",IFERROR(_xlfn.XLOOKUP(X54,Lookups!$H:$H,Lookups!$I:$I,""),"")) | AD54: =IF(OR(ISBLANK(AB54),ISBLANK(AC54)),"",(AC54-AB54)+1) | AH54: =IF(AG54="","",IFERROR(_xlfn.XLOOKUP(AG54,Lookups!$H$2:$H$103,Lookups!$I$2:$I$103,""),""))

Sheet November
A1: NOVEMBER | D1: Gray-shaded fields are automatically calculated and do not require manual entry.
A2: Patient Information | D2: Admit/Discharge Info | J2: Classification | M2: C.diff infection-specific data | Q2: Diagnostics (microbiology, other labs, radiology) | W2: Antimicrobial Starts | AI2: Other Information
A3: Unit Name | B3: MRN | C3: Room # | D3: Admit Date | E3: Discharge/ Transfer Date | F3: Discharge/ Transfer Destination | G3: Reason for Discharge/ Transfer | H3: Has patient been discharged from your facility in the past 4 weeks? | I3: Has patient been discharged from another facility in the past 4 weeks? | J3: Infection type | K3: Onset Date | L3: Device Type(s) | M3: If C.diff infection, insert date of diarrhea onset (mm/dd/yyyy) | N3: Date stool specimen collected (mm/dd/yyyy) | O3: Stool lab test positive for C. diff? Y/N | P3: Last physical overnight location prior to this one | Q3: Diagnostic Performed? Y/N | R3: Test Date | S3: Type of Test | T3: Specimen Source | U3: Antimicrobial Resistant Organism? Y/N | V3: If Yes, Specify: | W3: Category | X3: Antimicrobial | Y3: Antimicrobial Class | Z3: Provider | AA3: Antimicrobial Rx Origin | AB3: Antimicrobial Start Date | AC3: Antimicrobial End Date | AD3: Total Days of Therapy | AE3: Meets Criteria? Y/N | AF3: Antimicrobial Reassessment (Antimicrobial "Time outs") Performed? Y/N | AG3: Other Antimicrobial Prescribed Name | AH3: Other Antimicrobial Prescribed Class | AI3: Transmission-based Precautions required? Y/N | AJ3: Type of Precaution | AK3: Date Symptoms Resolved
W4: =IF(X4="","",IFERROR(_xlfn.XLOOKUP(X4,Lookups!$H:$H,Lookups!$G:$G,""),"")) | Y4: =IF(X4="","",IFERROR(_xlfn.XLOOKUP(X4,Lookups!$H:$H,Lookups!$I:$I,""),"")) | AD4: =IF(OR(ISBLANK(AB4),ISBLANK(AC4)),"",(AC4-AB4)+1) | AH4: =IF(AG4="","",IFERROR(_xlfn.XLOOKUP(AG4,Lookups!$H$2:$H$103,Lookups!$I$2:$I$103,""),""))
W5: =IF(X5="","",IFERROR(_xlfn.XLOOKUP(X5,Lookups!$H:$H,Lookups!$G:$G,""),"")) | Y5: =IF(X5="","",IFERROR(_xlfn.XLOOKUP(X5,Lookups!$H:$H,Lookups!$I:$I,""),"")) | AD5: =IF(OR(ISBLANK(AB5),ISBLANK(AC5)),"",(AC5-AB5)+1) | AH5: =IF(AG5="","",IFERROR(_xlfn.XLOOKUP(AG5,Lookups!$H$2:$H$103,Lookups!$I$2:$I$103,""),""))
W6: =IF(X6="","",IFERROR(_xlfn.XLOOKUP(X6,Lookups!$H:$H,Lookups!$G:$G,""),"")) | Y6: =IF(X6="","",IFERROR(_xlfn.XLOOKUP(X6,Lookups!$H:$H,Lookups!$I:$I,""),"")) | AD6: =IF(OR(ISBLANK(AB6),ISBLANK(AC6)),"",(AC6-AB6)+1) | AH6: =IF(AG6="","",IFERROR(_xlfn.XLOOKUP(AG6,Lookups!$H$2:$H$103,Lookups!$I$2:$I$103,""),""))
W7: =IF(X7="","",IFERROR(_xlfn.XLOOKUP(X7,Lookups!$H:$H,Lookups!$G:$G,""),"")) | Y7: =IF(X7="","",IFERROR(_xlfn.XLOOKUP(X7,Lookups!$H:$H,Lookups!$I:$I,""),"")) | AD7: =IF(OR(ISBLANK(AB7),ISBLANK(AC7)),"",(AC7-AB7)+1) | AH7: =IF(AG7="","",IFERROR(_xlfn.XLOOKUP(AG7,Lookups!$H$2:$H$103,Lookups!$I$2:$I$103,""),""))
W8: =IF(X8="","",IFERROR(_xlfn.XLOOKUP(X8,Lookups!$H:$H,Lookups!$G:$G,""),"")) | Y8: =IF(X8="","",IFERROR(_xlfn.XLOOKUP(X8,Lookups!$H:$H,Lookups!$I:$I,""),"")) | AD8: =IF(OR(ISBLANK(AB8),ISBLANK(AC8)),"",(AC8-AB8)+1) | AH8: =IF(AG8="","",IFERROR(_xlfn.XLOOKUP(AG8,Lookups!$H$2:$H$103,Lookups!$I$2:$I$103,""),""))
W9: =IF(X9="","",IFERROR(_xlfn.XLOOKUP(X9,Lookups!$H:$H,Lookups!$G:$G,""),"")) | Y9: =IF(X9="","",IFERROR(_xlfn.XLOOKUP(X9,Lookups!$H:$H,Lookups!$I:$I,""),"")) | AD9: =IF(OR(ISBLANK(AB9),ISBLANK(AC9)),"",(AC9-AB9)+1) | AH9: =IF(AG9="","",IFERROR(_xlfn.XLOOKUP(AG9,Lookups!$H$2:$H$103,Lookups!$I$2:$I$103,""),""))
W10: =IF(X10="","",IFERROR(_xlfn.XLOOKUP(X10,Lookups!$H:$H,Lookups!$G:$G,""),"")) | Y10: =IF(X10="","",IFERROR(_xlfn.XLOOKUP(X10,Lookups!$H:$H,Lookups!$I:$I,""),"")) | AD10: =IF(OR(ISBLANK(AB10),ISBLANK(AC10)),"",(AC10-AB10)+1) | AH10: =IF(AG10="","",IFERROR(_xlfn.XLOOKUP(AG10,Lookups!$H$2:$H$103,Lookups!$I$2:$I$103,""),""))
W11: =IF(X11="","",IFERROR(_xlfn.XLOOKUP(X11,Lookups!$H:$H,Lookups!$G:$G,""),"")) | Y11: =IF(X11="","",IFERROR(_xlfn.XLOOKUP(X11,Lookups!$H:$H,Lookups!$I:$I,""),"")) | AD11: =IF(OR(ISBLANK(AB11),ISBLANK(AC11)),"",(AC11-AB11)+1) | AH11: =IF(AG11="","",IFERROR(_xlfn.XLOOKUP(AG11,Lookups!$H$2:$H$103,Lookups!$I$2:$I$103,""),""))
W12: =IF(X12="","",IFERROR(_xlfn.XLOOKUP(X12,Lookups!$H:$H,Lookups!$G:$G,""),"")) | Y12: =IF(X12="","",IFERROR(_xlfn.XLOOKUP(X12,Lookups!$H:$H,Lookups!$I:$I,""),"")) | AD12: =IF(OR(ISBLANK(AB12),ISBLANK(AC12)),"",(AC12-AB12)+1) | AH12: =IF(AG12="","",IFERROR(_xlfn.XLOOKUP(AG12,Lookups!$H$2:$H$103,Lookups!$I$2:$I$103,""),""))
W13: =IF(X13="","",IFERROR(_xlfn.XLOOKUP(X13,Lookups!$H:$H,Lookups!$G:$G,""),"")) | Y13: =IF(X13="","",IFERROR(_xlfn.XLOOKUP(X13,Lookups!$H:$H,Lookups!$I:$I,""),"")) | AD13: =IF(OR(ISBLANK(AB13),ISBLANK(AC13)),"",(AC13-AB13)+1) | AH13: =IF(AG13="","",IFERROR(_xlfn.XLOOKUP(AG13,Lookups!$H$2:$H$103,Lookups!$I$2:$I$103,""),""))
W14: =IF(X14="","",IFERROR(_xlfn.XLOOKUP(X14,Lookups!$H:$H,Lookups!$G:$G,""),"")) | Y14: =IF(X14="","",IFERROR(_xlfn.XLOOKUP(X14,Lookups!$H:$H,Lookups!$I:$I,""),"")) | AD14: =IF(OR(ISBLANK(AB14),ISBLANK(AC14)),"",(AC14-AB14)+1) | AH14: =IF(AG14="","",IFERROR(_xlfn.XLOOKUP(AG14,Lookups!$H$2:$H$103,Lookups!$I$2:$I$103,""),""))
W15: =IF(X15="","",IFERROR(_xlfn.XLOOKUP(X15,Lookups!$H:$H,Lookups!$G:$G,""),"")) | Y15: =IF(X15="","",IFERROR(_xlfn.XLOOKUP(X15,Lookups!$H:$H,Lookups!$I:$I,""),"")) | AD15: =IF(OR(ISBLANK(AB15),ISBLANK(AC15)),"",(AC15-AB15)+1) | AH15: =IF(AG15="","",IFERROR(_xlfn.XLOOKUP(AG15,Lookups!$H$2:$H$103,Lookups!$I$2:$I$103,""),""))
... W54: =IF(X54="","",IFERROR(_xlfn.XLOOKUP(X54,Lookups!$H:$H,Lookups!$G:$G,""),"")) | Y54: =IF(X54="","",IFERROR(_xlfn.XLOOKUP(X54,Lookups!$H:$H,Lookups!$I:$I,""),"")) | AD54: =IF(OR(ISBLANK(AB54),ISBLANK(AC54)),"",(AC54-AB54)+1) | AH54: =IF(AG54="","",IFERROR(_xlfn.XLOOKUP(AG54,Lookups!$H$2:$H$103,Lookups!$I$2:$I$103,""),""))

Sheet December
A1: DECEMBER | D1: Gray-shaded fields are automatically calculated and do not require manual entry.
A2: Patient Information | D2: Admit/Discharge Info | J2: Classification | M2: C.diff infection-specific data | Q2: Diagnostics (microbiology, other labs, radiology) | W2: Antimicrobial Starts | AI2: Other Information
A3: Unit Name | B3: MRN | C3: Room # | D3: Admit Date | E3: Discharge/ Transfer Date | F3: Discharge/ Transfer Destination | G3: Reason for Discharge/ Transfer | H3: Has patient been discharged from your facility in the past 4 weeks? | I3: Has patient been discharged from another facility in the past 4 weeks? | J3: Infection type | K3: Onset Date | L3: Device Type(s) | M3: If C.diff infection, insert date of diarrhea onset (mm/dd/yyyy) | N3: Date stool specimen collected (mm/dd/yyyy) | O3: Stool lab test positive for C. diff? Y/N | P3: Last physical overnight location prior to this one | Q3: Diagnostic Performed? Y/N | R3: Test Date | S3: Type of Test | T3: Specimen Source | U3: Antimicrobial Resistant Organism? Y/N | V3: If Yes, Specify: | W3: Category | X3: Antimicrobial | Y3: Antimicrobial Class | Z3: Provider | AA3: Antimicrobial Rx Origin | AB3: Antimicrobial Start Date | AC3: Antimicrobial End Date | AD3: Total Days of Therapy | AE3: Meets Criteria? Y/N | AF3: Antimicrobial Reassessment (Antimicrobial "Time outs") Performed? Y/N | AG3: Other Antimicrobial Prescribed Name | AH3: Other Antimicrobial Prescribed Class | AI3: Transmission-based Precautions required? Y/N | AJ3: Type of Precaution | AK3: Date Symptoms Resolved
W4: =IF(X4="","",IFERROR(_xlfn.XLOOKUP(X4,Lookups!$H:$H,Lookups!$G:$G,""),"")) | Y4: =IF(X4="","",IFERROR(_xlfn.XLOOKUP(X4,Lookups!$H:$H,Lookups!$I:$I,""),"")) | AD4: =IF(OR(ISBLANK(AB4),ISBLANK(AC4)),"",(AC4-AB4)+1) | AH4: =IF(AG4="","",IFERROR(_xlfn.XLOOKUP(AG4,Lookups!$H$2:$H$103,Lookups!$I$2:$I$103,""),""))
W5: =IF(X5="","",IFERROR(_xlfn.XLOOKUP(X5,Lookups!$H:$H,Lookups!$G:$G,""),"")) | Y5: =IF(X5="","",IFERROR(_xlfn.XLOOKUP(X5,Lookups!$H:$H,Lookups!$I:$I,""),"")) | AD5: =IF(OR(ISBLANK(AB5),ISBLANK(AC5)),"",(AC5-AB5)+1) | AH5: =IF(AG5="","",IFERROR(_xlfn.XLOOKUP(AG5,Lookups!$H$2:$H$103,Lookups!$I$2:$I$103,""),""))
W6: =IF(X6="","",IFERROR(_xlfn.XLOOKUP(X6,Lookups!$H:$H,Lookups!$G:$G,""),"")) | Y6: =IF(X6="","",IFERROR(_xlfn.XLOOKUP(X6,Lookups!$H:$H,Lookups!$I:$I,""),"")) | AD6: =IF(OR(ISBLANK(AB6),ISBLANK(AC6)),"",(AC6-AB6)+1) | AH6: =IF(AG6="","",IFERROR(_xlfn.XLOOKUP(AG6,Lookups!$H$2:$H$103,Lookups!$I$2:$I$103,""),""))
W7: =IF(X7="","",IFERROR(_xlfn.XLOOKUP(X7,Lookups!$H:$H,Lookups!$G:$G,""),"")) | Y7: =IF(X7="","",IFERROR(_xlfn.XLOOKUP(X7,Lookups!$H:$H,Lookups!$I:$I,""),"")) | AD7: =IF(OR(ISBLANK(AB7),ISBLANK(AC7)),"",(AC7-AB7)+1) | AH7: =IF(AG7="","",IFERROR(_xlfn.XLOOKUP(AG7,Lookups!$H$2:$H$103,Lookups!$I$2:$I$103,""),""))
W8: =IF(X8="","",IFERROR(_xlfn.XLOOKUP(X8,Lookups!$H:$H,Lookups!$G:$G,""),"")) | Y8: =IF(X8="","",IFERROR(_xlfn.XLOOKUP(X8,Lookups!$H:$H,Lookups!$I:$I,""),"")) | AD8: =IF(OR(ISBLANK(AB8),ISBLANK(AC8)),"",(AC8-AB8)+1) | AH8: =IF(AG8="","",IFERROR(_xlfn.XLOOKUP(AG8,Lookups!$H$2:$H$103,Lookups!$I$2:$I$103,""),""))
W9: =IF(X9="","",IFERROR(_xlfn.XLOOKUP(X9,Lookups!$H:$H,Lookups!$G:$G,""),"")) | Y9: =IF(X9="","",IFERROR(_xlfn.XLOOKUP(X9,Lookups!$H:$H,Lookups!$I:$I,""),"")) | AD9: =IF(OR(ISBLANK(AB9),ISBLANK(AC9)),"",(AC9-AB9)+1) | AH9: =IF(AG9="","",IFERROR(_xlfn.XLOOKUP(AG9,Lookups!$H$2:$H$103,Lookups!$I$2:$I$103,""),""))
W10: =IF(X10="","",IFERROR(_xlfn.XLOOKUP(X10,Lookups!$H:$H,Lookups!$G:$G,""),"")) | Y10: =IF(X10="","",IFERROR(_xlfn.XLOOKUP(X10,Lookups!$H:$H,Lookups!$I:$I,""),"")) | AD10: =IF(OR(ISBLANK(AB10),ISBLANK(AC10)),"",(AC10-AB10)+1) | AH10: =IF(AG10="","",IFERROR(_xlfn.XLOOKUP(AG10,Lookups!$H$2:$H$103,Lookups!$I$2:$I$103,""),""))
W11: =IF(X11="","",IFERROR(_xlfn.XLOOKUP(X11,Lookups!$H:$H,Lookups!$G:$G,""),"")) | Y11: =IF(X11="","",IFERROR(_xlfn.XLOOKUP(X11,Lookups!$H:$H,Lookups!$I:$I,""),"")) | AD11: =IF(OR(ISBLANK(AB11),ISBLANK(AC11)),"",(AC11-AB11)+1) | AH11: =IF(AG11="","",IFERROR(_xlfn.XLOOKUP(AG11,Lookups!$H$2:$H$103,Lookups!$I$2:$I$103,""),""))
W12: =IF(X12="","",IFERROR(_xlfn.XLOOKUP(X12,Lookups!$H:$H,Lookups!$G:$G,""),"")) | Y12: =IF(X12="","",IFERROR(_xlfn.XLOOKUP(X12,Lookups!$H:$H,Lookups!$I:$I,""),"")) | AD12: =IF(OR(ISBLANK(AB12),ISBLANK(AC12)),"",(AC12-AB12)+1) | AH12: =IF(AG12="","",IFERROR(_xlfn.XLOOKUP(AG12,Lookups!$H$2:$H$103,Lookups!$I$2:$I$103,""),""))
W13: =IF(X13="","",IFERROR(_xlfn.XLOOKUP(X13,Lookups!$H:$H,Lookups!$G:$G,""),"")) | Y13: =IF(X13="","",IFERROR(_xlfn.XLOOKUP(X13,Lookups!$H:$H,Lookups!$I:$I,""),"")) | AD13: =IF(OR(ISBLANK(AB13),ISBLANK(AC13)),"",(AC13-AB13)+1) | AH13: =IF(AG13="","",IFERROR(_xlfn.XLOOKUP(AG13,Lookups!$H$2:$H$103,Lookups!$I$2:$I$103,""),""))
W14: =IF(X14="","",IFERROR(_xlfn.XLOOKUP(X14,Lookups!$H:$H,Lookups!$G:$G,""),"")) | Y14: =IF(X14="","",IFERROR(_xlfn.XLOOKUP(X14,Lookups!$H:$H,Lookups!$I:$I,""),"")) | AD14: =IF(OR(ISBLANK(AB14),ISBLANK(AC14)),"",(AC14-AB14)+1) | AH14: =IF(AG14="","",IFERROR(_xlfn.XLOOKUP(AG14,Lookups!$H$2:$H$103,Lookups!$I$2:$I$103,""),""))
W15: =IF(X15="","",IFERROR(_xlfn.XLOOKUP(X15,Lookups!$H:$H,Lookups!$G:$G,""),"")) | Y15: =IF(X15="","",IFERROR(_xlfn.XLOOKUP(X15,Lookups!$H:$H,Lookups!$I:$I,""),"")) | AD15: =IF(OR(ISBLANK(AB15),ISBLANK(AC15)),"",(AC15-AB15)+1) | AH15: =IF(AG15="","",IFERROR(_xlfn.XLOOKUP(AG15,Lookups!$H$2:$H$103,Lookups!$I$2:$I$103,""),""))
... W54: =IF(X54="","",IFERROR(_xlfn.XLOOKUP(X54,Lookups!$H:$H,Lookups!$G:$G,""),"")) | Y54: =IF(X54="","",IFERROR(_xlfn.XLOOKUP(X54,Lookups!$H:$H,Lookups!$I:$I,""),"")) | AD54: =IF(OR(ISBLANK(AB54),ISBLANK(AC54)),"",(AC54-AB54)+1) | AH54: =IF(AG54="","",IFERROR(_xlfn.XLOOKUP(AG54,Lookups!$H$2:$H$103,Lookups!$I$2:$I$103,""),""))

Sheet Lookups
A1: Device_Type | D1: Infection Type | E1: Body System of Infection | G1: Category | H1: Antimicrobial | I1: Antimicrobial Class | K1: Antimicrobial Route | N1: Antimicrobial Origination | Q1: Specimen Source | T1: Transmission-Based Precautions
A2: Central Line | D2: COVID | E2: Respiratory Tract | G2: Antiviral | H2: Acyclovir | I2: Guanosine nucleoside analogue | K2: IV | N2: ED | Q2: Urine | T2: Contact Enteric Precautions
A3: Urinary Catheter | D3: RSV | E3: Respiratory Tract | G3: Antiparasitic | H3: Albendazole | I3: Benzimidazole anthelmintic | K3: IM | N3: Clinic | Q3: Sputum | T3: Enhanced Barrier Precautions
A4: Trach | D4: Influenza | E4: Respiratory Tract | G4: Antiviral | H4: Amantadine | I4: M2 ion channel inhibitors | K4: Oral | N4: Hospital | Q4: Blood | T4: Contact Precautions
A5: Wound Vac | D5: Sinusitis | E5: Respiratory Tract | G5: Antibiotic | H5: Amikacin | I5: Aminoglycosides | K5: Respiratory | N5: Long-term Care Center | Q5: Stool | T5: Droplet Precautions
A6: Ventilator | D6: Bronchitis | E6: Respiratory Tract | G6: Antibiotic | H6: Amoxicillin | I6: Penicillins | K6: Topical | N6: Other | Q6: Throat | T6: Airborne Precautions
A7: No Devices | D7: Pharyngitis | E7: Respiratory Tract | G7: Antibiotic | H7: Amoxicillin/Clavulanate | I7: B-lactam/B-lactamase inhibitor combination | K7: Other | Q7: Rectal | T7: Other
D8: Other Influenza-like Illness | E8: Respiratory Tract | G8: Antifungal | H8: Amphotericin B | I8: Polyene | Q8: Wound
D9: Pneumonia | E9: Respiratory Tract | G9: Antibiotic | H9: Ampicillin | I9: Penicillins | Q9: Nasal
D10: Other Lower Resp. Tract Illness | E10: Respiratory Tract | G10: Antibiotic | H10: Ampicillin/Sulbactam | I10: B-lactam/B-lactamase inhibitor combination | Q10: Other
D11: Other Upper Resp. Tract Illness | E11: Respiratory Tract | G11: Antifungal | H11: Anidulafungin | I11: Echinocandin
D12: UTI | E12: Urinary Tract | G12: Antibiotic | H12: Azithromycin | I12: Macrolides
D13: Gastroenteritis | E13: Gastrointestinal | G13: Antibiotic | H13: Aztreonam | I13: Monobactams
D14: Norovirus | E14: Gastrointestinal | G14: Antiviral | H14: Baloxavir marboxil | I14: Cap-dependent endonuclease inhibitor
D15: Clostridium difficile | E15: Gastrointestinal | G15: Antifungal | H15: Caspofungin | I15: Echinocandin
D16: Cellulitis/Soft Tissue/Wound | E16: Skin | G16: Antibiotic | H16: Cefaclor | I16: Cephalosporins
D17: Scabies | E17: Skin | G17: Antibiotic | H17: Cefadroxil | I17: Cephalosporins
D18: Lice | E18: Other | G18: Antibiotic | H18: Cefazolin | I18: Cephalosporins
D19: Ear | E19: Other | G19: Antibiotic | H19: Cefdinir | I19: Cephalosporins
D20: Eye | E20: Other | G20: Antibiotic | H20: Cefditoren | I20: Cephalosporins
D21: Prophylaxis | E21: Other | G21: Antibiotic | H21: Cefepime | I21: Cephalosporins
D22: Other | E22: Other | G22: Antibiotic | H22: Cefixime | I22: Cephalosporins
G23: Antibiotic | H23: Cefotaxime | I23: Cephalosporins
G24: Antibiotic | H24: Cefotetan | I24: Cephalosporins
G25: Antibiotic | H25: Cefoxitin | I25: Cephalosporins
G26: Antibiotic | H26: Cefpodoxime | I26: Cephalosporins
G27: Antibiotic | H27: Cefprozil | I27: Cephalosporins
G28: Antibiotic | H28: Ceftaroline | I28: Cephalosporins
G29: Antibiotic | H29: Ceftazidime | I29: Cephalosporins
G30: Antibiotic | H30: Ceftazidime/Avitbactam | I30: B-lactam/B-lactamase inhibitor combination
G31: Antibiotic | H31: Ceftibuten | I31: Cephalosporins
G32: Antibiotic | H32: Ceftizoxime | I32: Cephalosporins
G33: Antibiotic | H33: Ceftolozane/Tazobactam | I33: B-lactam/B-lactamase inhibitor combination
G34: Antibiotic | H34: Ceftriaxone | I34: Cephalosporins
... G103: Antiviral | H103: Zanamvir | I103: Neuraminidase inhibitors
